Workbook
Name Customer: #REF!
Name Regions: #REF!

Sheet Budget
A1: #VALUE! | D1: 45292 | E1: 45323 | F1: 45352 | G1: 45383 | H1: 45413 | I1: 45444 | J1: 45474 | K1: 45505 | L1: 45536 | M1: 45566 | N1: 45597 | O1: 45627 | P1: FY 24 | Q1: 45658 | R1: 45689 | S1: 45717 | T1: 45748 | U1: 45778 | V1: 45809 | W1: 45839 | X1: 45870 | Y1: 45901 | Z1: 45931 | AA1: 45962 | AB1: 45992 | AC1: FY 24 | AE1: Budget | AG1: Variance
D2: M 01 | E2: M 02 | F2: M 03 | G2: M 04 | H2: M 05 | I2: M 06 | J2: M 07 | K2: M 08 | L2: M 09 | M2: M 10 | N2: M 11 | O2: M 12 | P2: Y 03 | Q2: M 01 | R2: M 02 | S2: M 03 | T2: M 04 | U2: M 05 | V2: M 06 | W2: M 07 | X2: M 08 | Y2: M 09 | Z2: M 10 | AA2: M 11 | AB2: M 12 | AC2: Y 03 | AE2: 2025
A5: Contracting Income | B5: =IFERROR((VLOOKUP(A5,'GL Review'!E:G,3,FALSE)),"")
A6: Labour - Project Managment | B6: =IFERROR((VLOOKUP(A6,'GL Review'!E:G,3,FALSE)),"") -> 41005 | D6: {=( SUM(('Export (QBO)'!$G$2:$G$2483>=Budget!D$1)*('Export (QBO)'!$G$2:$G$2483<=((EOMONTH(Budget!D$1,0))))*('Export (QBO)'!$J$2:$J$2483=$A6)*('Export (QBO)'!$I$2:$I$2483)) )} -> 0 | E6: {=( SUM(('Export (QBO)'!$G$2:$G$2483>=Budget!E$1)*('Export (QBO)'!$G$2:$G$2483<=((EOMONTH(Budget!E$1,0))))*('Export (QBO)'!$J$2:$J$2483=$A6)*('Export (QBO)'!$I$2:$I$2483)) )} -> 0 | F6: {=( SUM(('Export (QBO)'!$G$2:$G$2483>=Budget!F$1)*('Export (QBO)'!$G$2:$G$2483<=((EOMONTH(Budget!F$1,0))))*('Export (QBO)'!$J$2:$J$2483=$A6)*('Export (QBO)'!$I$2:$I$2483)) )} -> 0 | G6: {=( SUM(('Export (QBO)'!$G$2:$G$2483>=Budget!G$1)*('Export (QBO)'!$G$2:$G$2483<=((EOMONTH(Budget!G$1,0))))*('Export (QBO)'!$J$2:$J$2483=$A6)*('Export (QBO)'!$I$2:$I$2483)) )} -> 0 | H6: {=( SUM(('Export (QBO)'!$G$2:$G$2483>=Budget!H$1)*('Export (QBO)'!$G$2:$G$2483<=((EOMONTH(Budget!H$1,0))))*('Export (QBO)'!$J$2:$J$2483=$A6)*('Export (QBO)'!$I$2:$I$2483)) )} -> 0 | I6: {=( SUM(('Export (QBO)'!$G$2:$G$2483>=Budget!I$1)*('Export (QBO)'!$G$2:$G$2483<=((EOMONTH(Budget!I$1,0))))*('Export (QBO)'!$J$2:$J$2483=$A6)*('Export (QBO)'!$I$2:$I$2483)) )} -> 0 | J6: {=( SUM(('Export (QBO)'!$G$2:$G$2483>=Budget!J$1)*('Export (QBO)'!$G$2:$G$2483<=((EOMONTH(Budget!J$1,0))))*('Export (QBO)'!$J$2:$J$2483=$A6)*('Export (QBO)'!$I$2:$I$2483)) )} -> 0 | K6: {=( SUM(('Export (QBO)'!$G$2:$G$2483>=Budget!K$1)*('Export (QBO)'!$G$2:$G$2483<=((EOMONTH(Budget!K$1,0))))*('Export (QBO)'!$J$2:$J$2483=$A6)*('Export (QBO)'!$I$2:$I$2483)) )} -> 0 | ... O6: {=( SUM(('Export (QBO)'!$G$2:$G$2483>=Budget!O$1)*('Export (QBO)'!$G$2:$G$2483<=((EOMONTH(Budget!O$1,0))))*('Export (QBO)'!$J$2:$J$2483=$A6)*('Export (QBO)'!$I$2:$I$2483)) )} -> 0 | P6: =SUM(D6:O6) -> 0 | Q6: {=( SUM(('Export (QBO)'!$G$2:$G$6969>=Budget!Q$1)*('Export (QBO)'!$G$2:$G$6969<=((EOMONTH(Budget!Q$1,0))))*('Export (QBO)'!$J$2:$J$6969=$A6)*('Export (QBO)'!$I$2:$I$6969)) )} -> 4875 | R6: {=( SUM(('Export (QBO)'!$G$2:$G$6969>=Budget!R$1)*('Export (QBO)'!$G$2:$G$6969<=((EOMONTH(Budget!R$1,0))))*('Export (QBO)'!$J$2:$J$6969=$A6)*('Export (QBO)'!$I$2:$I$6969)) )} -> 13345 | S6: {=( SUM(('Export (QBO)'!$G$2:$G$6969>=Budget!S$1)*('Export (QBO)'!$G$2:$G$6969<=((EOMONTH(Budget!S$1,0))))*('Export (QBO)'!$J$2:$J$6969=$A6)*('Export (QBO)'!$I$2:$I$6969)) )} -> 4885 | T6: {=( SUM(('Export (QBO)'!$G$2:$G$6969>=Budget!T$1)*('Export (QBO)'!$G$2:$G$6969<=((EOMONTH(Budget!T$1,0))))*('Export (QBO)'!$J$2:$J$6969=$A6)*('Export (QBO)'!$I$2:$I$6969)) )} -> 20130.49 | U6: {=( SUM(('Export (QBO)'!$G$2:$G$6969>=Budget!U$1)*('Export (QBO)'!$G$2:$G$6969<=((EOMONTH(Budget!U$1,0))))*('Export (QBO)'!$J$2:$J$6969=$A6)*('Export (QBO)'!$I$2:$I$6969)) )} -> 10987.5 | V6: {=( SUM(('Export (QBO)'!$G$2:$G$6969>=Budget!V$1)*('Export (QBO)'!$G$2:$G$6969<=((EOMONTH(Budget!V$1,0))))*('Export (QBO)'!$J$2:$J$6969=$A6)*('Export (QBO)'!$I$2:$I$6969)) )} -> 16860 | W6: {=( SUM(('Export (QBO)'!$G$2:$G$6969>=Budget!W$1)*('Export (QBO)'!$G$2:$G$6969<=((EOMONTH(Budget!W$1,0))))*('Export (QBO)'!$J$2:$J$6969=$A6)*('Export (QBO)'!$I$2:$I$6969)) )} -> 2800 | X6: {=( SUM(('Export (QBO)'!$G$2:$G$6969>=Budget!X$1)*('Export (QBO)'!$G$2:$G$6969<=((EOMONTH(Budget!X$1,0))))*('Export (QBO)'!$J$2:$J$6969=$A6)*('Export (QBO)'!$I$2:$I$6969)) )} -> 0 | ... AB6: {=( SUM(('Export (QBO)'!$G$2:$G$6969>=Budget!AB$1)*('Export (QBO)'!$G$2:$G$6969<=((EOMONTH(Budget!AB$1,0))))*('Export (QBO)'!$J$2:$J$6969=$A6)*('Export (QBO)'!$I$2:$I$6969)) )} -> 0 | AC6: =SUM(Q6:AB6) -> 73882.99 | AE6: 150000 | AI6: Scott's Butt Number | AJ6: Scott
A7: Labour - General | B7: =IFERROR((VLOOKUP(A7,'GL Review'!E:G,3,FALSE)),"") -> 41006 | D7: {=( SUM(('Export (QBO)'!$G$2:$G$2483>=Budget!D$1)*('Export (QBO)'!$G$2:$G$2483<=((EOMONTH(Budget!D$1,0))))*('Export (QBO)'!$J$2:$J$2483=$A7)*('Export (QBO)'!$I$2:$I$2483)) )} -> 0 | E7: {=( SUM(('Export (QBO)'!$G$2:$G$2483>=Budget!E$1)*('Export (QBO)'!$G$2:$G$2483<=((EOMONTH(Budget!E$1,0))))*('Export (QBO)'!$J$2:$J$2483=$A7)*('Export (QBO)'!$I$2:$I$2483)) )} -> 0 | F7: {=( SUM(('Export (QBO)'!$G$2:$G$2483>=Budget!F$1)*('Export (QBO)'!$G$2:$G$2483<=((EOMONTH(Budget!F$1,0))))*('Export (QBO)'!$J$2:$J$2483=$A7)*('Export (QBO)'!$I$2:$I$2483)) )} -> 0 | G7: {=( SUM(('Export (QBO)'!$G$2:$G$2483>=Budget!G$1)*('Export (QBO)'!$G$2:$G$2483<=((EOMONTH(Budget!G$1,0))))*('Export (QBO)'!$J$2:$J$2483=$A7)*('Export (QBO)'!$I$2:$I$2483)) )} -> 0 | H7: {=( SUM(('Export (QBO)'!$G$2:$G$2483>=Budget!H$1)*('Export (QBO)'!$G$2:$G$2483<=((EOMONTH(Budget!H$1,0))))*('Export (QBO)'!$J$2:$J$2483=$A7)*('Export (QBO)'!$I$2:$I$2483)) )} -> 0 | I7: {=( SUM(('Export (QBO)'!$G$2:$G$2483>=Budget!I$1)*('Export (QBO)'!$G$2:$G$2483<=((EOMONTH(Budget!I$1,0))))*('Export (QBO)'!$J$2:$J$2483=$A7)*('Export (QBO)'!$I$2:$I$2483)) )} -> 0 | J7: {=( SUM(('Export (QBO)'!$G$2:$G$2483>=Budget!J$1)*('Export (QBO)'!$G$2:$G$2483<=((EOMONTH(Budget!J$1,0))))*('Export (QBO)'!$J$2:$J$2483=$A7)*('Export (QBO)'!$I$2:$I$2483)) )} -> 0 | K7: {=( SUM(('Export (QBO)'!$G$2:$G$2483>=Budget!K$1)*('Export (QBO)'!$G$2:$G$2483<=((EOMONTH(Budget!K$1,0))))*('Export (QBO)'!$J$2:$J$2483=$A7)*('Export (QBO)'!$I$2:$I$2483)) )} -> 0 | ... O7: {=( SUM(('Export (QBO)'!$G$2:$G$2483>=Budget!O$1)*('Export (QBO)'!$G$2:$G$2483<=((EOMONTH(Budget!O$1,0))))*('Export (QBO)'!$J$2:$J$2483=$A7)*('Export (QBO)'!$I$2:$I$2483)) )} -> 0 | P7: =SUM(D7:O7) -> 0 | Q7: {=( SUM(('Export (QBO)'!$G$2:$G$6969>=Budget!Q$1)*('Export (QBO)'!$G$2:$G$6969<=((EOMONTH(Budget!Q$1,0))))*('Export (QBO)'!$J$2:$J$6969=$A7)*('Export (QBO)'!$I$2:$I$6969)) )} -> 27430 | R7: {=( SUM(('Export (QBO)'!$G$2:$G$6969>=Budget!R$1)*('Export (QBO)'!$G$2:$G$6969<=((EOMONTH(Budget!R$1,0))))*('Export (QBO)'!$J$2:$J$6969=$A7)*('Export (QBO)'!$I$2:$I$6969)) )} -> 43630 | S7: {=( SUM(('Export (QBO)'!$G$2:$G$6969>=Budget!S$1)*('Export (QBO)'!$G$2:$G$6969<=((EOMONTH(Budget!S$1,0))))*('Export (QBO)'!$J$2:$J$6969=$A7)*('Export (QBO)'!$I$2:$I$6969)) )} -> 10172.5 | T7: {=( SUM(('Export (QBO)'!$G$2:$G$6969>=Budget!T$1)*('Export (QBO)'!$G$2:$G$6969<=((EOMONTH(Budget!T$1,0))))*('Export (QBO)'!$J$2:$J$6969=$A7)*('Export (QBO)'!$I$2:$I$6969)) )} -> 16900 | U7: {=( SUM(('Export (QBO)'!$G$2:$G$6969>=Budget!U$1)*('Export (QBO)'!$G$2:$G$6969<=((EOMONTH(Budget!U$1,0))))*('Export (QBO)'!$J$2:$J$6969=$A7)*('Export (QBO)'!$I$2:$I$6969)) )} -> 8662.5 | V7: {=( SUM(('Export (QBO)'!$G$2:$G$6969>=Budget!V$1)*('Export (QBO)'!$G$2:$G$6969<=((EOMONTH(Budget!V$1,0))))*('Export (QBO)'!$J$2:$J$6969=$A7)*('Export (QBO)'!$I$2:$I$6969)) )} -> 21042.5 | W7: {=( SUM(('Export (QBO)'!$G$2:$G$6969>=Budget!W$1)*('Export (QBO)'!$G$2:$G$6969<=((EOMONTH(Budget!W$1,0))))*('Export (QBO)'!$J$2:$J$6969=$A7)*('Export (QBO)'!$I$2:$I$6969)) )} -> 8510.5 | X7: {=( SUM(('Export (QBO)'!$G$2:$G$6969>=Budget!X$1)*('Export (QBO)'!$G$2:$G$6969<=((EOMONTH(Budget!X$1,0))))*('Export (QBO)'!$J$2:$J$6969=$A7)*('Export (QBO)'!$I$2:$I$6969)) )} -> 825 | ... AB7: {=( SUM(('Export (QBO)'!$G$2:$G$6969>=Budget!AB$1)*('Export (QBO)'!$G$2:$G$6969<=((EOMONTH(Budget!AB$1,0))))*('Export (QBO)'!$J$2:$J$6969=$A7)*('Export (QBO)'!$I$2:$I$6969)) )} -> 13600 | AC7: =SUM(Q7:AB7) -> 181687.5 | AE7: 75000 | AI7: Scott's Butt Number | AJ7: other employees
A8: Labour - Consulting | B8: =IFERROR((VLOOKUP(A8,'GL Review'!E:G,3,FALSE)),"") -> 41007 | D8: {=( SUM(('Export (QBO)'!$G$2:$G$2483>=Budget!D$1)*('Export (QBO)'!$G$2:$G$2483<=((EOMONTH(Budget!D$1,0))))*('Export (QBO)'!$J$2:$J$2483=$A8)*('Export (QBO)'!$I$2:$I$2483)) )} -> 0 | E8: {=( SUM(('Export (QBO)'!$G$2:$G$2483>=Budget!E$1)*('Export (QBO)'!$G$2:$G$2483<=((EOMONTH(Budget!E$1,0))))*('Export (QBO)'!$J$2:$J$2483=$A8)*('Export (QBO)'!$I$2:$I$2483)) )} -> 0 | F8: {=( SUM(('Export (QBO)'!$G$2:$G$2483>=Budget!F$1)*('Export (QBO)'!$G$2:$G$2483<=((EOMONTH(Budget!F$1,0))))*('Export (QBO)'!$J$2:$J$2483=$A8)*('Export (QBO)'!$I$2:$I$2483)) )} -> 0 | G8: {=( SUM(('Export (QBO)'!$G$2:$G$2483>=Budget!G$1)*('Export (QBO)'!$G$2:$G$2483<=((EOMONTH(Budget!G$1,0))))*('Export (QBO)'!$J$2:$J$2483=$A8)*('Export (QBO)'!$I$2:$I$2483)) )} -> 0 | H8: {=( SUM(('Export (QBO)'!$G$2:$G$2483>=Budget!H$1)*('Export (QBO)'!$G$2:$G$2483<=((EOMONTH(Budget!H$1,0))))*('Export (QBO)'!$J$2:$J$2483=$A8)*('Export (QBO)'!$I$2:$I$2483)) )} -> 0 | I8: {=( SUM(('Export (QBO)'!$G$2:$G$2483>=Budget!I$1)*('Export (QBO)'!$G$2:$G$2483<=((EOMONTH(Budget!I$1,0))))*('Export (QBO)'!$J$2:$J$2483=$A8)*('Export (QBO)'!$I$2:$I$2483)) )} -> 0 | J8: {=( SUM(('Export (QBO)'!$G$2:$G$2483>=Budget!J$1)*('Export (QBO)'!$G$2:$G$2483<=((EOMONTH(Budget!J$1,0))))*('Export (QBO)'!$J$2:$J$2483=$A8)*('Export (QBO)'!$I$2:$I$2483)) )} -> 0 | K8: {=( SUM(('Export (QBO)'!$G$2:$G$2483>=Budget!K$1)*('Export (QBO)'!$G$2:$G$2483<=((EOMONTH(Budget!K$1,0))))*('Export (QBO)'!$J$2:$J$2483=$A8)*('Export (QBO)'!$I$2:$I$2483)) )} -> 0 | ... O8: {=( SUM(('Export (QBO)'!$G$2:$G$2483>=Budget!O$1)*('Export (QBO)'!$G$2:$G$2483<=((EOMONTH(Budget!O$1,0))))*('Export (QBO)'!$J$2:$J$2483=$A8)*('Export (QBO)'!$I$2:$I$2483)) )} -> 0 | P8: =SUM(D8:O8) -> 0 | Q8: {=( SUM(('Export (QBO)'!$G$2:$G$6969>=Budget!Q$1)*('Export (QBO)'!$G$2:$G$6969<=((EOMONTH(Budget!Q$1,0))))*('Export (QBO)'!$J$2:$J$6969=$A8)*('Export (QBO)'!$I$2:$I$6969)) )} -> 0 | R8: {=( SUM(('Export (QBO)'!$G$2:$G$6969>=Budget!R$1)*('Export (QBO)'!$G$2:$G$6969<=((EOMONTH(Budget!R$1,0))))*('Export (QBO)'!$J$2:$J$6969=$A8)*('Export (QBO)'!$I$2:$I$6969)) )} -> 0 | S8: {=( SUM(('Export (QBO)'!$G$2:$G$6969>=Budget!S$1)*('Export (QBO)'!$G$2:$G$6969<=((EOMONTH(Budget!S$1,0))))*('Export (QBO)'!$J$2:$J$6969=$A8)*('Export (QBO)'!$I$2:$I$6969)) )} -> 0 | T8: {=( SUM(('Export (QBO)'!$G$2:$G$6969>=Budget!T$1)*('Export (QBO)'!$G$2:$G$6969<=((EOMONTH(Budget!T$1,0))))*('Export (QBO)'!$J$2:$J$6969=$A8)*('Export (QBO)'!$I$2:$I$6969)) )} -> 0 | U8: {=( SUM(('Export (QBO)'!$G$2:$G$6969>=Budget!U$1)*('Export (QBO)'!$G$2:$G$6969<=((EOMONTH(Budget!U$1,0))))*('Export (QBO)'!$J$2:$J$6969=$A8)*('Export (QBO)'!$I$2:$I$6969)) )} -> 0 | V8: {=( SUM(('Export (QBO)'!$G$2:$G$6969>=Budget!V$1)*('Export (QBO)'!$G$2:$G$6969<=((EOMONTH(Budget!V$1,0))))*('Export (QBO)'!$J$2:$J$6969=$A8)*('Export (QBO)'!$I$2:$I$6969)) )} -> 0 | W8: {=( SUM(('Export (QBO)'!$G$2:$G$6969>=Budget!W$1)*('Export (QBO)'!$G$2:$G$6969<=((EOMONTH(Budget!W$1,0))))*('Export (QBO)'!$J$2:$J$6969=$A8)*('Export (QBO)'!$I$2:$I$6969)) )} -> 9680 | X8: {=( SUM(('Export (QBO)'!$G$2:$G$6969>=Budget!X$1)*('Export (QBO)'!$G$2:$G$6969<=((EOMONTH(Budget!X$1,0))))*('Export (QBO)'!$J$2:$J$6969=$A8)*('Export (QBO)'!$I$2:$I$6969)) )} -> 12000 | ... AB8: {=( SUM(('Export (QBO)'!$G$2:$G$6969>=Budget!AB$1)*('Export (QBO)'!$G$2:$G$6969<=((EOMONTH(Budget!AB$1,0))))*('Export (QBO)'!$J$2:$J$6969=$A8)*('Export (QBO)'!$I$2:$I$6969)) )} -> 0 | AC8: =SUM(Q8:AB8) -> 32580 | AJ8: not yet - but preconstruction
A9: Margin - Materials | B9: =IFERROR((VLOOKUP(A9,'GL Review'!E:G,3,FALSE)),"") -> 42015 | D9: {=( SUM(('Export (QBO)'!$G$2:$G$2483>=Budget!D$1)*('Export (QBO)'!$G$2:$G$2483<=((EOMONTH(Budget!D$1,0))))*('Export (QBO)'!$J$2:$J$2483=$A9)*('Export (QBO)'!$I$2:$I$2483)) )} -> 0 | E9: {=( SUM(('Export (QBO)'!$G$2:$G$2483>=Budget!E$1)*('Export (QBO)'!$G$2:$G$2483<=((EOMONTH(Budget!E$1,0))))*('Export (QBO)'!$J$2:$J$2483=$A9)*('Export (QBO)'!$I$2:$I$2483)) )} -> 0 | F9: {=( SUM(('Export (QBO)'!$G$2:$G$2483>=Budget!F$1)*('Export (QBO)'!$G$2:$G$2483<=((EOMONTH(Budget!F$1,0))))*('Export (QBO)'!$J$2:$J$2483=$A9)*('Export (QBO)'!$I$2:$I$2483)) )} -> 0 | G9: {=( SUM(('Export (QBO)'!$G$2:$G$2483>=Budget!G$1)*('Export (QBO)'!$G$2:$G$2483<=((EOMONTH(Budget!G$1,0))))*('Export (QBO)'!$J$2:$J$2483=$A9)*('Export (QBO)'!$I$2:$I$2483)) )} -> 0 | H9: {=( SUM(('Export (QBO)'!$G$2:$G$2483>=Budget!H$1)*('Export (QBO)'!$G$2:$G$2483<=((EOMONTH(Budget!H$1,0))))*('Export (QBO)'!$J$2:$J$2483=$A9)*('Export (QBO)'!$I$2:$I$2483)) )} -> 0 | I9: {=( SUM(('Export (QBO)'!$G$2:$G$2483>=Budget!I$1)*('Export (QBO)'!$G$2:$G$2483<=((EOMONTH(Budget!I$1,0))))*('Export (QBO)'!$J$2:$J$2483=$A9)*('Export (QBO)'!$I$2:$I$2483)) )} -> 0 | J9: {=( SUM(('Export (QBO)'!$G$2:$G$2483>=Budget!J$1)*('Export (QBO)'!$G$2:$G$2483<=((EOMONTH(Budget!J$1,0))))*('Export (QBO)'!$J$2:$J$2483=$A9)*('Export (QBO)'!$I$2:$I$2483)) )} -> 0 | K9: {=( SUM(('Export (QBO)'!$G$2:$G$2483>=Budget!K$1)*('Export (QBO)'!$G$2:$G$2483<=((EOMONTH(Budget!K$1,0))))*('Export (QBO)'!$J$2:$J$2483=$A9)*('Export (QBO)'!$I$2:$I$2483)) )} -> 0 | ... O9: {=( SUM(('Export (QBO)'!$G$2:$G$2483>=Budget!O$1)*('Export (QBO)'!$G$2:$G$2483<=((EOMONTH(Budget!O$1,0))))*('Export (QBO)'!$J$2:$J$2483=$A9)*('Export (QBO)'!$I$2:$I$2483)) )} -> 0 | P9: =SUM(D9:O9) -> 0 | Q9: {=( SUM(('Export (QBO)'!$G$2:$G$6969>=Budget!Q$1)*('Export (QBO)'!$G$2:$G$6969<=((EOMONTH(Budget!Q$1,0))))*('Export (QBO)'!$J$2:$J$6969=$A9)*('Export (QBO)'!$I$2:$I$6969)) )} -> 1165.07 | R9: {=( SUM(('Export (QBO)'!$G$2:$G$6969>=Budget!R$1)*('Export (QBO)'!$G$2:$G$6969<=((EOMONTH(Budget!R$1,0))))*('Export (QBO)'!$J$2:$J$6969=$A9)*('Export (QBO)'!$I$2:$I$6969)) )} -> 3504.65 | S9: {=( SUM(('Export (QBO)'!$G$2:$G$6969>=Budget!S$1)*('Export (QBO)'!$G$2:$G$6969<=((EOMONTH(Budget!S$1,0))))*('Export (QBO)'!$J$2:$J$6969=$A9)*('Export (QBO)'!$I$2:$I$6969)) )} -> 1500.61 | T9: {=( SUM(('Export (QBO)'!$G$2:$G$6969>=Budget!T$1)*('Export (QBO)'!$G$2:$G$6969<=((EOMONTH(Budget!T$1,0))))*('Export (QBO)'!$J$2:$J$6969=$A9)*('Export (QBO)'!$I$2:$I$6969)) )} -> 7195.96 | U9: {=( SUM(('Export (QBO)'!$G$2:$G$6969>=Budget!U$1)*('Export (QBO)'!$G$2:$G$6969<=((EOMONTH(Budget!U$1,0))))*('Export (QBO)'!$J$2:$J$6969=$A9)*('Export (QBO)'!$I$2:$I$6969)) )} -> 4569.34 | V9: {=( SUM(('Export (QBO)'!$G$2:$G$6969>=Budget!V$1)*('Export (QBO)'!$G$2:$G$6969<=((EOMONTH(Budget!V$1,0))))*('Export (QBO)'!$J$2:$J$6969=$A9)*('Export (QBO)'!$I$2:$I$6969)) )} -> 3008.75 | W9: {=( SUM(('Export (QBO)'!$G$2:$G$6969>=Budget!W$1)*('Export (QBO)'!$G$2:$G$6969<=((EOMONTH(Budget!W$1,0))))*('Export (QBO)'!$J$2:$J$6969=$A9)*('Export (QBO)'!$I$2:$I$6969)) )} -> -121.52 | X9: {=( SUM(('Export (QBO)'!$G$2:$G$6969>=Budget!X$1)*('Export (QBO)'!$G$2:$G$6969<=((EOMONTH(Budget!X$1,0))))*('Export (QBO)'!$J$2:$J$6969=$A9)*('Export (QBO)'!$I$2:$I$6969)) )} -> 8148.52 | ... AB9: {=( SUM(('Export (QBO)'!$G$2:$G$6969>=Budget!AB$1)*('Export (QBO)'!$G$2:$G$6969<=((EOMONTH(Budget!AB$1,0))))*('Export (QBO)'!$J$2:$J$6969=$A9)*('Export (QBO)'!$I$2:$I$6969)) )} -> 0 | AC9: =SUM(Q9:AB9) -> 40730.52 | AE9: =20%*AC33 -> -61190.252 | AG9: =IFERROR((AC9/AE9),"-") -> -0.6656374
A10: Margin - Subcontractor | B10: =IFERROR((VLOOKUP(A10,'GL Review'!E:G,3,FALSE)),"") -> 42020 | D10: {=( SUM(('Export (QBO)'!$G$2:$G$2483>=Budget!D$1)*('Export (QBO)'!$G$2:$G$2483<=((EOMONTH(Budget!D$1,0))))*('Export (QBO)'!$J$2:$J$2483=$A10)*('Export (QBO)'!$I$2:$I$2483)) )} -> 0 | E10: {=( SUM(('Export (QBO)'!$G$2:$G$2483>=Budget!E$1)*('Export (QBO)'!$G$2:$G$2483<=((EOMONTH(Budget!E$1,0))))*('Export (QBO)'!$J$2:$J$2483=$A10)*('Export (QBO)'!$I$2:$I$2483)) )} -> 0 | F10: {=( SUM(('Export (QBO)'!$G$2:$G$2483>=Budget!F$1)*('Export (QBO)'!$G$2:$G$2483<=((EOMONTH(Budget!F$1,0))))*('Export (QBO)'!$J$2:$J$2483=$A10)*('Export (QBO)'!$I$2:$I$2483)) )} -> 0 | G10: {=( SUM(('Export (QBO)'!$G$2:$G$2483>=Budget!G$1)*('Export (QBO)'!$G$2:$G$2483<=((EOMONTH(Budget!G$1,0))))*('Export (QBO)'!$J$2:$J$2483=$A10)*('Export (QBO)'!$I$2:$I$2483)) )} -> 0 | H10: {=( SUM(('Export (QBO)'!$G$2:$G$2483>=Budget!H$1)*('Export (QBO)'!$G$2:$G$2483<=((EOMONTH(Budget!H$1,0))))*('Export (QBO)'!$J$2:$J$2483=$A10)*('Export (QBO)'!$I$2:$I$2483)) )} -> 0 | I10: {=( SUM(('Export (QBO)'!$G$2:$G$2483>=Budget!I$1)*('Export (QBO)'!$G$2:$G$2483<=((EOMONTH(Budget!I$1,0))))*('Export (QBO)'!$J$2:$J$2483=$A10)*('Export (QBO)'!$I$2:$I$2483)) )} -> 0 | J10: {=( SUM(('Export (QBO)'!$G$2:$G$2483>=Budget!J$1)*('Export (QBO)'!$G$2:$G$2483<=((EOMONTH(Budget!J$1,0))))*('Export (QBO)'!$J$2:$J$2483=$A10)*('Export (QBO)'!$I$2:$I$2483)) )} -> 0 | K10: {=( SUM(('Export (QBO)'!$G$2:$G$2483>=Budget!K$1)*('Export (QBO)'!$G$2:$G$2483<=((EOMONTH(Budget!K$1,0))))*('Export (QBO)'!$J$2:$J$2483=$A10)*('Export (QBO)'!$I$2:$I$2483)) )} -> 0 | ... O10: {=( SUM(('Export (QBO)'!$G$2:$G$2483>=Budget!O$1)*('Export (QBO)'!$G$2:$G$2483<=((EOMONTH(Budget!O$1,0))))*('Export (QBO)'!$J$2:$J$2483=$A10)*('Export (QBO)'!$I$2:$I$2483)) )} -> 0 | P10: =SUM(D10:O10) -> 0 | Q10: {=( SUM(('Export (QBO)'!$G$2:$G$6969>=Budget!Q$1)*('Export (QBO)'!$G$2:$G$6969<=((EOMONTH(Budget!Q$1,0))))*('Export (QBO)'!$J$2:$J$6969=$A10)*('Export (QBO)'!$I$2:$I$6969)) )} -> 1628.54 | R10: {=( SUM(('Export (QBO)'!$G$2:$G$6969>=Budget!R$1)*('Export (QBO)'!$G$2:$G$6969<=((EOMONTH(Budget!R$1,0))))*('Export (QBO)'!$J$2:$J$6969=$A10)*('Export (QBO)'!$I$2:$I$6969)) )} -> 35899.78 | S10: {=( SUM(('Export (QBO)'!$G$2:$G$6969>=Budget!S$1)*('Export (QBO)'!$G$2:$G$6969<=((EOMONTH(Budget!S$1,0))))*('Export (QBO)'!$J$2:$J$6969=$A10)*('Export (QBO)'!$I$2:$I$6969)) )} -> 3621.82 | T10: {=( SUM(('Export (QBO)'!$G$2:$G$6969>=Budget!T$1)*('Export (QBO)'!$G$2:$G$6969<=((EOMONTH(Budget!T$1,0))))*('Export (QBO)'!$J$2:$J$6969=$A10)*('Export (QBO)'!$I$2:$I$6969)) )} -> 10195.04 | U10: {=( SUM(('Export (QBO)'!$G$2:$G$6969>=Budget!U$1)*('Export (QBO)'!$G$2:$G$6969<=((EOMONTH(Budget!U$1,0))))*('Export (QBO)'!$J$2:$J$6969=$A10)*('Export (QBO)'!$I$2:$I$6969)) )} -> 5767.36 | V10: {=( SUM(('Export (QBO)'!$G$2:$G$6969>=Budget!V$1)*('Export (QBO)'!$G$2:$G$6969<=((EOMONTH(Budget!V$1,0))))*('Export (QBO)'!$J$2:$J$6969=$A10)*('Export (QBO)'!$I$2:$I$6969)) )} -> 38217.98 | W10: {=( SUM(('Export (QBO)'!$G$2:$G$6969>=Budget!W$1)*('Export (QBO)'!$G$2:$G$6969<=((EOMONTH(Budget!W$1,0))))*('Export (QBO)'!$J$2:$J$6969=$A10)*('Export (QBO)'!$I$2:$I$6969)) )} -> 22810.39 | X10: {=( SUM(('Export (QBO)'!$G$2:$G$6969>=Budget!X$1)*('Export (QBO)'!$G$2:$G$6969<=((EOMONTH(Budget!X$1,0))))*('Export (QBO)'!$J$2:$J$6969=$A10)*('Export (QBO)'!$I$2:$I$6969)) )} -> 1150.02 | ... AB10: {=( SUM(('Export (QBO)'!$G$2:$G$6969>=Budget!AB$1)*('Export (QBO)'!$G$2:$G$6969<=((EOMONTH(Budget!AB$1,0))))*('Export (QBO)'!$J$2:$J$6969=$A10)*('Export (QBO)'!$I$2:$I$6969)) )} -> 1907.48 | AC10: =SUM(Q10:AB10) -> 202191.24 | AE10: =20%*AC37 -> -259326.68 | AG10: =IFERROR((AC10/AE10),"-") -> -0.77967775
A11: Margin - Labour | B11: 42025 | P11: =SUM(D11:O11) -> 0 | Q11: {=( SUM(('Export (QBO)'!$G$2:$G$6969>=Budget!Q$1)*('Export (QBO)'!$G$2:$G$6969<=((EOMONTH(Budget!Q$1,0))))*('Export (QBO)'!$J$2:$J$6969=$A11)*('Export (QBO)'!$I$2:$I$6969)) )} -> 6461 | R11: {=( SUM(('Export (QBO)'!$G$2:$G$6969>=Budget!R$1)*('Export (QBO)'!$G$2:$G$6969<=((EOMONTH(Budget!R$1,0))))*('Export (QBO)'!$J$2:$J$6969=$A11)*('Export (QBO)'!$I$2:$I$6969)) )} -> 10813 | S11: {=( SUM(('Export (QBO)'!$G$2:$G$6969>=Budget!S$1)*('Export (QBO)'!$G$2:$G$6969<=((EOMONTH(Budget!S$1,0))))*('Export (QBO)'!$J$2:$J$6969=$A11)*('Export (QBO)'!$I$2:$I$6969)) )} -> 2606.5 | T11: {=( SUM(('Export (QBO)'!$G$2:$G$6969>=Budget!T$1)*('Export (QBO)'!$G$2:$G$6969<=((EOMONTH(Budget!T$1,0))))*('Export (QBO)'!$J$2:$J$6969=$A11)*('Export (QBO)'!$I$2:$I$6969)) )} -> 7862.01 | U11: {=( SUM(('Export (QBO)'!$G$2:$G$6969>=Budget!U$1)*('Export (QBO)'!$G$2:$G$6969<=((EOMONTH(Budget!U$1,0))))*('Export (QBO)'!$J$2:$J$6969=$A11)*('Export (QBO)'!$I$2:$I$6969)) )} -> 3879 | V11: {=( SUM(('Export (QBO)'!$G$2:$G$6969>=Budget!V$1)*('Export (QBO)'!$G$2:$G$6969<=((EOMONTH(Budget!V$1,0))))*('Export (QBO)'!$J$2:$J$6969=$A11)*('Export (QBO)'!$I$2:$I$6969)) )} -> 7478.5 | W11: {=( SUM(('Export (QBO)'!$G$2:$G$6969>=Budget!W$1)*('Export (QBO)'!$G$2:$G$6969<=((EOMONTH(Budget!W$1,0))))*('Export (QBO)'!$J$2:$J$6969=$A11)*('Export (QBO)'!$I$2:$I$6969)) )} -> 787.5 | X11: {=( SUM(('Export (QBO)'!$G$2:$G$6969>=Budget!X$1)*('Export (QBO)'!$G$2:$G$6969<=((EOMONTH(Budget!X$1,0))))*('Export (QBO)'!$J$2:$J$6969=$A11)*('Export (QBO)'!$I$2:$I$6969)) )} -> 165 | ... AB11: {=( SUM(('Export (QBO)'!$G$2:$G$6969>=Budget!AB$1)*('Export (QBO)'!$G$2:$G$6969<=((EOMONTH(Budget!AB$1,0))))*('Export (QBO)'!$J$2:$J$6969=$A11)*('Export (QBO)'!$I$2:$I$6969)) )} -> 0 | AC11: =SUM(Q11:AB11) -> 40052.51 | AE11: =20%*AC7 -> 36337.5 | AG11: =IFERROR((AC11/AE11),"-") -> 1.1022363
A12: Margin - Rental | B12: 42030 | P12: =SUM(D12:O12) -> 0 | Q12: {=( SUM(('Export (QBO)'!$G$2:$G$6969>=Budget!Q$1)*('Export (QBO)'!$G$2:$G$6969<=((EOMONTH(Budget!Q$1,0))))*('Export (QBO)'!$J$2:$J$6969=$A12)*('Export (QBO)'!$I$2:$I$6969)) )} -> 397.2 | R12: {=( SUM(('Export (QBO)'!$G$2:$G$6969>=Budget!R$1)*('Export (QBO)'!$G$2:$G$6969<=((EOMONTH(Budget!R$1,0))))*('Export (QBO)'!$J$2:$J$6969=$A12)*('Export (QBO)'!$I$2:$I$6969)) )} -> 1082.2 | S12: {=( SUM(('Export (QBO)'!$G$2:$G$6969>=Budget!S$1)*('Export (QBO)'!$G$2:$G$6969<=((EOMONTH(Budget!S$1,0))))*('Export (QBO)'!$J$2:$J$6969=$A12)*('Export (QBO)'!$I$2:$I$6969)) )} -> 141.6 | T12: {=( SUM(('Export (QBO)'!$G$2:$G$6969>=Budget!T$1)*('Export (QBO)'!$G$2:$G$6969<=((EOMONTH(Budget!T$1,0))))*('Export (QBO)'!$J$2:$J$6969=$A12)*('Export (QBO)'!$I$2:$I$6969)) )} -> 403.2 | U12: {=( SUM(('Export (QBO)'!$G$2:$G$6969>=Budget!U$1)*('Export (QBO)'!$G$2:$G$6969<=((EOMONTH(Budget!U$1,0))))*('Export (QBO)'!$J$2:$J$6969=$A12)*('Export (QBO)'!$I$2:$I$6969)) )} -> 265.8 | V12: {=( SUM(('Export (QBO)'!$G$2:$G$6969>=Budget!V$1)*('Export (QBO)'!$G$2:$G$6969<=((EOMONTH(Budget!V$1,0))))*('Export (QBO)'!$J$2:$J$6969=$A12)*('Export (QBO)'!$I$2:$I$6969)) )} -> 360.8 | W12: {=( SUM(('Export (QBO)'!$G$2:$G$6969>=Budget!W$1)*('Export (QBO)'!$G$2:$G$6969<=((EOMONTH(Budget!W$1,0))))*('Export (QBO)'!$J$2:$J$6969=$A12)*('Export (QBO)'!$I$2:$I$6969)) )} -> 93.2 | X12: {=( SUM(('Export (QBO)'!$G$2:$G$6969>=Budget!X$1)*('Export (QBO)'!$G$2:$G$6969<=((EOMONTH(Budget!X$1,0))))*('Export (QBO)'!$J$2:$J$6969=$A12)*('Export (QBO)'!$I$2:$I$6969)) )} -> 0 | ... AB12: {=( SUM(('Export (QBO)'!$G$2:$G$6969>=Budget!AB$1)*('Export (QBO)'!$G$2:$G$6969<=((EOMONTH(Budget!AB$1,0))))*('Export (QBO)'!$J$2:$J$6969=$A12)*('Export (QBO)'!$I$2:$I$6969)) )} -> 0 | AC12: =SUM(Q12:AB12) -> 2994 | AE12: =20%*AC17 -> 2891.2 | AG12: =IFERROR((AC12/AE12),"-") -> 1.0355562 | AI12: =AC12-AE12 -> 102.8
B13: =IFERROR((VLOOKUP(A13,'GL Review'!E:G,3,FALSE)),"")
A14: Total Contracting Income | B14: =IFERROR((VLOOKUP(A14,'GL Review'!E:G,3,FALSE)),"") | D14: =SUM(D5:D13) -> 0 | E14: =SUM(E5:E13) -> 0 | F14: =SUM(F5:F13) -> 0 | G14: =SUM(G5:G13) -> 0 | H14: =SUM(H5:H13) -> 0 | I14: =SUM(I5:I13) -> 0 | J14: =SUM(J5:J13) -> 0 | K14: =SUM(K5:K13) -> 0 | ... O14: =SUM(O5:O13) -> 0 | P14: =SUM(D14:O14) -> 0 | Q14: =SUM(Q5:Q13) -> 41956.81 | R14: =SUM(R5:R13) -> 108274.63 | S14: =SUM(S5:S13) -> 22928.03 | T14: =SUM(T5:T13) -> 62686.7 | U14: =SUM(U5:U13) -> 34131.5 | V14: =SUM(V5:V13) -> 86968.53 | W14: =SUM(W5:W13) -> 44560.07 | X14: =SUM(X5:X13) -> 22288.54 | ... AB14: =SUM(AB5:AB13) -> 15507.48 | AC14: =SUM(Q14:AB14) -> 574118.76
B15: =IFERROR((VLOOKUP(A15,'GL Review'!E:G,3,FALSE)),"")
A16: Rental Income | B16: =IFERROR((VLOOKUP(A16,'GL Review'!E:G,3,FALSE)),"")
A17: Rental - External | B17: =IFERROR((VLOOKUP(A17,'GL Review'!E:G,3,FALSE)),"") -> 42010 | D17: {=( SUM(('Export (QBO)'!$G$2:$G$2483>=Budget!D$1)*('Export (QBO)'!$G$2:$G$2483<=((EOMONTH(Budget!D$1,0))))*('Export (QBO)'!$J$2:$J$2483=$A17)*('Export (QBO)'!$I$2:$I$2483)) )} -> 0 | E17: {=( SUM(('Export (QBO)'!$G$2:$G$2483>=Budget!E$1)*('Export (QBO)'!$G$2:$G$2483<=((EOMONTH(Budget!E$1,0))))*('Export (QBO)'!$J$2:$J$2483=$A17)*('Export (QBO)'!$I$2:$I$2483)) )} -> 0 | F17: {=( SUM(('Export (QBO)'!$G$2:$G$2483>=Budget!F$1)*('Export (QBO)'!$G$2:$G$2483<=((EOMONTH(Budget!F$1,0))))*('Export (QBO)'!$J$2:$J$2483=$A17)*('Export (QBO)'!$I$2:$I$2483)) )} -> 0 | G17: {=( SUM(('Export (QBO)'!$G$2:$G$2483>=Budget!G$1)*('Export (QBO)'!$G$2:$G$2483<=((EOMONTH(Budget!G$1,0))))*('Export (QBO)'!$J$2:$J$2483=$A17)*('Export (QBO)'!$I$2:$I$2483)) )} -> 0 | H17: {=( SUM(('Export (QBO)'!$G$2:$G$2483>=Budget!H$1)*('Export (QBO)'!$G$2:$G$2483<=((EOMONTH(Budget!H$1,0))))*('Export (QBO)'!$J$2:$J$2483=$A17)*('Export (QBO)'!$I$2:$I$2483)) )} -> 0 | I17: {=( SUM(('Export (QBO)'!$G$2:$G$2483>=Budget!I$1)*('Export (QBO)'!$G$2:$G$2483<=((EOMONTH(Budget!I$1,0))))*('Export (QBO)'!$J$2:$J$2483=$A17)*('Export (QBO)'!$I$2:$I$2483)) )} -> 0 | J17: {=( SUM(('Export (QBO)'!$G$2:$G$2483>=Budget!J$1)*('Export (QBO)'!$G$2:$G$2483<=((EOMONTH(Budget!J$1,0))))*('Export (QBO)'!$J$2:$J$2483=$A17)*('Export (QBO)'!$I$2:$I$2483)) )} -> 0 | K17: {=( SUM(('Export (QBO)'!$G$2:$G$2483>=Budget!K$1)*('Export (QBO)'!$G$2:$G$2483<=((EOMONTH(Budget!K$1,0))))*('Export (QBO)'!$J$2:$J$2483=$A17)*('Export (QBO)'!$I$2:$I$2483)) )} -> 0 | ... O17: {=( SUM(('Export (QBO)'!$G$2:$G$2483>=Budget!O$1)*('Export (QBO)'!$G$2:$G$2483<=((EOMONTH(Budget!O$1,0))))*('Export (QBO)'!$J$2:$J$2483=$A17)*('Export (QBO)'!$I$2:$I$2483)) )} -> 0 | P17: =SUM(D17:O17) -> 0 | Q17: {=( SUM(('Export (QBO)'!$G$2:$G$6969>=Budget!Q$1)*('Export (QBO)'!$G$2:$G$6969<=((EOMONTH(Budget!Q$1,0))))*('Export (QBO)'!$J$2:$J$6969=$A17)*('Export (QBO)'!$I$2:$I$6969)) )} -> 1986 | R17: {=( SUM(('Export (QBO)'!$G$2:$G$6969>=Budget!R$1)*('Export (QBO)'!$G$2:$G$6969<=((EOMONTH(Budget!R$1,0))))*('Export (QBO)'!$J$2:$J$6969=$A17)*('Export (QBO)'!$I$2:$I$6969)) )} -> 2501 | S17: {=( SUM(('Export (QBO)'!$G$2:$G$6969>=Budget!S$1)*('Export (QBO)'!$G$2:$G$6969<=((EOMONTH(Budget!S$1,0))))*('Export (QBO)'!$J$2:$J$6969=$A17)*('Export (QBO)'!$I$2:$I$6969)) )} -> 708 | T17: {=( SUM(('Export (QBO)'!$G$2:$G$6969>=Budget!T$1)*('Export (QBO)'!$G$2:$G$6969<=((EOMONTH(Budget!T$1,0))))*('Export (QBO)'!$J$2:$J$6969=$A17)*('Export (QBO)'!$I$2:$I$6969)) )} -> 2016 | U17: {=( SUM(('Export (QBO)'!$G$2:$G$6969>=Budget!U$1)*('Export (QBO)'!$G$2:$G$6969<=((EOMONTH(Budget!U$1,0))))*('Export (QBO)'!$J$2:$J$6969=$A17)*('Export (QBO)'!$I$2:$I$6969)) )} -> 1329 | V17: {=( SUM(('Export (QBO)'!$G$2:$G$6969>=Budget!V$1)*('Export (QBO)'!$G$2:$G$6969<=((EOMONTH(Budget!V$1,0))))*('Export (QBO)'!$J$2:$J$6969=$A17)*('Export (QBO)'!$I$2:$I$6969)) )} -> 1804 | W17: {=( SUM(('Export (QBO)'!$G$2:$G$6969>=Budget!W$1)*('Export (QBO)'!$G$2:$G$6969<=((EOMONTH(Budget!W$1,0))))*('Export (QBO)'!$J$2:$J$6969=$A17)*('Export (QBO)'!$I$2:$I$6969)) )} -> 466 | X17: {=( SUM(('Export (QBO)'!$G$2:$G$6969>=Budget!X$1)*('Export (QBO)'!$G$2:$G$6969<=((EOMONTH(Budget!X$1,0))))*('Export (QBO)'!$J$2:$J$6969=$A17)*('Export (QBO)'!$I$2:$I$6969)) )} -> 0 | ... AB17: {=( SUM(('Export (QBO)'!$G$2:$G$6969>=Budget!AB$1)*('Export (QBO)'!$G$2:$G$6969<=((EOMONTH(Budget!AB$1,0))))*('Export (QBO)'!$J$2:$J$6969=$A17)*('Export (QBO)'!$I$2:$I$6969)) )} -> 1000 | AC17: =SUM(Q17:AB17) -> 14456 | AE17: =1500*12 -> 18000 | AG17: =IFERROR((AC17/AE17),"-") -> 0.80311111
B18: =IFERROR((VLOOKUP(A18,'GL Review'!E:G,3,FALSE)),"")
A19: Total Rental Income | B19: =IFERROR((VLOOKUP(A19,'GL Review'!E:G,3,FALSE)),"") | D19: =SUM(D16:D18) -> 0 | E19: =SUM(E16:E18) -> 0 | F19: =SUM(F16:F18) -> 0 | G19: =SUM(G16:G18) -> 0 | H19: =SUM(H16:H18) -> 0 | I19: =SUM(I16:I18) -> 0 | J19: =SUM(J16:J18) -> 0 | K19: =SUM(K16:K18) -> 0 | ... O19: =SUM(O16:O18) -> 0 | P19: =SUM(D19:O19) -> 0 | Q19: =SUM(Q16:Q18) -> 1986 | R19: =SUM(R16:R18) -> 2501 | S19: =SUM(S16:S18) -> 708 | T19: =SUM(T16:T18) -> 2016 | U19: =SUM(U16:U18) -> 1329 | V19: =SUM(V16:V18) -> 1804 | W19: =SUM(W16:W18) -> 466 | X19: =SUM(X16:X18) -> 0 | ... AB19: =SUM(AB16:AB18) -> 1000 | AC19: =SUM(Q19:AB19) -> 14456
B20: =IFERROR((VLOOKUP(A20,'GL Review'!E:G,3,FALSE)),"")
B21: =IFERROR((VLOOKUP(A21,'GL Review'!E:G,3,FALSE)),"")
A22: Other Income | B22: =IFERROR((VLOOKUP(A22,'GL Review'!E:G,3,FALSE)),"")
A23: Income - Interest | B23: =IFERROR((VLOOKUP(A23,'GL Review'!E:G,3,FALSE)),"") -> 49005 | D23: {=( SUM(('Export (QBO)'!$G$2:$G$2483>=Budget!D$1)*('Export (QBO)'!$G$2:$G$2483<=((EOMONTH(Budget!D$1,0))))*('Export (QBO)'!$J$2:$J$2483=$A23)*('Export (QBO)'!$I$2:$I$2483)) )} -> 0 | E23: {=( SUM(('Export (QBO)'!$G$2:$G$2483>=Budget!E$1)*('Export (QBO)'!$G$2:$G$2483<=((EOMONTH(Budget!E$1,0))))*('Export (QBO)'!$J$2:$J$2483=$A23)*('Export (QBO)'!$I$2:$I$2483)) )} -> 0 | F23: {=( SUM(('Export (QBO)'!$G$2:$G$2483>=Budget!F$1)*('Export (QBO)'!$G$2:$G$2483<=((EOMONTH(Budget!F$1,0))))*('Export (QBO)'!$J$2:$J$2483=$A23)*('Export (QBO)'!$I$2:$I$2483)) )} -> 0 | G23: {=( SUM(('Export (QBO)'!$G$2:$G$2483>=Budget!G$1)*('Export (QBO)'!$G$2:$G$2483<=((EOMONTH(Budget!G$1,0))))*('Export (QBO)'!$J$2:$J$2483=$A23)*('Export (QBO)'!$I$2:$I$2483)) )} -> 0 | H23: {=( SUM(('Export (QBO)'!$G$2:$G$2483>=Budget!H$1)*('Export (QBO)'!$G$2:$G$2483<=((EOMONTH(Budget!H$1,0))))*('Export (QBO)'!$J$2:$J$2483=$A23)*('Export (QBO)'!$I$2:$I$2483)) )} -> 0 | I23: {=( SUM(('Export (QBO)'!$G$2:$G$2483>=Budget!I$1)*('Export (QBO)'!$G$2:$G$2483<=((EOMONTH(Budget!I$1,0))))*('Export (QBO)'!$J$2:$J$2483=$A23)*('Export (QBO)'!$I$2:$I$2483)) )} -> 0 | J23: {=( SUM(('Export (QBO)'!$G$2:$G$2483>=Budget!J$1)*('Export (QBO)'!$G$2:$G$2483<=((EOMONTH(Budget!J$1,0))))*('Export (QBO)'!$J$2:$J$2483=$A23)*('Export (QBO)'!$I$2:$I$2483)) )} -> 0 | K23: {=( SUM(('Export (QBO)'!$G$2:$G$2483>=Budget!K$1)*('Export (QBO)'!$G$2:$G$2483<=((EOMONTH(Budget!K$1,0))))*('Export (QBO)'!$J$2:$J$2483=$A23)*('Export (QBO)'!$I$2:$I$2483)) )} -> 0 | ... O23: {=( SUM(('Export (QBO)'!$G$2:$G$2483>=Budget!O$1)*('Export (QBO)'!$G$2:$G$2483<=((EOMONTH(Budget!O$1,0))))*('Export (QBO)'!$J$2:$J$2483=$A23)*('Export (QBO)'!$I$2:$I$2483)) )} -> 0 | P23: =SUM(D23:O23) -> 0 | Q23: {=( SUM(('Export (QBO)'!$G$2:$G$6969>=Budget!Q$1)*('Export (QBO)'!$G$2:$G$6969<=((EOMONTH(Budget!Q$1,0))))*('Export (QBO)'!$J$2:$J$6969=$A23)*('Export (QBO)'!$I$2:$I$6969)) )} -> 0 | R23: {=( SUM(('Export (QBO)'!$G$2:$G$6969>=Budget!R$1)*('Export (QBO)'!$G$2:$G$6969<=((EOMONTH(Budget!R$1,0))))*('Export (QBO)'!$J$2:$J$6969=$A23)*('Export (QBO)'!$I$2:$I$6969)) )} -> 0 | S23: {=( SUM(('Export (QBO)'!$G$2:$G$6969>=Budget!S$1)*('Export (QBO)'!$G$2:$G$6969<=((EOMONTH(Budget!S$1,0))))*('Export (QBO)'!$J$2:$J$6969=$A23)*('Export (QBO)'!$I$2:$I$6969)) )} -> 0 | T23: {=( SUM(('Export (QBO)'!$G$2:$G$6969>=Budget!T$1)*('Export (QBO)'!$G$2:$G$6969<=((EOMONTH(Budget!T$1,0))))*('Export (QBO)'!$J$2:$J$6969=$A23)*('Export (QBO)'!$I$2:$I$6969)) )} -> 3634.63 | U23: {=( SUM(('Export (QBO)'!$G$2:$G$6969>=Budget!U$1)*('Export (QBO)'!$G$2:$G$6969<=((EOMONTH(Budget!U$1,0))))*('Export (QBO)'!$J$2:$J$6969=$A23)*('Export (QBO)'!$I$2:$I$6969)) )} -> 0 | V23: {=( SUM(('Export (QBO)'!$G$2:$G$6969>=Budget!V$1)*('Export (QBO)'!$G$2:$G$6969<=((EOMONTH(Budget!V$1,0))))*('Export (QBO)'!$J$2:$J$6969=$A23)*('Export (QBO)'!$I$2:$I$6969)) )} -> 0 | W23: {=( SUM(('Export (QBO)'!$G$2:$G$6969>=Budget!W$1)*('Export (QBO)'!$G$2:$G$6969<=((EOMONTH(Budget!W$1,0))))*('Export (QBO)'!$J$2:$J$6969=$A23)*('Export (QBO)'!$I$2:$I$6969)) )} -> 0 | X23: {=( SUM(('Export (QBO)'!$G$2:$G$6969>=Budget!X$1)*('Export (QBO)'!$G$2:$G$6969<=((EOMONTH(Budget!X$1,0))))*('Export (QBO)'!$J$2:$J$6969=$A23)*('Export (QBO)'!$I$2:$I$6969)) )} -> 0 | ... AB23: {=( SUM(('Export (QBO)'!$G$2:$G$6969>=Budget!AB$1)*('Export (QBO)'!$G$2:$G$6969<=((EOMONTH(Budget!AB$1,0))))*('Export (QBO)'!$J$2:$J$6969=$A23)*('Export (QBO)'!$I$2:$I$6969)) )} -> 0 | AC23: =SUM(Q23:AB23) -> 3634.63 | AE23: 500 | AI23: Sweet talk actually paid $500 of intrest in Feb.
A24: Income - Miscellaneous | B24: =IFERROR((VLOOKUP(A24,'GL Review'!E:G,3,FALSE)),"") -> 49015 | D24: {=( SUM(('Export (QBO)'!$G$2:$G$2483>=Budget!D$1)*('Export (QBO)'!$G$2:$G$2483<=((EOMONTH(Budget!D$1,0))))*('Export (QBO)'!$J$2:$J$2483=$A24)*('Export (QBO)'!$I$2:$I$2483)) )} -> 0 | E24: {=( SUM(('Export (QBO)'!$G$2:$G$2483>=Budget!E$1)*('Export (QBO)'!$G$2:$G$2483<=((EOMONTH(Budget!E$1,0))))*('Export (QBO)'!$J$2:$J$2483=$A24)*('Export (QBO)'!$I$2:$I$2483)) )} -> 0 | F24: {=( SUM(('Export (QBO)'!$G$2:$G$2483>=Budget!F$1)*('Export (QBO)'!$G$2:$G$2483<=((EOMONTH(Budget!F$1,0))))*('Export (QBO)'!$J$2:$J$2483=$A24)*('Export (QBO)'!$I$2:$I$2483)) )} -> 0 | G24: {=( SUM(('Export (QBO)'!$G$2:$G$2483>=Budget!G$1)*('Export (QBO)'!$G$2:$G$2483<=((EOMONTH(Budget!G$1,0))))*('Export (QBO)'!$J$2:$J$2483=$A24)*('Export (QBO)'!$I$2:$I$2483)) )} -> 0 | H24: {=( SUM(('Export (QBO)'!$G$2:$G$2483>=Budget!H$1)*('Export (QBO)'!$G$2:$G$2483<=((EOMONTH(Budget!H$1,0))))*('Export (QBO)'!$J$2:$J$2483=$A24)*('Export (QBO)'!$I$2:$I$2483)) )} -> 0 | I24: {=( SUM(('Export (QBO)'!$G$2:$G$2483>=Budget!I$1)*('Export (QBO)'!$G$2:$G$2483<=((EOMONTH(Budget!I$1,0))))*('Export (QBO)'!$J$2:$J$2483=$A24)*('Export (QBO)'!$I$2:$I$2483)) )} -> 0 | J24: {=( SUM(('Export (QBO)'!$G$2:$G$2483>=Budget!J$1)*('Export (QBO)'!$G$2:$G$2483<=((EOMONTH(Budget!J$1,0))))*('Export (QBO)'!$J$2:$J$2483=$A24)*('Export (QBO)'!$I$2:$I$2483)) )} -> 0 | K24: {=( SUM(('Export (QBO)'!$G$2:$G$2483>=Budget!K$1)*('Export (QBO)'!$G$2:$G$2483<=((EOMONTH(Budget!K$1,0))))*('Export (QBO)'!$J$2:$J$2483=$A24)*('Export (QBO)'!$I$2:$I$2483)) )} -> 0 | ... O24: {=( SUM(('Export (QBO)'!$G$2:$G$2483>=Budget!O$1)*('Export (QBO)'!$G$2:$G$2483<=((EOMONTH(Budget!O$1,0))))*('Export (QBO)'!$J$2:$J$2483=$A24)*('Export (QBO)'!$I$2:$I$2483)) )} -> 0 | P24: =SUM(D24:O24) -> 0 | Q24: {=( SUM(('Export (QBO)'!$G$2:$G$6969>=Budget!Q$1)*('Export (QBO)'!$G$2:$G$6969<=((EOMONTH(Budget!Q$1,0))))*('Export (QBO)'!$J$2:$J$6969=$A24)*('Export (QBO)'!$I$2:$I$6969)) )} -> 0 | R24: {=( SUM(('Export (QBO)'!$G$2:$G$6969>=Budget!R$1)*('Export (QBO)'!$G$2:$G$6969<=((EOMONTH(Budget!R$1,0))))*('Export (QBO)'!$J$2:$J$6969=$A24)*('Export (QBO)'!$I$2:$I$6969)) )} -> 0 | S24: {=( SUM(('Export (QBO)'!$G$2:$G$6969>=Budget!S$1)*('Export (QBO)'!$G$2:$G$6969<=((EOMONTH(Budget!S$1,0))))*('Export (QBO)'!$J$2:$J$6969=$A24)*('Export (QBO)'!$I$2:$I$6969)) )} -> 0 | T24: {=( SUM(('Export (QBO)'!$G$2:$G$6969>=Budget!T$1)*('Export (QBO)'!$G$2:$G$6969<=((EOMONTH(Budget!T$1,0))))*('Export (QBO)'!$J$2:$J$6969=$A24)*('Export (QBO)'!$I$2:$I$6969)) )} -> 0 | U24: {=( SUM(('Export (QBO)'!$G$2:$G$6969>=Budget!U$1)*('Export (QBO)'!$G$2:$G$6969<=((EOMONTH(Budget!U$1,0))))*('Export (QBO)'!$J$2:$J$6969=$A24)*('Export (QBO)'!$I$2:$I$6969)) )} -> 0 | V24: {=( SUM(('Export (QBO)'!$G$2:$G$6969>=Budget!V$1)*('Export (QBO)'!$G$2:$G$6969<=((EOMONTH(Budget!V$1,0))))*('Export (QBO)'!$J$2:$J$6969=$A24)*('Export (QBO)'!$I$2:$I$6969)) )} -> 0 | W24: {=( SUM(('Export (QBO)'!$G$2:$G$6969>=Budget!W$1)*('Export (QBO)'!$G$2:$G$6969<=((EOMONTH(Budget!W$1,0))))*('Export (QBO)'!$J$2:$J$6969=$A24)*('Export (QBO)'!$I$2:$I$6969)) )} -> 0 | X24: {=( SUM(('Export (QBO)'!$G$2:$G$6969>=Budget!X$1)*('Export (QBO)'!$G$2:$G$6969<=((EOMONTH(Budget!X$1,0))))*('Export (QBO)'!$J$2:$J$6969=$A24)*('Export (QBO)'!$I$2:$I$6969)) )} -> 0 | ... AB24: {=( SUM(('Export (QBO)'!$G$2:$G$6969>=Budget!AB$1)*('Export (QBO)'!$G$2:$G$6969<=((EOMONTH(Budget!AB$1,0))))*('Export (QBO)'!$J$2:$J$6969=$A24)*('Export (QBO)'!$I$2:$I$6969)) )} -> 0 | AC24: =SUM(Q24:AB24) -> 0
B25: =IFERROR((VLOOKUP(A25,'GL Review'!E:G,3,FALSE)),"")
A26: Total Other Income | B26: =IFERROR((VLOOKUP(A26,'GL Review'!E:G,3,FALSE)),"") | D26: =SUM(D22:D25) -> 0 | E26: =SUM(E22:E25) -> 0 | F26: =SUM(F22:F25) -> 0 | G26: =SUM(G22:G25) -> 0 | H26: =SUM(H22:H25) -> 0 | I26: =SUM(I22:I25) -> 0 | J26: =SUM(J22:J25) -> 0 | K26: =SUM(K22:K25) -> 0 | ... O26: =SUM(O22:O25) -> 0 | P26: =SUM(D26:O26) -> 0 | Q26: =SUM(Q22:Q25) -> 0 | R26: =SUM(R22:R25) -> 0 | S26: =SUM(S22:S25) -> 0 | T26: =SUM(T22:T25) -> 3634.63 | U26: =SUM(U22:U25) -> 0 | V26: =SUM(V22:V25) -> 0 | W26: =SUM(W22:W25) -> 0 | X26: =SUM(X22:X25) -> 0 | ... AB26: =SUM(AB22:AB25) -> 0 | AC26: =SUM(Q26:AB26) -> 3634.63
B27: =IFERROR((VLOOKUP(A27,'GL Review'!E:G,3,FALSE)),"")
A29: Total Revenue | Q29: =Q14+Q19+Q26 -> 43942.81 | R29: =R14+R19+R26 -> 110775.63 | S29: =S14+S19+S26 -> 23636.03 | T29: =T14+T19+T26 -> 68337.33 | U29: =U14+U19+U26 -> 35460.5 | V29: =V14+V19+V26 -> 88772.53 | W29: =W14+W19+W26 -> 45026.07 | X29: =X14+X19+X26 -> 22288.54 | ... AB29: =AB14+AB19+AB26 -> 16507.48 | AC29: =SUM(Q29:AB29) -> 592209.39
A32: Contracting Reimbursement | B32: =IFERROR((VLOOKUP(A32,'GL Review'!E:G,3,FALSE)),"") | AB32: -6883.05
A33: Project Expense - Materials | B33: =IFERROR((VLOOKUP(A33,'GL Review'!E:G,3,FALSE)),"") -> 51335 | D33: {=-( SUM(('Export (QBO)'!$G$2:$G$2483>=Budget!D$1)*('Export (QBO)'!$G$2:$G$2483<=((EOMONTH(Budget!D$1,0))))*('Export (QBO)'!$J$2:$J$2483=$A33)*('Export (QBO)'!$I$2:$I$2483)) )} -> 0 | E33: {=-( SUM(('Export (QBO)'!$G$2:$G$2483>=Budget!E$1)*('Export (QBO)'!$G$2:$G$2483<=((EOMONTH(Budget!E$1,0))))*('Export (QBO)'!$J$2:$J$2483=$A33)*('Export (QBO)'!$I$2:$I$2483)) )} -> 0 | F33: {=-( SUM(('Export (QBO)'!$G$2:$G$2483>=Budget!F$1)*('Export (QBO)'!$G$2:$G$2483<=((EOMONTH(Budget!F$1,0))))*('Export (QBO)'!$J$2:$J$2483=$A33)*('Export (QBO)'!$I$2:$I$2483)) )} -> 0 | G33: {=-( SUM(('Export (QBO)'!$G$2:$G$2483>=Budget!G$1)*('Export (QBO)'!$G$2:$G$2483<=((EOMONTH(Budget!G$1,0))))*('Export (QBO)'!$J$2:$J$2483=$A33)*('Export (QBO)'!$I$2:$I$2483)) )} -> 0 | H33: {=-( SUM(('Export (QBO)'!$G$2:$G$2483>=Budget!H$1)*('Export (QBO)'!$G$2:$G$2483<=((EOMONTH(Budget!H$1,0))))*('Export (QBO)'!$J$2:$J$2483=$A33)*('Export (QBO)'!$I$2:$I$2483)) )} -> 0 | I33: {=-( SUM(('Export (QBO)'!$G$2:$G$2483>=Budget!I$1)*('Export (QBO)'!$G$2:$G$2483<=((EOMONTH(Budget!I$1,0))))*('Export (QBO)'!$J$2:$J$2483=$A33)*('Export (QBO)'!$I$2:$I$2483)) )} -> 0 | J33: {=-( SUM(('Export (QBO)'!$G$2:$G$2483>=Budget!J$1)*('Export (QBO)'!$G$2:$G$2483<=((EOMONTH(Budget!J$1,0))))*('Export (QBO)'!$J$2:$J$2483=$A33)*('Export (QBO)'!$I$2:$I$2483)) )} -> 0 | K33: {=-( SUM(('Export (QBO)'!$G$2:$G$2483>=Budget!K$1)*('Export (QBO)'!$G$2:$G$2483<=((EOMONTH(Budget!K$1,0))))*('Export (QBO)'!$J$2:$J$2483=$A33)*('Export (QBO)'!$I$2:$I$2483)) )} -> 0 | ... O33: {=-( SUM(('Export (QBO)'!$G$2:$G$2483>=Budget!O$1)*('Export (QBO)'!$G$2:$G$2483<=((EOMONTH(Budget!O$1,0))))*('Export (QBO)'!$J$2:$J$2483=$A33)*('Export (QBO)'!$I$2:$I$2483)) )} -> 0 | P33: =SUM(D33:O33) -> 0 | Q33: {=-( SUM(('Export (QBO)'!$G$2:$G$6969>=Budget!Q$1)*('Export (QBO)'!$G$2:$G$6969<=((EOMONTH(Budget!Q$1,0))))*('Export (QBO)'!$J$2:$J$6969=$A33)*('Export (QBO)'!$I$2:$I$6969)) )} -> -10323.12 | R33: {=-( SUM(('Export (QBO)'!$G$2:$G$6969>=Budget!R$1)*('Export (QBO)'!$G$2:$G$6969<=((EOMONTH(Budget!R$1,0))))*('Export (QBO)'!$J$2:$J$6969=$A33)*('Export (QBO)'!$I$2:$I$6969)) )} -> -18633.51 | S33: {=-( SUM(('Export (QBO)'!$G$2:$G$6969>=Budget!S$1)*('Export (QBO)'!$G$2:$G$6969<=((EOMONTH(Budget!S$1,0))))*('Export (QBO)'!$J$2:$J$6969=$A33)*('Export (QBO)'!$I$2:$I$6969)) )} -> -27099.51 | T33: {=-( SUM(('Export (QBO)'!$G$2:$G$6969>=Budget!T$1)*('Export (QBO)'!$G$2:$G$6969<=((EOMONTH(Budget!T$1,0))))*('Export (QBO)'!$J$2:$J$6969=$A33)*('Export (QBO)'!$I$2:$I$6969)) )} -> -36754.82 | U33: {=-( SUM(('Export (QBO)'!$G$2:$G$6969>=Budget!U$1)*('Export (QBO)'!$G$2:$G$6969<=((EOMONTH(Budget!U$1,0))))*('Export (QBO)'!$J$2:$J$6969=$A33)*('Export (QBO)'!$I$2:$I$6969)) )} -> -38463.18 | V33: {=-( SUM(('Export (QBO)'!$G$2:$G$6969>=Budget!V$1)*('Export (QBO)'!$G$2:$G$6969<=((EOMONTH(Budget!V$1,0))))*('Export (QBO)'!$J$2:$J$6969=$A33)*('Export (QBO)'!$I$2:$I$6969)) )} -> -12199.1 | W33: {=-( SUM(('Export (QBO)'!$G$2:$G$6969>=Budget!W$1)*('Export (QBO)'!$G$2:$G$6969<=((EOMONTH(Budget!W$1,0))))*('Export (QBO)'!$J$2:$J$6969=$A33)*('Export (QBO)'!$I$2:$I$6969)) )} -> -176.51 | X33: {=-( SUM(('Export (QBO)'!$G$2:$G$6969>=Budget!X$1)*('Export (QBO)'!$G$2:$G$6969<=((EOMONTH(Budget!X$1,0))))*('Export (QBO)'!$J$2:$J$6969=$A33)*('Export (QBO)'!$I$2:$I$6969)) )} -> -1338.95 | ... AB33: {=-( SUM(('Export (QBO)'!$G$2:$G$6969>=Budget!AB$1)*('Export (QBO)'!$G$2:$G$6969<=((EOMONTH(Budget!AB$1,0))))*('Export (QBO)'!$J$2:$J$6969=$A33)*('Export (QBO)'!$I$2:$I$6969)) )} -> -9830.2 | AC33: =SUM(Q33:AB33) -> -305951.26 | AI33: PAUL PAUL PAUL: Are these from AP or AR?... They need to balance / cancel each other out in QBO some way, and be reported on here… if they both go to the same account it may mess things up. | AJ33: Billed and Invoices should cancel out
A34: Project Expense - Materials Income | B34: 41008 | P34: =SUM(D34:O34) -> 0 | Q34: {=( SUM(('Export (QBO)'!$G$2:$G$6969>=Budget!Q$1)*('Export (QBO)'!$G$2:$G$6969<=((EOMONTH(Budget!Q$1,0))))*('Export (QBO)'!$J$2:$J$6969=$A34)*('Export (QBO)'!$I$2:$I$6969)) )} -> 5825.32 | R34: {=( SUM(('Export (QBO)'!$G$2:$G$6969>=Budget!R$1)*('Export (QBO)'!$G$2:$G$6969<=((EOMONTH(Budget!R$1,0))))*('Export (QBO)'!$J$2:$J$6969=$A34)*('Export (QBO)'!$I$2:$I$6969)) )} -> 17523.3 | S34: {=( SUM(('Export (QBO)'!$G$2:$G$6969>=Budget!S$1)*('Export (QBO)'!$G$2:$G$6969<=((EOMONTH(Budget!S$1,0))))*('Export (QBO)'!$J$2:$J$6969=$A34)*('Export (QBO)'!$I$2:$I$6969)) )} -> 579.72 | T34: {=( SUM(('Export (QBO)'!$G$2:$G$6969>=Budget!T$1)*('Export (QBO)'!$G$2:$G$6969<=((EOMONTH(Budget!T$1,0))))*('Export (QBO)'!$J$2:$J$6969=$A34)*('Export (QBO)'!$I$2:$I$6969)) )} -> 35979.88 | U34: {=( SUM(('Export (QBO)'!$G$2:$G$6969>=Budget!U$1)*('Export (QBO)'!$G$2:$G$6969<=((EOMONTH(Budget!U$1,0))))*('Export (QBO)'!$J$2:$J$6969=$A34)*('Export (QBO)'!$I$2:$I$6969)) )} -> 22391.31 | V34: {=( SUM(('Export (QBO)'!$G$2:$G$6969>=Budget!V$1)*('Export (QBO)'!$G$2:$G$6969<=((EOMONTH(Budget!V$1,0))))*('Export (QBO)'!$J$2:$J$6969=$A34)*('Export (QBO)'!$I$2:$I$6969)) )} -> 15043.75 | W34: {=( SUM(('Export (QBO)'!$G$2:$G$6969>=Budget!W$1)*('Export (QBO)'!$G$2:$G$6969<=((EOMONTH(Budget!W$1,0))))*('Export (QBO)'!$J$2:$J$6969=$A34)*('Export (QBO)'!$I$2:$I$6969)) )} -> 860 | X34: {=( SUM(('Export (QBO)'!$G$2:$G$6969>=Budget!X$1)*('Export (QBO)'!$G$2:$G$6969<=((EOMONTH(Budget!X$1,0))))*('Export (QBO)'!$J$2:$J$6969=$A34)*('Export (QBO)'!$I$2:$I$6969)) )} -> 41142.62 | ... AB34: {=( SUM(('Export (QBO)'!$G$2:$G$6969>=Budget!AB$1)*('Export (QBO)'!$G$2:$G$6969<=((EOMONTH(Budget!AB$1,0))))*('Export (QBO)'!$J$2:$J$6969=$A34)*('Export (QBO)'!$I$2:$I$6969)) )} -> 17441.06 | AC34: =SUM(Q34:AB34) -> 263515.83
P35: =SUM(D35:O35) -> 0 | Q35: =SUM(Q33:Q34) -> -4497.8 | R35: =SUM(R33:R34) -> -1110.21 | S35: =SUM(S33:S34) -> -26519.79 | T35: =SUM(T33:T34) -> -774.94 | U35: =SUM(U33:U34) -> -16071.87 | V35: =SUM(V33:V34) -> 2844.65 | W35: =SUM(W33:W34) -> 683.49 | X35: =SUM(X33:X34) -> 39803.67 | ... AB35: =SUM(AB33:AB34) -> 7610.86 | AC35: =SUM(Q35:AB35) -> -42435.43
AC36: 34882.29 | AE36: Home Office Project
A37: Project Expense - Subcontractors | B37: =IFERROR((VLOOKUP(A37,'GL Review'!E:G,3,FALSE)),"") -> 51320 | D37: {=-( SUM(('Export (QBO)'!$G$2:$G$2483>=Budget!D$1)*('Export (QBO)'!$G$2:$G$2483<=((EOMONTH(Budget!D$1,0))))*('Export (QBO)'!$J$2:$J$2483=$A37)*('Export (QBO)'!$I$2:$I$2483)) )} -> 0 | E37: {=-( SUM(('Export (QBO)'!$G$2:$G$2483>=Budget!E$1)*('Export (QBO)'!$G$2:$G$2483<=((EOMONTH(Budget!E$1,0))))*('Export (QBO)'!$J$2:$J$2483=$A37)*('Export (QBO)'!$I$2:$I$2483)) )} -> 0 | F37: {=-( SUM(('Export (QBO)'!$G$2:$G$2483>=Budget!F$1)*('Export (QBO)'!$G$2:$G$2483<=((EOMONTH(Budget!F$1,0))))*('Export (QBO)'!$J$2:$J$2483=$A37)*('Export (QBO)'!$I$2:$I$2483)) )} -> 0 | G37: {=-( SUM(('Export (QBO)'!$G$2:$G$2483>=Budget!G$1)*('Export (QBO)'!$G$2:$G$2483<=((EOMONTH(Budget!G$1,0))))*('Export (QBO)'!$J$2:$J$2483=$A37)*('Export (QBO)'!$I$2:$I$2483)) )} -> 0 | H37: {=-( SUM(('Export (QBO)'!$G$2:$G$2483>=Budget!H$1)*('Export (QBO)'!$G$2:$G$2483<=((EOMONTH(Budget!H$1,0))))*('Export (QBO)'!$J$2:$J$2483=$A37)*('Export (QBO)'!$I$2:$I$2483)) )} -> 0 | I37: {=-( SUM(('Export (QBO)'!$G$2:$G$2483>=Budget!I$1)*('Export (QBO)'!$G$2:$G$2483<=((EOMONTH(Budget!I$1,0))))*('Export (QBO)'!$J$2:$J$2483=$A37)*('Export (QBO)'!$I$2:$I$2483)) )} -> 0 | J37: {=-( SUM(('Export (QBO)'!$G$2:$G$2483>=Budget!J$1)*('Export (QBO)'!$G$2:$G$2483<=((EOMONTH(Budget!J$1,0))))*('Export (QBO)'!$J$2:$J$2483=$A37)*('Export (QBO)'!$I$2:$I$2483)) )} -> 0 | K37: {=-( SUM(('Export (QBO)'!$G$2:$G$2483>=Budget!K$1)*('Export (QBO)'!$G$2:$G$2483<=((EOMONTH(Budget!K$1,0))))*('Export (QBO)'!$J$2:$J$2483=$A37)*('Export (QBO)'!$I$2:$I$2483)) )} -> 0 | ... O37: {=-( SUM(('Export (QBO)'!$G$2:$G$2483>=Budget!O$1)*('Export (QBO)'!$G$2:$G$2483<=((EOMONTH(Budget!O$1,0))))*('Export (QBO)'!$J$2:$J$2483=$A37)*('Export (QBO)'!$I$2:$I$2483)) )} -> 0 | P37: =SUM(D37:O37) -> 0 | Q37: {=-( SUM(('Export (QBO)'!$G$2:$G$6969>=Budget!Q$1)*('Export (QBO)'!$G$2:$G$6969<=((EOMONTH(Budget!Q$1,0))))*('Export (QBO)'!$J$2:$J$6969=$A37)*('Export (QBO)'!$I$2:$I$6969)) )} -> -101737.8 | R37: {=-( SUM(('Export (QBO)'!$G$2:$G$6969>=Budget!R$1)*('Export (QBO)'!$G$2:$G$6969<=((EOMONTH(Budget!R$1,0))))*('Export (QBO)'!$J$2:$J$6969=$A37)*('Export (QBO)'!$I$2:$I$6969)) )} -> -136899.4 | S37: {=-( SUM(('Export (QBO)'!$G$2:$G$6969>=Budget!S$1)*('Export (QBO)'!$G$2:$G$6969<=((EOMONTH(Budget!S$1,0))))*('Export (QBO)'!$J$2:$J$6969=$A37)*('Export (QBO)'!$I$2:$I$6969)) )} -> -74534.59 | T37: {=-( SUM(('Export (QBO)'!$G$2:$G$6969>=Budget!T$1)*('Export (QBO)'!$G$2:$G$6969<=((EOMONTH(Budget!T$1,0))))*('Export (QBO)'!$J$2:$J$6969=$A37)*('Export (QBO)'!$I$2:$I$6969)) )} -> -56122.36 | U37: {=-( SUM(('Export (QBO)'!$G$2:$G$6969>=Budget!U$1)*('Export (QBO)'!$G$2:$G$6969<=((EOMONTH(Budget!U$1,0))))*('Export (QBO)'!$J$2:$J$6969=$A37)*('Export (QBO)'!$I$2:$I$6969)) )} -> -46086.93 | V37: {=-( SUM(('Export (QBO)'!$G$2:$G$6969>=Budget!V$1)*('Export (QBO)'!$G$2:$G$6969<=((EOMONTH(Budget!V$1,0))))*('Export (QBO)'!$J$2:$J$6969=$A37)*('Export (QBO)'!$I$2:$I$6969)) )} -> -118644.39 | W37: {=-( SUM(('Export (QBO)'!$G$2:$G$6969>=Budget!W$1)*('Export (QBO)'!$G$2:$G$6969<=((EOMONTH(Budget!W$1,0))))*('Export (QBO)'!$J$2:$J$6969=$A37)*('Export (QBO)'!$I$2:$I$6969)) )} -> -113835.95 | X37: {=-( SUM(('Export (QBO)'!$G$2:$G$6969>=Budget!X$1)*('Export (QBO)'!$G$2:$G$6969<=((EOMONTH(Budget!X$1,0))))*('Export (QBO)'!$J$2:$J$6969=$A37)*('Export (QBO)'!$I$2:$I$6969)) )} -> -12184.95 | ... AB37: {=-( SUM(('Export (QBO)'!$G$2:$G$6969>=Budget!AB$1)*('Export (QBO)'!$G$2:$G$6969<=((EOMONTH(Budget!AB$1,0))))*('Export (QBO)'!$J$2:$J$6969=$A37)*('Export (QBO)'!$I$2:$I$6969)) )} -> -190856.3 | AC37: =SUM(Q37:AB37) -> -1296633.4 | AI37: PAUL PAUL PAUL: Are these from AP or AR?... They need to balance / cancel each other out in QBO some way, and be reported on here… if they both go to the same account it may mess things up.
A38: Project Expense - Subcontractors Income | B38: 41009 | P38: =SUM(D38:O38) -> 0 | Q38: {=( SUM(('Export (QBO)'!$G$2:$G$6969>=Budget!Q$1)*('Export (QBO)'!$G$2:$G$6969<=((EOMONTH(Budget!Q$1,0))))*('Export (QBO)'!$J$2:$J$6969=$A38)*('Export (QBO)'!$I$2:$I$6969)) )} -> 8142.7 | R38: {=( SUM(('Export (QBO)'!$G$2:$G$6969>=Budget!R$1)*('Export (QBO)'!$G$2:$G$6969<=((EOMONTH(Budget!R$1,0))))*('Export (QBO)'!$J$2:$J$6969=$A38)*('Export (QBO)'!$I$2:$I$6969)) )} -> 179498.9 | S38: {=( SUM(('Export (QBO)'!$G$2:$G$6969>=Budget!S$1)*('Export (QBO)'!$G$2:$G$6969<=((EOMONTH(Budget!S$1,0))))*('Export (QBO)'!$J$2:$J$6969=$A38)*('Export (QBO)'!$I$2:$I$6969)) )} -> 29639.77 | T38: {=( SUM(('Export (QBO)'!$G$2:$G$6969>=Budget!T$1)*('Export (QBO)'!$G$2:$G$6969<=((EOMONTH(Budget!T$1,0))))*('Export (QBO)'!$J$2:$J$6969=$A38)*('Export (QBO)'!$I$2:$I$6969)) )} -> 49486.71 | U38: {=( SUM(('Export (QBO)'!$G$2:$G$6969>=Budget!U$1)*('Export (QBO)'!$G$2:$G$6969<=((EOMONTH(Budget!U$1,0))))*('Export (QBO)'!$J$2:$J$6969=$A38)*('Export (QBO)'!$I$2:$I$6969)) )} -> 28836.83 | V38: {=( SUM(('Export (QBO)'!$G$2:$G$6969>=Budget!V$1)*('Export (QBO)'!$G$2:$G$6969<=((EOMONTH(Budget!V$1,0))))*('Export (QBO)'!$J$2:$J$6969=$A38)*('Export (QBO)'!$I$2:$I$6969)) )} -> 191090.05 | W38: {=( SUM(('Export (QBO)'!$G$2:$G$6969>=Budget!W$1)*('Export (QBO)'!$G$2:$G$6969<=((EOMONTH(Budget!W$1,0))))*('Export (QBO)'!$J$2:$J$6969=$A38)*('Export (QBO)'!$I$2:$I$6969)) )} -> 111252.05 | X38: {=( SUM(('Export (QBO)'!$G$2:$G$6969>=Budget!X$1)*('Export (QBO)'!$G$2:$G$6969<=((EOMONTH(Budget!X$1,0))))*('Export (QBO)'!$J$2:$J$6969=$A38)*('Export (QBO)'!$I$2:$I$6969)) )} -> 5750.1 | ... AB38: {=( SUM(('Export (QBO)'!$G$2:$G$6969>=Budget!AB$1)*('Export (QBO)'!$G$2:$G$6969<=((EOMONTH(Budget!AB$1,0))))*('Export (QBO)'!$J$2:$J$6969=$A38)*('Export (QBO)'!$I$2:$I$6969)) )} -> 58922.36 | AC38: =SUM(Q38:AB38) -> 1199831.6
P39: =SUM(D39:O39) -> 0 | Q39: =SUM(Q37:Q38) -> -93595.1 | R39: =SUM(R37:R38) -> 42599.5 | S39: =SUM(S37:S38) -> -44894.82 | T39: =SUM(T37:T38) -> -6635.65 | U39: =SUM(U37:U38) -> -17250.1 | V39: =SUM(V37:V38) -> 72445.66 | W39: =SUM(W37:W38) -> -2583.9 | X39: =SUM(X37:X38) -> -6434.85 | ... AB39: =SUM(AB37:AB38) -> -131933.94 | AC39: =SUM(Q39:AB39) -> -96801.75
AC40: 51908.07 | AE40: Home Office Project | AG40: 15000
A41: Project Expense - Other | B41: =IFERROR((VLOOKUP(A41,'GL Review'!E:G,3,FALSE)),"") -> 51315 | P41: =SUM(D41:O41) -> 0 | Q41: {=( SUM(('Export (QBO)'!$G$2:$G$6969>=Budget!Q$1)*('Export (QBO)'!$G$2:$G$6969<=((EOMONTH(Budget!Q$1,0))))*('Export (QBO)'!$J$2:$J$6969=$A41)*('Export (QBO)'!$I$2:$I$6969)) )} -> 0 | R41: {=( SUM(('Export (QBO)'!$G$2:$G$6969>=Budget!R$1)*('Export (QBO)'!$G$2:$G$6969<=((EOMONTH(Budget!R$1,0))))*('Export (QBO)'!$J$2:$J$6969=$A41)*('Export (QBO)'!$I$2:$I$6969)) )} -> 0 | S41: {=( SUM(('Export (QBO)'!$G$2:$G$6969>=Budget!S$1)*('Export (QBO)'!$G$2:$G$6969<=((EOMONTH(Budget!S$1,0))))*('Export (QBO)'!$J$2:$J$6969=$A41)*('Export (QBO)'!$I$2:$I$6969)) )} -> 0 | T41: {=( SUM(('Export (QBO)'!$G$2:$G$6969>=Budget!T$1)*('Export (QBO)'!$G$2:$G$6969<=((EOMONTH(Budget!T$1,0))))*('Export (QBO)'!$J$2:$J$6969=$A41)*('Export (QBO)'!$I$2:$I$6969)) )} -> 0 | U41: {=( SUM(('Export (QBO)'!$G$2:$G$6969>=Budget!U$1)*('Export (QBO)'!$G$2:$G$6969<=((EOMONTH(Budget!U$1,0))))*('Export (QBO)'!$J$2:$J$6969=$A41)*('Export (QBO)'!$I$2:$I$6969)) )} -> 0 | V41: {=( SUM(('Export (QBO)'!$G$2:$G$6969>=Budget!V$1)*('Export (QBO)'!$G$2:$G$6969<=((EOMONTH(Budget!V$1,0))))*('Export (QBO)'!$J$2:$J$6969=$A41)*('Export (QBO)'!$I$2:$I$6969)) )} -> 0 | W41: {=( SUM(('Export (QBO)'!$G$2:$G$6969>=Budget!W$1)*('Export (QBO)'!$G$2:$G$6969<=((EOMONTH(Budget!W$1,0))))*('Export (QBO)'!$J$2:$J$6969=$A41)*('Export (QBO)'!$I$2:$I$6969)) )} -> 2750.94 | X41: {=( SUM(('Export (QBO)'!$G$2:$G$6969>=Budget!X$1)*('Export (QBO)'!$G$2:$G$6969<=((EOMONTH(Budget!X$1,0))))*('Export (QBO)'!$J$2:$J$6969=$A41)*('Export (QBO)'!$I$2:$I$6969)) )} -> 0 | ... AB41: {=( SUM(('Export (QBO)'!$G$2:$G$6969>=Budget!AB$1)*('Export (QBO)'!$G$2:$G$6969<=((EOMONTH(Budget!AB$1,0))))*('Export (QBO)'!$J$2:$J$6969=$A41)*('Export (QBO)'!$I$2:$I$6969)) )} -> 452 | AC41: =SUM(Q41:AB41) -> 3782.44 | AI41: PAUL PAUL PAUL: Are these from AP or AR?... They need to balance / cancel each other out in QBO some way, and be reported on here… if they both go to the same account it may mess things up.
B42: =IFERROR((VLOOKUP(A42,'GL Review'!E:G,3,FALSE)),"") | AC42: -2742.59 | AE42: Home Office Project
A43: Total Contracting Reimbursement | B43: =IFERROR((VLOOKUP(A43,'GL Review'!E:G,3,FALSE)),"") | D43: =SUM(D32:D42) -> 0 | E43: =SUM(E32:E42) -> 0 | F43: =SUM(F32:F42) -> 0 | G43: =SUM(G32:G42) -> 0 | H43: =SUM(H32:H42) -> 0 | I43: =SUM(I32:I42) -> 0 | J43: =SUM(J32:J42) -> 0 | K43: =SUM(K32:K42) -> 0 | ... O43: =SUM(O32:O42) -> 0 | P43: =SUM(D43:O43) -> 0 | Q43: =SUM(Q32:Q42) -> -196185.8 | R43: =R35+R39+R41 -> 41489.29 | S43: =S35+S39+S41 -> -71414.61 | T43: =T35+T39+T41 -> -7410.59 | U43: =U35+U39+U41 -> -33321.97 | V43: =V35+V39+V41 -> 75290.31 | W43: =W35+W39+W41 -> 850.53 | X43: =X35+X39+X41 -> 33368.82 | Y43: =Y35+Y39+Y41 -> 189714.14 | ... AB43: =AB35+AB39+AB41 -> -123871.08 | AC43: =SUM(Q43:AB43) -> -233547.64 | AI43: =AC43*0.17 -> -39703.099
B44: =IFERROR((VLOOKUP(A44,'GL Review'!E:G,3,FALSE)),"")
A46: Total Reimbursement | Q46: =Q43 -> -196185.8 | R46: =R43 -> 41489.29 | S46: =S43 -> -71414.61 | T46: =T43 -> -7410.59 | U46: =U43 -> -33321.97 | V46: =V43 -> 75290.31 | W46: =W43 -> 850.53 | X46: =X43 -> 33368.82 | ... AB46: =AB43 -> -123871.08 | AC46: =SUM(Q46:AB46) -> -233547.64
...

Sheet Export (QBO)
A1: Date | B1: Transaction Type | C1: Name | D1: Account | E1: Amount | F1: Key | G1: Date (Normalized) | H1: Automation | I1: Amount | J1: Account | K1: Expense | L1: Note
A2: 2025-01-01 | B2: Expense | C2: Microsoft Canada Inc | D2: 52165 Subscriptions (Annual) | E2: 9.08 | F2: =A2&B2&C2&D2&E2 -> 2025-01-01ExpenseMicrosoft Canada Inc52165 Subscriptions (Annual)9.08 | G2: =IFERROR((DATEVALUE(A2)),A2) -> 45658 | H2: =IF((IFERROR((VLOOKUP(D2,'Automation (QBO)'!A:B,2,FALSE)),"0"))=0,"Suspense",(IFERROR((VLOOKUP(D2,'Automation (QBO)'!A:B,2,FALSE)),"Suspense"))) -> Subscriptions (Annual) | I2: =E2 -> 9.08 | J2: =H2 -> Subscriptions (Annual)
A3: 2025-01-01 | B3: Expense | C3: Microsoft Canada Inc | D3: 21020 GST/HST Payable | E3: 0 | F3: =A3&B3&C3&D3&E3 -> 2025-01-01ExpenseMicrosoft Canada Inc21020 GST/HST Payable0 | G3: =IFERROR((DATEVALUE(A3)),A3) -> 45658 | H3: =IF((IFERROR((VLOOKUP(D3,'Automation (QBO)'!A:B,2,FALSE)),"0"))=0,"Suspense",(IFERROR((VLOOKUP(D3,'Automation (QBO)'!A:B,2,FALSE)),"Suspense"))) -> GST/HST Payable | I3: =E3 -> 0 | J3: =H3 -> GST/HST Payable
A4: 2025-01-01 | B4: Journal Entry | D4: 13005 Prepaid Expenses | E4: -6420 | F4: =A4&B4&C4&D4&E4 -> 2025-01-01Journal Entry13005 Prepaid Expenses-6420 | G4: =IFERROR((DATEVALUE(A4)),A4) -> 45658 | H4: =IF((IFERROR((VLOOKUP(D4,'Automation (QBO)'!A:B,2,FALSE)),"0"))=0,"Suspense",(IFERROR((VLOOKUP(D4,'Automation (QBO)'!A:B,2,FALSE)),"Suspense"))) -> Prepaid expense | I4: =E4 -> -6420 | J4: =H4 -> Prepaid expense
A5: 2025-01-01 | B5: Journal Entry | D5: 21006 Liability - Deposits Received | E5: -80477.4 | F5: =A5&B5&C5&D5&E5 -> 2025-01-01Journal Entry21006 Liability - Deposits Received-80477.4 | G5: =IFERROR((DATEVALUE(A5)),A5) -> 45658 | H5: =IF((IFERROR((VLOOKUP(D5,'Automation (QBO)'!A:B,2,FALSE)),"0"))=0,"Suspense",(IFERROR((VLOOKUP(D5,'Automation (QBO)'!A:B,2,FALSE)),"Suspense"))) -> Liability - Depostis Received | I5: =E5 -> -80477.4 | J5: =H5 -> Liability - Depostis Received
A6: 2025-01-01 | B6: Journal Entry | D6: 51320 Project Expense - Subcontractors | E6: -42300.53 | F6: =A6&B6&C6&D6&E6 -> 2025-01-01Journal Entry51320 Project Expense - Subcontractors-42300.53 | G6: =IFERROR((DATEVALUE(A6)),A6) -> 45658 | H6: =IF((IFERROR((VLOOKUP(D6,'Automation (QBO)'!A:B,2,FALSE)),"0"))=0,"Suspense",(IFERROR((VLOOKUP(D6,'Automation (QBO)'!A:B,2,FALSE)),"Suspense"))) -> Project Expense - Subcontractors | I6: =E6 -> -42300.53 | J6: =H6 -> Project Expense - Subcontractors
A7: 2025-01-01 | B7: Journal Entry | D7: 52110 Accounting | E7: -25122.73 | F7: =A7&B7&C7&D7&E7 -> 2025-01-01Journal Entry52110 Accounting-25122.73 | G7: =IFERROR((DATEVALUE(A7)),A7) -> 45658 | H7: =IF((IFERROR((VLOOKUP(D7,'Automation (QBO)'!A:B,2,FALSE)),"0"))=0,"Suspense",(IFERROR((VLOOKUP(D7,'Automation (QBO)'!A:B,2,FALSE)),"Suspense"))) -> Accounting | I7: =E7 -> -25122.73 | J7: =H7 -> Accounting
A8: 2025-01-01 | B8: Journal Entry | D8: 52135 Legal | E8: -5200.2 | F8: =A8&B8&C8&D8&E8 -> 2025-01-01Journal Entry52135 Legal-5200.2 | G8: =IFERROR((DATEVALUE(A8)),A8) -> 45658 | H8: =IF((IFERROR((VLOOKUP(D8,'Automation (QBO)'!A:B,2,FALSE)),"0"))=0,"Suspense",(IFERROR((VLOOKUP(D8,'Automation (QBO)'!A:B,2,FALSE)),"Suspense"))) -> Legal | I8: =E8 -> -5200.2 | J8: =H8 -> Legal
A9: 2025-01-01 | B9: Journal Entry | D9: 52210 Uniforms & Laundry | E9: -1433.94 | F9: =A9&B9&C9&D9&E9 -> 2025-01-01Journal Entry52210 Uniforms & Laundry-1433.94 | G9: =IFERROR((DATEVALUE(A9)),A9) -> 45658 | H9: =IF((IFERROR((VLOOKUP(D9,'Automation (QBO)'!A:B,2,FALSE)),"0"))=0,"Suspense",(IFERROR((VLOOKUP(D9,'Automation (QBO)'!A:B,2,FALSE)),"Suspense"))) -> Uniforms & Laundry | I9: =E9 -> -1433.94 | J9: =H9 -> Uniforms & Laundry
A10: 2025-01-01 | B10: Expense | C10: Microsoft Canada Inc | D10: 21010 Credit Card (CIBC Visa) | E10: 9.08 | F10: =A10&B10&C10&D10&E10 -> 2025-01-01ExpenseMicrosoft Canada Inc21010 Credit Card (CIBC Visa)9.08 | G10: =IFERROR((DATEVALUE(A10)),A10) -> 45658 | H10: =IF((IFERROR((VLOOKUP(D10,'Automation (QBO)'!A:B,2,FALSE)),"0"))=0,"Suspense",(IFERROR((VLOOKUP(D10,'Automation (QBO)'!A:B,2,FALSE)),"Suspense"))) -> Credit Card (CIBC Visa) | I10: =E10 -> 9.08 | J10: =H10 -> Credit Card (CIBC Visa)
A11: 2025-01-02 | B11: Expense | C11: Chambers of Commerce Group Insurance Plan | D11: 21020 GST/HST Payable | E11: 0 | F11: =A11&B11&C11&D11&E11 -> 2025-01-02ExpenseChambers of Commerce Group Insurance Plan21020 GST/HST Payable0 | G11: =IFERROR((DATEVALUE(A11)),A11) -> 45659 | H11: =IF((IFERROR((VLOOKUP(D11,'Automation (QBO)'!A:B,2,FALSE)),"0"))=0,"Suspense",(IFERROR((VLOOKUP(D11,'Automation (QBO)'!A:B,2,FALSE)),"Suspense"))) -> GST/HST Payable | I11: =E11 -> 0 | J11: =H11 -> GST/HST Payable
A12: 2025-01-02 | B12: Expense | C12: Insurance WayPoint Portfolio Inc. | D12: 52175 Insurance | E12: 1252.44 | F12: =A12&B12&C12&D12&E12 -> 2025-01-02ExpenseInsurance WayPoint Portfolio Inc.52175 Insurance1252.44 | G12: =IFERROR((DATEVALUE(A12)),A12) -> 45659 | H12: =IF((IFERROR((VLOOKUP(D12,'Automation (QBO)'!A:B,2,FALSE)),"0"))=0,"Suspense",(IFERROR((VLOOKUP(D12,'Automation (QBO)'!A:B,2,FALSE)),"Suspense"))) -> Insurance | I12: =E12 -> 1252.44 | J12: =H12 -> Insurance
A13: 2025-01-02 | B13: Expense | C13: Insurance WayPoint Portfolio Inc. | D13: 21020 GST/HST Payable | E13: 0 | F13: =A13&B13&C13&D13&E13 -> 2025-01-02ExpenseInsurance WayPoint Portfolio Inc.21020 GST/HST Payable0 | G13: =IFERROR((DATEVALUE(A13)),A13) -> 45659 | H13: =IF((IFERROR((VLOOKUP(D13,'Automation (QBO)'!A:B,2,FALSE)),"0"))=0,"Suspense",(IFERROR((VLOOKUP(D13,'Automation (QBO)'!A:B,2,FALSE)),"Suspense"))) -> GST/HST Payable | I13: =E13 -> 0 | J13: =H13 -> GST/HST Payable
A14: 2025-01-02 | B14: Expense | C14: CWS Engineering | D14: 51320 Project Expense - Subcontractors | E14: 3400 | F14: =A14&B14&C14&D14&E14 -> 2025-01-02ExpenseCWS Engineering51320 Project Expense - Subcontractors3400 | G14: =IFERROR((DATEVALUE(A14)),A14) -> 45659 | H14: =IF((IFERROR((VLOOKUP(D14,'Automation (QBO)'!A:B,2,FALSE)),"0"))=0,"Suspense",(IFERROR((VLOOKUP(D14,'Automation (QBO)'!A:B,2,FALSE)),"Suspense"))) -> Project Expense - Subcontractors | I14: =E14 -> 3400 | J14: =H14 -> Project Expense - Subcontractors
A15: 2025-01-02 | B15: Expense | C15: CWS Engineering | D15: 21020 GST/HST Payable | E15: -170 | F15: =A15&B15&C15&D15&E15 -> 2025-01-02ExpenseCWS Engineering21020 GST/HST Payable-170 | G15: =IFERROR((DATEVALUE(A15)),A15) -> 45659 | H15: =IF((IFERROR((VLOOKUP(D15,'Automation (QBO)'!A:B,2,FALSE)),"0"))=0,"Suspense",(IFERROR((VLOOKUP(D15,'Automation (QBO)'!A:B,2,FALSE)),"Suspense"))) -> GST/HST Payable | I15: =E15 -> -170 | J15: =H15 -> GST/HST Payable
A16: 2025-01-02 | B16: Expense | C16: CWS Engineering | D16: 51320 Project Expense - Subcontractors | E16: 2800 | F16: =A16&B16&C16&D16&E16 -> 2025-01-02ExpenseCWS Engineering51320 Project Expense - Subcontractors2800 | G16: =IFERROR((DATEVALUE(A16)),A16) -> 45659 | H16: =IF((IFERROR((VLOOKUP(D16,'Automation (QBO)'!A:B,2,FALSE)),"0"))=0,"Suspense",(IFERROR((VLOOKUP(D16,'Automation (QBO)'!A:B,2,FALSE)),"Suspense"))) -> Project Expense - Subcontractors | I16: =E16 -> 2800 | J16: =H16 -> Project Expense - Subcontractors
A17: 2025-01-02 | B17: Expense | C17: CWS Engineering | D17: 21020 GST/HST Payable | E17: -140 | F17: =A17&B17&C17&D17&E17 -> 2025-01-02ExpenseCWS Engineering21020 GST/HST Payable-140 | G17: =IFERROR((DATEVALUE(A17)),A17) -> 45659 | H17: =IF((IFERROR((VLOOKUP(D17,'Automation (QBO)'!A:B,2,FALSE)),"0"))=0,"Suspense",(IFERROR((VLOOKUP(D17,'Automation (QBO)'!A:B,2,FALSE)),"Suspense"))) -> GST/HST Payable | I17: =E17 -> -140 | J17: =H17 -> GST/HST Payable
