Workbook
Name Customer: #REF!
Name Regions: #REF!

Sheet Budget
C1: 45292 | D1: 45323 | E1: 45352 | F1: 45383 | G1: 45413 | H1: 45444 | I1: 45474 | J1: 45505 | K1: 45536 | L1: 45566 | M1: 45597 | N1: 45627 | O1: FY 24 | P1: 45658 | Q1: 45689 | R1: 45717 | S1: 45748 | T1: 45778 | U1: 45809 | V1: 45839 | W1: 45870 | X1: 45901 | Y1: 45931 | Z1: 45962 | AA1: 45992 | AB1: FY 24 | AD1: Budget | AF1: Variance
C2: M 01 | D2: M 02 | E2: M 03 | F2: M 04 | G2: M 05 | H2: M 06 | I2: M 07 | J2: M 08 | K2: M 09 | L2: M 10 | M2: M 11 | N2: M 12 | O2: Y 03 | P2: M 01 | Q2: M 02 | R2: M 03 | S2: M 04 | T2: M 05 | U2: M 06 | V2: M 07 | W2: M 08 | X2: M 09 | Y2: M 10 | Z2: M 11 | AA2: M 12 | AB2: Y 03 | AD2: 2025
A5: Income
A6: Project Income - Subcontractors | C6: {=( SUM(('Export (QBO)'!$G$2:$G$99999>=Budget!C$1)*('Export (QBO)'!$G$2:$G$99999<=((EOMONTH(Budget!C$1,0))))*('Export (QBO)'!$J$2:$J$99999=$A6)*('Export (QBO)'!$I$2:$I$99999)) )} -> 0 | D6: {=( SUM(('Export (QBO)'!$G$2:$G$99999>=Budget!D$1)*('Export (QBO)'!$G$2:$G$99999<=((EOMONTH(Budget!D$1,0))))*('Export (QBO)'!$J$2:$J$99999=$A6)*('Export (QBO)'!$I$2:$I$99999)) )} -> 0 | E6: {=( SUM(('Export (QBO)'!$G$2:$G$99999>=Budget!E$1)*('Export (QBO)'!$G$2:$G$99999<=((EOMONTH(Budget!E$1,0))))*('Export (QBO)'!$J$2:$J$99999=$A6)*('Export (QBO)'!$I$2:$I$99999)) )} -> 0 | F6: {=( SUM(('Export (QBO)'!$G$2:$G$99999>=Budget!F$1)*('Export (QBO)'!$G$2:$G$99999<=((EOMONTH(Budget!F$1,0))))*('Export (QBO)'!$J$2:$J$99999=$A6)*('Export (QBO)'!$I$2:$I$99999)) )} -> 0 | G6: {=( SUM(('Export (QBO)'!$G$2:$G$99999>=Budget!G$1)*('Export (QBO)'!$G$2:$G$99999<=((EOMONTH(Budget!G$1,0))))*('Export (QBO)'!$J$2:$J$99999=$A6)*('Export (QBO)'!$I$2:$I$99999)) )} -> 0 | H6: {=( SUM(('Export (QBO)'!$G$2:$G$99999>=Budget!H$1)*('Export (QBO)'!$G$2:$G$99999<=((EOMONTH(Budget!H$1,0))))*('Export (QBO)'!$J$2:$J$99999=$A6)*('Export (QBO)'!$I$2:$I$99999)) )} -> 0 | I6: {=( SUM(('Export (QBO)'!$G$2:$G$99999>=Budget!I$1)*('Export (QBO)'!$G$2:$G$99999<=((EOMONTH(Budget!I$1,0))))*('Export (QBO)'!$J$2:$J$99999=$A6)*('Export (QBO)'!$I$2:$I$99999)) )} -> 20418.38 | J6: {=( SUM(('Export (QBO)'!$G$2:$G$99999>=Budget!J$1)*('Export (QBO)'!$G$2:$G$99999<=((EOMONTH(Budget!J$1,0))))*('Export (QBO)'!$J$2:$J$99999=$A6)*('Export (QBO)'!$I$2:$I$99999)) )} -> 0 | ... N6: {=( SUM(('Export (QBO)'!$G$2:$G$99999>=Budget!N$1)*('Export (QBO)'!$G$2:$G$99999<=((EOMONTH(Budget!N$1,0))))*('Export (QBO)'!$J$2:$J$99999=$A6)*('Export (QBO)'!$I$2:$I$99999)) )} -> 0 | O6: =SUM(C6:N6) -> 20418.38 | P6: {=( SUM(('Export (QBO)'!$G$2:$G$99999>=Budget!P$1)*('Export (QBO)'!$G$2:$G$99999<=((EOMONTH(Budget!P$1,0))))*('Export (QBO)'!$J$2:$J$99999=$A6)*('Export (QBO)'!$I$2:$I$99999)) )} -> 8142.7 | Q6: {=( SUM(('Export (QBO)'!$G$2:$G$99999>=Budget!Q$1)*('Export (QBO)'!$G$2:$G$99999<=((EOMONTH(Budget!Q$1,0))))*('Export (QBO)'!$J$2:$J$99999=$A6)*('Export (QBO)'!$I$2:$I$99999)) )} -> 0 | R6: {=( SUM(('Export (QBO)'!$G$2:$G$99999>=Budget!R$1)*('Export (QBO)'!$G$2:$G$99999<=((EOMONTH(Budget!R$1,0))))*('Export (QBO)'!$J$2:$J$99999=$A6)*('Export (QBO)'!$I$2:$I$99999)) )} -> 0 | S6: {=( SUM(('Export (QBO)'!$G$2:$G$99999>=Budget!S$1)*('Export (QBO)'!$G$2:$G$99999<=((EOMONTH(Budget!S$1,0))))*('Export (QBO)'!$J$2:$J$99999=$A6)*('Export (QBO)'!$I$2:$I$99999)) )} -> 0 | T6: {=( SUM(('Export (QBO)'!$G$2:$G$99999>=Budget!T$1)*('Export (QBO)'!$G$2:$G$99999<=((EOMONTH(Budget!T$1,0))))*('Export (QBO)'!$J$2:$J$99999=$A6)*('Export (QBO)'!$I$2:$I$99999)) )} -> 0 | U6: {=( SUM(('Export (QBO)'!$G$2:$G$99999>=Budget!U$1)*('Export (QBO)'!$G$2:$G$99999<=((EOMONTH(Budget!U$1,0))))*('Export (QBO)'!$J$2:$J$99999=$A6)*('Export (QBO)'!$I$2:$I$99999)) )} -> 0 | V6: {=( SUM(('Export (QBO)'!$G$2:$G$99999>=Budget!V$1)*('Export (QBO)'!$G$2:$G$99999<=((EOMONTH(Budget!V$1,0))))*('Export (QBO)'!$J$2:$J$99999=$A6)*('Export (QBO)'!$I$2:$I$99999)) )} -> 0 | W6: {=( SUM(('Export (QBO)'!$G$2:$G$99999>=Budget!W$1)*('Export (QBO)'!$G$2:$G$99999<=((EOMONTH(Budget!W$1,0))))*('Export (QBO)'!$J$2:$J$99999=$A6)*('Export (QBO)'!$I$2:$I$99999)) )} -> 0 | ... AA6: {=( SUM(('Export (QBO)'!$G$2:$G$99999>=Budget!AA$1)*('Export (QBO)'!$G$2:$G$99999<=((EOMONTH(Budget!AA$1,0))))*('Export (QBO)'!$J$2:$J$99999=$A6)*('Export (QBO)'!$I$2:$I$99999)) )} -> 0 | AB6: =SUM(P6:AA6) -> 8142.7
A7: Project Income - Materials | C7: {=( SUM(('Export (QBO)'!$G$2:$G$99999>=Budget!C$1)*('Export (QBO)'!$G$2:$G$99999<=((EOMONTH(Budget!C$1,0))))*('Export (QBO)'!$J$2:$J$99999=$A7)*('Export (QBO)'!$I$2:$I$99999)) )} -> 0 | D7: {=( SUM(('Export (QBO)'!$G$2:$G$99999>=Budget!D$1)*('Export (QBO)'!$G$2:$G$99999<=((EOMONTH(Budget!D$1,0))))*('Export (QBO)'!$J$2:$J$99999=$A7)*('Export (QBO)'!$I$2:$I$99999)) )} -> 0 | E7: {=( SUM(('Export (QBO)'!$G$2:$G$99999>=Budget!E$1)*('Export (QBO)'!$G$2:$G$99999<=((EOMONTH(Budget!E$1,0))))*('Export (QBO)'!$J$2:$J$99999=$A7)*('Export (QBO)'!$I$2:$I$99999)) )} -> 0 | F7: {=( SUM(('Export (QBO)'!$G$2:$G$99999>=Budget!F$1)*('Export (QBO)'!$G$2:$G$99999<=((EOMONTH(Budget!F$1,0))))*('Export (QBO)'!$J$2:$J$99999=$A7)*('Export (QBO)'!$I$2:$I$99999)) )} -> 0 | G7: {=( SUM(('Export (QBO)'!$G$2:$G$99999>=Budget!G$1)*('Export (QBO)'!$G$2:$G$99999<=((EOMONTH(Budget!G$1,0))))*('Export (QBO)'!$J$2:$J$99999=$A7)*('Export (QBO)'!$I$2:$I$99999)) )} -> 0 | H7: {=( SUM(('Export (QBO)'!$G$2:$G$99999>=Budget!H$1)*('Export (QBO)'!$G$2:$G$99999<=((EOMONTH(Budget!H$1,0))))*('Export (QBO)'!$J$2:$J$99999=$A7)*('Export (QBO)'!$I$2:$I$99999)) )} -> 0 | I7: {=( SUM(('Export (QBO)'!$G$2:$G$99999>=Budget!I$1)*('Export (QBO)'!$G$2:$G$99999<=((EOMONTH(Budget!I$1,0))))*('Export (QBO)'!$J$2:$J$99999=$A7)*('Export (QBO)'!$I$2:$I$99999)) )} -> 5592.03 | J7: {=( SUM(('Export (QBO)'!$G$2:$G$99999>=Budget!J$1)*('Export (QBO)'!$G$2:$G$99999<=((EOMONTH(Budget!J$1,0))))*('Export (QBO)'!$J$2:$J$99999=$A7)*('Export (QBO)'!$I$2:$I$99999)) )} -> 524.32 | ... N7: {=( SUM(('Export (QBO)'!$G$2:$G$99999>=Budget!N$1)*('Export (QBO)'!$G$2:$G$99999<=((EOMONTH(Budget!N$1,0))))*('Export (QBO)'!$J$2:$J$99999=$A7)*('Export (QBO)'!$I$2:$I$99999)) )} -> 10240.18 | O7: =SUM(C7:N7) -> 26805.13 | P7: {=( SUM(('Export (QBO)'!$G$2:$G$99999>=Budget!P$1)*('Export (QBO)'!$G$2:$G$99999<=((EOMONTH(Budget!P$1,0))))*('Export (QBO)'!$J$2:$J$99999=$A7)*('Export (QBO)'!$I$2:$I$99999)) )} -> 5825.32 | Q7: {=( SUM(('Export (QBO)'!$G$2:$G$99999>=Budget!Q$1)*('Export (QBO)'!$G$2:$G$99999<=((EOMONTH(Budget!Q$1,0))))*('Export (QBO)'!$J$2:$J$99999=$A7)*('Export (QBO)'!$I$2:$I$99999)) )} -> 0 | R7: {=( SUM(('Export (QBO)'!$G$2:$G$99999>=Budget!R$1)*('Export (QBO)'!$G$2:$G$99999<=((EOMONTH(Budget!R$1,0))))*('Export (QBO)'!$J$2:$J$99999=$A7)*('Export (QBO)'!$I$2:$I$99999)) )} -> 0 | S7: {=( SUM(('Export (QBO)'!$G$2:$G$99999>=Budget!S$1)*('Export (QBO)'!$G$2:$G$99999<=((EOMONTH(Budget!S$1,0))))*('Export (QBO)'!$J$2:$J$99999=$A7)*('Export (QBO)'!$I$2:$I$99999)) )} -> 0 | T7: {=( SUM(('Export (QBO)'!$G$2:$G$99999>=Budget!T$1)*('Export (QBO)'!$G$2:$G$99999<=((EOMONTH(Budget!T$1,0))))*('Export (QBO)'!$J$2:$J$99999=$A7)*('Export (QBO)'!$I$2:$I$99999)) )} -> 0 | U7: {=( SUM(('Export (QBO)'!$G$2:$G$99999>=Budget!U$1)*('Export (QBO)'!$G$2:$G$99999<=((EOMONTH(Budget!U$1,0))))*('Export (QBO)'!$J$2:$J$99999=$A7)*('Export (QBO)'!$I$2:$I$99999)) )} -> 0 | V7: {=( SUM(('Export (QBO)'!$G$2:$G$99999>=Budget!V$1)*('Export (QBO)'!$G$2:$G$99999<=((EOMONTH(Budget!V$1,0))))*('Export (QBO)'!$J$2:$J$99999=$A7)*('Export (QBO)'!$I$2:$I$99999)) )} -> 0 | W7: {=( SUM(('Export (QBO)'!$G$2:$G$99999>=Budget!W$1)*('Export (QBO)'!$G$2:$G$99999<=((EOMONTH(Budget!W$1,0))))*('Export (QBO)'!$J$2:$J$99999=$A7)*('Export (QBO)'!$I$2:$I$99999)) )} -> 0 | ... AA7: {=( SUM(('Export (QBO)'!$G$2:$G$99999>=Budget!AA$1)*('Export (QBO)'!$G$2:$G$99999<=((EOMONTH(Budget!AA$1,0))))*('Export (QBO)'!$J$2:$J$99999=$A7)*('Export (QBO)'!$I$2:$I$99999)) )} -> 0 | AB7: =SUM(P7:AA7) -> 5825.32
A8: Labour Income - Consulting | C8: {=( SUM(('Export (QBO)'!$G$2:$G$99999>=Budget!C$1)*('Export (QBO)'!$G$2:$G$99999<=((EOMONTH(Budget!C$1,0))))*('Export (QBO)'!$J$2:$J$99999=$A8)*('Export (QBO)'!$I$2:$I$99999)) )} -> 0 | D8: {=( SUM(('Export (QBO)'!$G$2:$G$99999>=Budget!D$1)*('Export (QBO)'!$G$2:$G$99999<=((EOMONTH(Budget!D$1,0))))*('Export (QBO)'!$J$2:$J$99999=$A8)*('Export (QBO)'!$I$2:$I$99999)) )} -> 0 | E8: {=( SUM(('Export (QBO)'!$G$2:$G$99999>=Budget!E$1)*('Export (QBO)'!$G$2:$G$99999<=((EOMONTH(Budget!E$1,0))))*('Export (QBO)'!$J$2:$J$99999=$A8)*('Export (QBO)'!$I$2:$I$99999)) )} -> 0 | F8: {=( SUM(('Export (QBO)'!$G$2:$G$99999>=Budget!F$1)*('Export (QBO)'!$G$2:$G$99999<=((EOMONTH(Budget!F$1,0))))*('Export (QBO)'!$J$2:$J$99999=$A8)*('Export (QBO)'!$I$2:$I$99999)) )} -> 0 | G8: {=( SUM(('Export (QBO)'!$G$2:$G$99999>=Budget!G$1)*('Export (QBO)'!$G$2:$G$99999<=((EOMONTH(Budget!G$1,0))))*('Export (QBO)'!$J$2:$J$99999=$A8)*('Export (QBO)'!$I$2:$I$99999)) )} -> 0 | H8: {=( SUM(('Export (QBO)'!$G$2:$G$99999>=Budget!H$1)*('Export (QBO)'!$G$2:$G$99999<=((EOMONTH(Budget!H$1,0))))*('Export (QBO)'!$J$2:$J$99999=$A8)*('Export (QBO)'!$I$2:$I$99999)) )} -> 0 | I8: {=( SUM(('Export (QBO)'!$G$2:$G$99999>=Budget!I$1)*('Export (QBO)'!$G$2:$G$99999<=((EOMONTH(Budget!I$1,0))))*('Export (QBO)'!$J$2:$J$99999=$A8)*('Export (QBO)'!$I$2:$I$99999)) )} -> 0 | J8: {=( SUM(('Export (QBO)'!$G$2:$G$99999>=Budget!J$1)*('Export (QBO)'!$G$2:$G$99999<=((EOMONTH(Budget!J$1,0))))*('Export (QBO)'!$J$2:$J$99999=$A8)*('Export (QBO)'!$I$2:$I$99999)) )} -> 0 | ... N8: {=( SUM(('Export (QBO)'!$G$2:$G$99999>=Budget!N$1)*('Export (QBO)'!$G$2:$G$99999<=((EOMONTH(Budget!N$1,0))))*('Export (QBO)'!$J$2:$J$99999=$A8)*('Export (QBO)'!$I$2:$I$99999)) )} -> 0 | O8: =SUM(C8:N8) -> 0 | P8: {=( SUM(('Export (QBO)'!$G$2:$G$99999>=Budget!P$1)*('Export (QBO)'!$G$2:$G$99999<=((EOMONTH(Budget!P$1,0))))*('Export (QBO)'!$J$2:$J$99999=$A8)*('Export (QBO)'!$I$2:$I$99999)) )} -> 0 | Q8: {=( SUM(('Export (QBO)'!$G$2:$G$99999>=Budget!Q$1)*('Export (QBO)'!$G$2:$G$99999<=((EOMONTH(Budget!Q$1,0))))*('Export (QBO)'!$J$2:$J$99999=$A8)*('Export (QBO)'!$I$2:$I$99999)) )} -> 0 | R8: {=( SUM(('Export (QBO)'!$G$2:$G$99999>=Budget!R$1)*('Export (QBO)'!$G$2:$G$99999<=((EOMONTH(Budget!R$1,0))))*('Export (QBO)'!$J$2:$J$99999=$A8)*('Export (QBO)'!$I$2:$I$99999)) )} -> 0 | S8: {=( SUM(('Export (QBO)'!$G$2:$G$99999>=Budget!S$1)*('Export (QBO)'!$G$2:$G$99999<=((EOMONTH(Budget!S$1,0))))*('Export (QBO)'!$J$2:$J$99999=$A8)*('Export (QBO)'!$I$2:$I$99999)) )} -> 0 | T8: {=( SUM(('Export (QBO)'!$G$2:$G$99999>=Budget!T$1)*('Export (QBO)'!$G$2:$G$99999<=((EOMONTH(Budget!T$1,0))))*('Export (QBO)'!$J$2:$J$99999=$A8)*('Export (QBO)'!$I$2:$I$99999)) )} -> 0 | U8: {=( SUM(('Export (QBO)'!$G$2:$G$99999>=Budget!U$1)*('Export (QBO)'!$G$2:$G$99999<=((EOMONTH(Budget!U$1,0))))*('Export (QBO)'!$J$2:$J$99999=$A8)*('Export (QBO)'!$I$2:$I$99999)) )} -> 0 | V8: {=( SUM(('Export (QBO)'!$G$2:$G$99999>=Budget!V$1)*('Export (QBO)'!$G$2:$G$99999<=((EOMONTH(Budget!V$1,0))))*('Export (QBO)'!$J$2:$J$99999=$A8)*('Export (QBO)'!$I$2:$I$99999)) )} -> 0 | W8: {=( SUM(('Export (QBO)'!$G$2:$G$99999>=Budget!W$1)*('Export (QBO)'!$G$2:$G$99999<=((EOMONTH(Budget!W$1,0))))*('Export (QBO)'!$J$2:$J$99999=$A8)*('Export (QBO)'!$I$2:$I$99999)) )} -> 0 | ... AA8: {=( SUM(('Export (QBO)'!$G$2:$G$99999>=Budget!AA$1)*('Export (QBO)'!$G$2:$G$99999<=((EOMONTH(Budget!AA$1,0))))*('Export (QBO)'!$J$2:$J$99999=$A8)*('Export (QBO)'!$I$2:$I$99999)) )} -> 0 | AB8: =SUM(P8:AA8) -> 0
A9: Labour - Management ($) | C9: {=( SUM(('Export (QBO)'!$G$2:$G$99999>=Budget!C$1)*('Export (QBO)'!$G$2:$G$99999<=((EOMONTH(Budget!C$1,0))))*('Export (QBO)'!$J$2:$J$99999=$A9)*('Export (QBO)'!$I$2:$I$99999)) )} -> 59893.36 | D9: {=( SUM(('Export (QBO)'!$G$2:$G$99999>=Budget!D$1)*('Export (QBO)'!$G$2:$G$99999<=((EOMONTH(Budget!D$1,0))))*('Export (QBO)'!$J$2:$J$99999=$A9)*('Export (QBO)'!$I$2:$I$99999)) )} -> 659276.28 | E9: {=( SUM(('Export (QBO)'!$G$2:$G$99999>=Budget!E$1)*('Export (QBO)'!$G$2:$G$99999<=((EOMONTH(Budget!E$1,0))))*('Export (QBO)'!$J$2:$J$99999=$A9)*('Export (QBO)'!$I$2:$I$99999)) )} -> 306000 | F9: {=( SUM(('Export (QBO)'!$G$2:$G$99999>=Budget!F$1)*('Export (QBO)'!$G$2:$G$99999<=((EOMONTH(Budget!F$1,0))))*('Export (QBO)'!$J$2:$J$99999=$A9)*('Export (QBO)'!$I$2:$I$99999)) )} -> 336993.54 | G9: {=( SUM(('Export (QBO)'!$G$2:$G$99999>=Budget!G$1)*('Export (QBO)'!$G$2:$G$99999<=((EOMONTH(Budget!G$1,0))))*('Export (QBO)'!$J$2:$J$99999=$A9)*('Export (QBO)'!$I$2:$I$99999)) )} -> 60012.1 | H9: {=( SUM(('Export (QBO)'!$G$2:$G$99999>=Budget!H$1)*('Export (QBO)'!$G$2:$G$99999<=((EOMONTH(Budget!H$1,0))))*('Export (QBO)'!$J$2:$J$99999=$A9)*('Export (QBO)'!$I$2:$I$99999)) )} -> 79191.12 | I9: {=( SUM(('Export (QBO)'!$G$2:$G$99999>=Budget!I$1)*('Export (QBO)'!$G$2:$G$99999<=((EOMONTH(Budget!I$1,0))))*('Export (QBO)'!$J$2:$J$99999=$A9)*('Export (QBO)'!$I$2:$I$99999)) )} -> 228778.35 | J9: {=( SUM(('Export (QBO)'!$G$2:$G$99999>=Budget!J$1)*('Export (QBO)'!$G$2:$G$99999<=((EOMONTH(Budget!J$1,0))))*('Export (QBO)'!$J$2:$J$99999=$A9)*('Export (QBO)'!$I$2:$I$99999)) )} -> 321039.12 | ... N9: {=( SUM(('Export (QBO)'!$G$2:$G$99999>=Budget!N$1)*('Export (QBO)'!$G$2:$G$99999<=((EOMONTH(Budget!N$1,0))))*('Export (QBO)'!$J$2:$J$99999=$A9)*('Export (QBO)'!$I$2:$I$99999)) )} -> 166950.3 | O9: =SUM(C9:N9) -> 3951538.2 | P9: {=( SUM(('Export (QBO)'!$G$2:$G$99999>=Budget!P$1)*('Export (QBO)'!$G$2:$G$99999<=((EOMONTH(Budget!P$1,0))))*('Export (QBO)'!$J$2:$J$99999=$A9)*('Export (QBO)'!$I$2:$I$99999)) )} -> 0 | Q9: {=( SUM(('Export (QBO)'!$G$2:$G$99999>=Budget!Q$1)*('Export (QBO)'!$G$2:$G$99999<=((EOMONTH(Budget!Q$1,0))))*('Export (QBO)'!$J$2:$J$99999=$A9)*('Export (QBO)'!$I$2:$I$99999)) )} -> 0 | R9: {=( SUM(('Export (QBO)'!$G$2:$G$99999>=Budget!R$1)*('Export (QBO)'!$G$2:$G$99999<=((EOMONTH(Budget!R$1,0))))*('Export (QBO)'!$J$2:$J$99999=$A9)*('Export (QBO)'!$I$2:$I$99999)) )} -> 0 | S9: {=( SUM(('Export (QBO)'!$G$2:$G$99999>=Budget!S$1)*('Export (QBO)'!$G$2:$G$99999<=((EOMONTH(Budget!S$1,0))))*('Export (QBO)'!$J$2:$J$99999=$A9)*('Export (QBO)'!$I$2:$I$99999)) )} -> 0 | T9: {=( SUM(('Export (QBO)'!$G$2:$G$99999>=Budget!T$1)*('Export (QBO)'!$G$2:$G$99999<=((EOMONTH(Budget!T$1,0))))*('Export (QBO)'!$J$2:$J$99999=$A9)*('Export (QBO)'!$I$2:$I$99999)) )} -> 0 | U9: {=( SUM(('Export (QBO)'!$G$2:$G$99999>=Budget!U$1)*('Export (QBO)'!$G$2:$G$99999<=((EOMONTH(Budget!U$1,0))))*('Export (QBO)'!$J$2:$J$99999=$A9)*('Export (QBO)'!$I$2:$I$99999)) )} -> 0 | V9: {=( SUM(('Export (QBO)'!$G$2:$G$99999>=Budget!V$1)*('Export (QBO)'!$G$2:$G$99999<=((EOMONTH(Budget!V$1,0))))*('Export (QBO)'!$J$2:$J$99999=$A9)*('Export (QBO)'!$I$2:$I$99999)) )} -> 0 | W9: {=( SUM(('Export (QBO)'!$G$2:$G$99999>=Budget!W$1)*('Export (QBO)'!$G$2:$G$99999<=((EOMONTH(Budget!W$1,0))))*('Export (QBO)'!$J$2:$J$99999=$A9)*('Export (QBO)'!$I$2:$I$99999)) )} -> 0 | ... AA9: {=( SUM(('Export (QBO)'!$G$2:$G$99999>=Budget!AA$1)*('Export (QBO)'!$G$2:$G$99999<=((EOMONTH(Budget!AA$1,0))))*('Export (QBO)'!$J$2:$J$99999=$A9)*('Export (QBO)'!$I$2:$I$99999)) )} -> 0 | AB9: =SUM(P9:AA9) -> 0
A10: Labour - General ($) | C10: {=( SUM(('Export (QBO)'!$G$2:$G$99999>=Budget!C$1)*('Export (QBO)'!$G$2:$G$99999<=((EOMONTH(Budget!C$1,0))))*('Export (QBO)'!$J$2:$J$99999=$A10)*('Export (QBO)'!$I$2:$I$99999)) )} -> 0 | D10: {=( SUM(('Export (QBO)'!$G$2:$G$99999>=Budget!D$1)*('Export (QBO)'!$G$2:$G$99999<=((EOMONTH(Budget!D$1,0))))*('Export (QBO)'!$J$2:$J$99999=$A10)*('Export (QBO)'!$I$2:$I$99999)) )} -> 0 | E10: {=( SUM(('Export (QBO)'!$G$2:$G$99999>=Budget!E$1)*('Export (QBO)'!$G$2:$G$99999<=((EOMONTH(Budget!E$1,0))))*('Export (QBO)'!$J$2:$J$99999=$A10)*('Export (QBO)'!$I$2:$I$99999)) )} -> 0 | F10: {=( SUM(('Export (QBO)'!$G$2:$G$99999>=Budget!F$1)*('Export (QBO)'!$G$2:$G$99999<=((EOMONTH(Budget!F$1,0))))*('Export (QBO)'!$J$2:$J$99999=$A10)*('Export (QBO)'!$I$2:$I$99999)) )} -> 0 | G10: {=( SUM(('Export (QBO)'!$G$2:$G$99999>=Budget!G$1)*('Export (QBO)'!$G$2:$G$99999<=((EOMONTH(Budget!G$1,0))))*('Export (QBO)'!$J$2:$J$99999=$A10)*('Export (QBO)'!$I$2:$I$99999)) )} -> 0 | H10: {=( SUM(('Export (QBO)'!$G$2:$G$99999>=Budget!H$1)*('Export (QBO)'!$G$2:$G$99999<=((EOMONTH(Budget!H$1,0))))*('Export (QBO)'!$J$2:$J$99999=$A10)*('Export (QBO)'!$I$2:$I$99999)) )} -> 0 | I10: {=( SUM(('Export (QBO)'!$G$2:$G$99999>=Budget!I$1)*('Export (QBO)'!$G$2:$G$99999<=((EOMONTH(Budget!I$1,0))))*('Export (QBO)'!$J$2:$J$99999=$A10)*('Export (QBO)'!$I$2:$I$99999)) )} -> 0 | J10: {=( SUM(('Export (QBO)'!$G$2:$G$99999>=Budget!J$1)*('Export (QBO)'!$G$2:$G$99999<=((EOMONTH(Budget!J$1,0))))*('Export (QBO)'!$J$2:$J$99999=$A10)*('Export (QBO)'!$I$2:$I$99999)) )} -> 0 | ... N10: {=( SUM(('Export (QBO)'!$G$2:$G$99999>=Budget!N$1)*('Export (QBO)'!$G$2:$G$99999<=((EOMONTH(Budget!N$1,0))))*('Export (QBO)'!$J$2:$J$99999=$A10)*('Export (QBO)'!$I$2:$I$99999)) )} -> 0 | O10: =SUM(C10:N10) -> 0 | P10: {=( SUM(('Export (QBO)'!$G$2:$G$99999>=Budget!P$1)*('Export (QBO)'!$G$2:$G$99999<=((EOMONTH(Budget!P$1,0))))*('Export (QBO)'!$J$2:$J$99999=$A10)*('Export (QBO)'!$I$2:$I$99999)) )} -> 32305 | Q10: {=( SUM(('Export (QBO)'!$G$2:$G$99999>=Budget!Q$1)*('Export (QBO)'!$G$2:$G$99999<=((EOMONTH(Budget!Q$1,0))))*('Export (QBO)'!$J$2:$J$99999=$A10)*('Export (QBO)'!$I$2:$I$99999)) )} -> 0 | R10: {=( SUM(('Export (QBO)'!$G$2:$G$99999>=Budget!R$1)*('Export (QBO)'!$G$2:$G$99999<=((EOMONTH(Budget!R$1,0))))*('Export (QBO)'!$J$2:$J$99999=$A10)*('Export (QBO)'!$I$2:$I$99999)) )} -> 0 | S10: {=( SUM(('Export (QBO)'!$G$2:$G$99999>=Budget!S$1)*('Export (QBO)'!$G$2:$G$99999<=((EOMONTH(Budget!S$1,0))))*('Export (QBO)'!$J$2:$J$99999=$A10)*('Export (QBO)'!$I$2:$I$99999)) )} -> 0 | T10: {=( SUM(('Export (QBO)'!$G$2:$G$99999>=Budget!T$1)*('Export (QBO)'!$G$2:$G$99999<=((EOMONTH(Budget!T$1,0))))*('Export (QBO)'!$J$2:$J$99999=$A10)*('Export (QBO)'!$I$2:$I$99999)) )} -> 0 | U10: {=( SUM(('Export (QBO)'!$G$2:$G$99999>=Budget!U$1)*('Export (QBO)'!$G$2:$G$99999<=((EOMONTH(Budget!U$1,0))))*('Export (QBO)'!$J$2:$J$99999=$A10)*('Export (QBO)'!$I$2:$I$99999)) )} -> 0 | V10: {=( SUM(('Export (QBO)'!$G$2:$G$99999>=Budget!V$1)*('Export (QBO)'!$G$2:$G$99999<=((EOMONTH(Budget!V$1,0))))*('Export (QBO)'!$J$2:$J$99999=$A10)*('Export (QBO)'!$I$2:$I$99999)) )} -> 0 | W10: {=( SUM(('Export (QBO)'!$G$2:$G$99999>=Budget!W$1)*('Export (QBO)'!$G$2:$G$99999<=((EOMONTH(Budget!W$1,0))))*('Export (QBO)'!$J$2:$J$99999=$A10)*('Export (QBO)'!$I$2:$I$99999)) )} -> 0 | ... AA10: {=( SUM(('Export (QBO)'!$G$2:$G$99999>=Budget!AA$1)*('Export (QBO)'!$G$2:$G$99999<=((EOMONTH(Budget!AA$1,0))))*('Export (QBO)'!$J$2:$J$99999=$A10)*('Export (QBO)'!$I$2:$I$99999)) )} -> 0 | AB10: =SUM(P10:AA10) -> 32305
A11: Labour - Margin (20%) | C11: {=( SUM(('Export (QBO)'!$G$2:$G$99999>=Budget!C$1)*('Export (QBO)'!$G$2:$G$99999<=((EOMONTH(Budget!C$1,0))))*('Export (QBO)'!$J$2:$J$99999=$A11)*('Export (QBO)'!$I$2:$I$99999)) )} -> 0 | D11: {=( SUM(('Export (QBO)'!$G$2:$G$99999>=Budget!D$1)*('Export (QBO)'!$G$2:$G$99999<=((EOMONTH(Budget!D$1,0))))*('Export (QBO)'!$J$2:$J$99999=$A11)*('Export (QBO)'!$I$2:$I$99999)) )} -> 0 | E11: {=( SUM(('Export (QBO)'!$G$2:$G$99999>=Budget!E$1)*('Export (QBO)'!$G$2:$G$99999<=((EOMONTH(Budget!E$1,0))))*('Export (QBO)'!$J$2:$J$99999=$A11)*('Export (QBO)'!$I$2:$I$99999)) )} -> 0 | F11: {=( SUM(('Export (QBO)'!$G$2:$G$99999>=Budget!F$1)*('Export (QBO)'!$G$2:$G$99999<=((EOMONTH(Budget!F$1,0))))*('Export (QBO)'!$J$2:$J$99999=$A11)*('Export (QBO)'!$I$2:$I$99999)) )} -> 0 | G11: {=( SUM(('Export (QBO)'!$G$2:$G$99999>=Budget!G$1)*('Export (QBO)'!$G$2:$G$99999<=((EOMONTH(Budget!G$1,0))))*('Export (QBO)'!$J$2:$J$99999=$A11)*('Export (QBO)'!$I$2:$I$99999)) )} -> 0 | H11: {=( SUM(('Export (QBO)'!$G$2:$G$99999>=Budget!H$1)*('Export (QBO)'!$G$2:$G$99999<=((EOMONTH(Budget!H$1,0))))*('Export (QBO)'!$J$2:$J$99999=$A11)*('Export (QBO)'!$I$2:$I$99999)) )} -> 0 | I11: {=( SUM(('Export (QBO)'!$G$2:$G$99999>=Budget!I$1)*('Export (QBO)'!$G$2:$G$99999<=((EOMONTH(Budget!I$1,0))))*('Export (QBO)'!$J$2:$J$99999=$A11)*('Export (QBO)'!$I$2:$I$99999)) )} -> 0 | J11: {=( SUM(('Export (QBO)'!$G$2:$G$99999>=Budget!J$1)*('Export (QBO)'!$G$2:$G$99999<=((EOMONTH(Budget!J$1,0))))*('Export (QBO)'!$J$2:$J$99999=$A11)*('Export (QBO)'!$I$2:$I$99999)) )} -> 0 | ... N11: {=( SUM(('Export (QBO)'!$G$2:$G$99999>=Budget!N$1)*('Export (QBO)'!$G$2:$G$99999<=((EOMONTH(Budget!N$1,0))))*('Export (QBO)'!$J$2:$J$99999=$A11)*('Export (QBO)'!$I$2:$I$99999)) )} -> 0 | O11: =SUM(C11:N11) -> 0 | P11: {=( SUM(('Export (QBO)'!$G$2:$G$99999>=Budget!P$1)*('Export (QBO)'!$G$2:$G$99999<=((EOMONTH(Budget!P$1,0))))*('Export (QBO)'!$J$2:$J$99999=$A11)*('Export (QBO)'!$I$2:$I$99999)) )} -> 0 | Q11: {=( SUM(('Export (QBO)'!$G$2:$G$99999>=Budget!Q$1)*('Export (QBO)'!$G$2:$G$99999<=((EOMONTH(Budget!Q$1,0))))*('Export (QBO)'!$J$2:$J$99999=$A11)*('Export (QBO)'!$I$2:$I$99999)) )} -> 0 | R11: {=( SUM(('Export (QBO)'!$G$2:$G$99999>=Budget!R$1)*('Export (QBO)'!$G$2:$G$99999<=((EOMONTH(Budget!R$1,0))))*('Export (QBO)'!$J$2:$J$99999=$A11)*('Export (QBO)'!$I$2:$I$99999)) )} -> 0 | S11: {=( SUM(('Export (QBO)'!$G$2:$G$99999>=Budget!S$1)*('Export (QBO)'!$G$2:$G$99999<=((EOMONTH(Budget!S$1,0))))*('Export (QBO)'!$J$2:$J$99999=$A11)*('Export (QBO)'!$I$2:$I$99999)) )} -> 0 | T11: {=( SUM(('Export (QBO)'!$G$2:$G$99999>=Budget!T$1)*('Export (QBO)'!$G$2:$G$99999<=((EOMONTH(Budget!T$1,0))))*('Export (QBO)'!$J$2:$J$99999=$A11)*('Export (QBO)'!$I$2:$I$99999)) )} -> 0 | U11: {=( SUM(('Export (QBO)'!$G$2:$G$99999>=Budget!U$1)*('Export (QBO)'!$G$2:$G$99999<=((EOMONTH(Budget!U$1,0))))*('Export (QBO)'!$J$2:$J$99999=$A11)*('Export (QBO)'!$I$2:$I$99999)) )} -> 0 | V11: {=( SUM(('Export (QBO)'!$G$2:$G$99999>=Budget!V$1)*('Export (QBO)'!$G$2:$G$99999<=((EOMONTH(Budget!V$1,0))))*('Export (QBO)'!$J$2:$J$99999=$A11)*('Export (QBO)'!$I$2:$I$99999)) )} -> 0 | W11: {=( SUM(('Export (QBO)'!$G$2:$G$99999>=Budget!W$1)*('Export (QBO)'!$G$2:$G$99999<=((EOMONTH(Budget!W$1,0))))*('Export (QBO)'!$J$2:$J$99999=$A11)*('Export (QBO)'!$I$2:$I$99999)) )} -> 0 | ... AA11: {=( SUM(('Export (QBO)'!$G$2:$G$99999>=Budget!AA$1)*('Export (QBO)'!$G$2:$G$99999<=((EOMONTH(Budget!AA$1,0))))*('Export (QBO)'!$J$2:$J$99999=$A11)*('Export (QBO)'!$I$2:$I$99999)) )} -> 0 | AB11: =SUM(P11:AA11) -> 0
A12: Miscellaneous Income | C12: {=( SUM(('Export (QBO)'!$G$2:$G$99999>=Budget!C$1)*('Export (QBO)'!$G$2:$G$99999<=((EOMONTH(Budget!C$1,0))))*('Export (QBO)'!$J$2:$J$99999=$A12)*('Export (QBO)'!$I$2:$I$99999)) )} -> 0 | D12: {=( SUM(('Export (QBO)'!$G$2:$G$99999>=Budget!D$1)*('Export (QBO)'!$G$2:$G$99999<=((EOMONTH(Budget!D$1,0))))*('Export (QBO)'!$J$2:$J$99999=$A12)*('Export (QBO)'!$I$2:$I$99999)) )} -> 0 | E12: {=( SUM(('Export (QBO)'!$G$2:$G$99999>=Budget!E$1)*('Export (QBO)'!$G$2:$G$99999<=((EOMONTH(Budget!E$1,0))))*('Export (QBO)'!$J$2:$J$99999=$A12)*('Export (QBO)'!$I$2:$I$99999)) )} -> 0 | F12: {=( SUM(('Export (QBO)'!$G$2:$G$99999>=Budget!F$1)*('Export (QBO)'!$G$2:$G$99999<=((EOMONTH(Budget!F$1,0))))*('Export (QBO)'!$J$2:$J$99999=$A12)*('Export (QBO)'!$I$2:$I$99999)) )} -> 0.3 | G12: {=( SUM(('Export (QBO)'!$G$2:$G$99999>=Budget!G$1)*('Export (QBO)'!$G$2:$G$99999<=((EOMONTH(Budget!G$1,0))))*('Export (QBO)'!$J$2:$J$99999=$A12)*('Export (QBO)'!$I$2:$I$99999)) )} -> 0 | H12: {=( SUM(('Export (QBO)'!$G$2:$G$99999>=Budget!H$1)*('Export (QBO)'!$G$2:$G$99999<=((EOMONTH(Budget!H$1,0))))*('Export (QBO)'!$J$2:$J$99999=$A12)*('Export (QBO)'!$I$2:$I$99999)) )} -> 0 | I12: {=( SUM(('Export (QBO)'!$G$2:$G$99999>=Budget!I$1)*('Export (QBO)'!$G$2:$G$99999<=((EOMONTH(Budget!I$1,0))))*('Export (QBO)'!$J$2:$J$99999=$A12)*('Export (QBO)'!$I$2:$I$99999)) )} -> 0 | J12: {=( SUM(('Export (QBO)'!$G$2:$G$99999>=Budget!J$1)*('Export (QBO)'!$G$2:$G$99999<=((EOMONTH(Budget!J$1,0))))*('Export (QBO)'!$J$2:$J$99999=$A12)*('Export (QBO)'!$I$2:$I$99999)) )} -> 0 | ... N12: {=( SUM(('Export (QBO)'!$G$2:$G$99999>=Budget!N$1)*('Export (QBO)'!$G$2:$G$99999<=((EOMONTH(Budget!N$1,0))))*('Export (QBO)'!$J$2:$J$99999=$A12)*('Export (QBO)'!$I$2:$I$99999)) )} -> 0 | O12: =SUM(C12:N12) -> 0.3 | P12: {=( SUM(('Export (QBO)'!$G$2:$G$99999>=Budget!P$1)*('Export (QBO)'!$G$2:$G$99999<=((EOMONTH(Budget!P$1,0))))*('Export (QBO)'!$J$2:$J$99999=$A12)*('Export (QBO)'!$I$2:$I$99999)) )} -> 0 | Q12: {=( SUM(('Export (QBO)'!$G$2:$G$99999>=Budget!Q$1)*('Export (QBO)'!$G$2:$G$99999<=((EOMONTH(Budget!Q$1,0))))*('Export (QBO)'!$J$2:$J$99999=$A12)*('Export (QBO)'!$I$2:$I$99999)) )} -> 0 | R12: {=( SUM(('Export (QBO)'!$G$2:$G$99999>=Budget!R$1)*('Export (QBO)'!$G$2:$G$99999<=((EOMONTH(Budget!R$1,0))))*('Export (QBO)'!$J$2:$J$99999=$A12)*('Export (QBO)'!$I$2:$I$99999)) )} -> 0 | S12: {=( SUM(('Export (QBO)'!$G$2:$G$99999>=Budget!S$1)*('Export (QBO)'!$G$2:$G$99999<=((EOMONTH(Budget!S$1,0))))*('Export (QBO)'!$J$2:$J$99999=$A12)*('Export (QBO)'!$I$2:$I$99999)) )} -> 0 | T12: {=( SUM(('Export (QBO)'!$G$2:$G$99999>=Budget!T$1)*('Export (QBO)'!$G$2:$G$99999<=((EOMONTH(Budget!T$1,0))))*('Export (QBO)'!$J$2:$J$99999=$A12)*('Export (QBO)'!$I$2:$I$99999)) )} -> 0 | U12: {=( SUM(('Export (QBO)'!$G$2:$G$99999>=Budget!U$1)*('Export (QBO)'!$G$2:$G$99999<=((EOMONTH(Budget!U$1,0))))*('Export (QBO)'!$J$2:$J$99999=$A12)*('Export (QBO)'!$I$2:$I$99999)) )} -> 0 | V12: {=( SUM(('Export (QBO)'!$G$2:$G$99999>=Budget!V$1)*('Export (QBO)'!$G$2:$G$99999<=((EOMONTH(Budget!V$1,0))))*('Export (QBO)'!$J$2:$J$99999=$A12)*('Export (QBO)'!$I$2:$I$99999)) )} -> 0 | W12: {=( SUM(('Export (QBO)'!$G$2:$G$99999>=Budget!W$1)*('Export (QBO)'!$G$2:$G$99999<=((EOMONTH(Budget!W$1,0))))*('Export (QBO)'!$J$2:$J$99999=$A12)*('Export (QBO)'!$I$2:$I$99999)) )} -> 0 | ... AA12: {=( SUM(('Export (QBO)'!$G$2:$G$99999>=Budget!AA$1)*('Export (QBO)'!$G$2:$G$99999<=((EOMONTH(Budget!AA$1,0))))*('Export (QBO)'!$J$2:$J$99999=$A12)*('Export (QBO)'!$I$2:$I$99999)) )} -> 0 | AB12: =SUM(P12:AA12) -> 0
A13: Project Income - General Margin (20%) | C13: {=( SUM(('Export (QBO)'!$G$2:$G$99999>=Budget!C$1)*('Export (QBO)'!$G$2:$G$99999<=((EOMONTH(Budget!C$1,0))))*('Export (QBO)'!$J$2:$J$99999=$A13)*('Export (QBO)'!$I$2:$I$99999)) )} -> 0 | D13: {=( SUM(('Export (QBO)'!$G$2:$G$99999>=Budget!D$1)*('Export (QBO)'!$G$2:$G$99999<=((EOMONTH(Budget!D$1,0))))*('Export (QBO)'!$J$2:$J$99999=$A13)*('Export (QBO)'!$I$2:$I$99999)) )} -> 0 | E13: {=( SUM(('Export (QBO)'!$G$2:$G$99999>=Budget!E$1)*('Export (QBO)'!$G$2:$G$99999<=((EOMONTH(Budget!E$1,0))))*('Export (QBO)'!$J$2:$J$99999=$A13)*('Export (QBO)'!$I$2:$I$99999)) )} -> 0 | F13: {=( SUM(('Export (QBO)'!$G$2:$G$99999>=Budget!F$1)*('Export (QBO)'!$G$2:$G$99999<=((EOMONTH(Budget!F$1,0))))*('Export (QBO)'!$J$2:$J$99999=$A13)*('Export (QBO)'!$I$2:$I$99999)) )} -> 0 | G13: {=( SUM(('Export (QBO)'!$G$2:$G$99999>=Budget!G$1)*('Export (QBO)'!$G$2:$G$99999<=((EOMONTH(Budget!G$1,0))))*('Export (QBO)'!$J$2:$J$99999=$A13)*('Export (QBO)'!$I$2:$I$99999)) )} -> 0 | H13: {=( SUM(('Export (QBO)'!$G$2:$G$99999>=Budget!H$1)*('Export (QBO)'!$G$2:$G$99999<=((EOMONTH(Budget!H$1,0))))*('Export (QBO)'!$J$2:$J$99999=$A13)*('Export (QBO)'!$I$2:$I$99999)) )} -> 0 | I13: {=( SUM(('Export (QBO)'!$G$2:$G$99999>=Budget!I$1)*('Export (QBO)'!$G$2:$G$99999<=((EOMONTH(Budget!I$1,0))))*('Export (QBO)'!$J$2:$J$99999=$A13)*('Export (QBO)'!$I$2:$I$99999)) )} -> 7344.08 | J13: {=( SUM(('Export (QBO)'!$G$2:$G$99999>=Budget!J$1)*('Export (QBO)'!$G$2:$G$99999<=((EOMONTH(Budget!J$1,0))))*('Export (QBO)'!$J$2:$J$99999=$A13)*('Export (QBO)'!$I$2:$I$99999)) )} -> 0 | ... N13: {=( SUM(('Export (QBO)'!$G$2:$G$99999>=Budget!N$1)*('Export (QBO)'!$G$2:$G$99999<=((EOMONTH(Budget!N$1,0))))*('Export (QBO)'!$J$2:$J$99999=$A13)*('Export (QBO)'!$I$2:$I$99999)) )} -> 0 | O13: =SUM(C13:N13) -> 7344.08 | P13: {=( SUM(('Export (QBO)'!$G$2:$G$99999>=Budget!P$1)*('Export (QBO)'!$G$2:$G$99999<=((EOMONTH(Budget!P$1,0))))*('Export (QBO)'!$J$2:$J$99999=$A13)*('Export (QBO)'!$I$2:$I$99999)) )} -> 9651.81 | Q13: {=( SUM(('Export (QBO)'!$G$2:$G$99999>=Budget!Q$1)*('Export (QBO)'!$G$2:$G$99999<=((EOMONTH(Budget!Q$1,0))))*('Export (QBO)'!$J$2:$J$99999=$A13)*('Export (QBO)'!$I$2:$I$99999)) )} -> 0 | R13: {=( SUM(('Export (QBO)'!$G$2:$G$99999>=Budget!R$1)*('Export (QBO)'!$G$2:$G$99999<=((EOMONTH(Budget!R$1,0))))*('Export (QBO)'!$J$2:$J$99999=$A13)*('Export (QBO)'!$I$2:$I$99999)) )} -> 0 | S13: {=( SUM(('Export (QBO)'!$G$2:$G$99999>=Budget!S$1)*('Export (QBO)'!$G$2:$G$99999<=((EOMONTH(Budget!S$1,0))))*('Export (QBO)'!$J$2:$J$99999=$A13)*('Export (QBO)'!$I$2:$I$99999)) )} -> 0 | T13: {=( SUM(('Export (QBO)'!$G$2:$G$99999>=Budget!T$1)*('Export (QBO)'!$G$2:$G$99999<=((EOMONTH(Budget!T$1,0))))*('Export (QBO)'!$J$2:$J$99999=$A13)*('Export (QBO)'!$I$2:$I$99999)) )} -> 0 | U13: {=( SUM(('Export (QBO)'!$G$2:$G$99999>=Budget!U$1)*('Export (QBO)'!$G$2:$G$99999<=((EOMONTH(Budget!U$1,0))))*('Export (QBO)'!$J$2:$J$99999=$A13)*('Export (QBO)'!$I$2:$I$99999)) )} -> 0 | V13: {=( SUM(('Export (QBO)'!$G$2:$G$99999>=Budget!V$1)*('Export (QBO)'!$G$2:$G$99999<=((EOMONTH(Budget!V$1,0))))*('Export (QBO)'!$J$2:$J$99999=$A13)*('Export (QBO)'!$I$2:$I$99999)) )} -> 0 | W13: {=( SUM(('Export (QBO)'!$G$2:$G$99999>=Budget!W$1)*('Export (QBO)'!$G$2:$G$99999<=((EOMONTH(Budget!W$1,0))))*('Export (QBO)'!$J$2:$J$99999=$A13)*('Export (QBO)'!$I$2:$I$99999)) )} -> 0 | ... AA13: {=( SUM(('Export (QBO)'!$G$2:$G$99999>=Budget!AA$1)*('Export (QBO)'!$G$2:$G$99999<=((EOMONTH(Budget!AA$1,0))))*('Export (QBO)'!$J$2:$J$99999=$A13)*('Export (QBO)'!$I$2:$I$99999)) )} -> 0 | AB13: =SUM(P13:AA13) -> 9651.81
A14: Income - Rental | C14: {=( SUM(('Export (QBO)'!$G$2:$G$99999>=Budget!C$1)*('Export (QBO)'!$G$2:$G$99999<=((EOMONTH(Budget!C$1,0))))*('Export (QBO)'!$J$2:$J$99999=$A14)*('Export (QBO)'!$I$2:$I$99999)) )} -> 0 | D14: {=( SUM(('Export (QBO)'!$G$2:$G$99999>=Budget!D$1)*('Export (QBO)'!$G$2:$G$99999<=((EOMONTH(Budget!D$1,0))))*('Export (QBO)'!$J$2:$J$99999=$A14)*('Export (QBO)'!$I$2:$I$99999)) )} -> 0 | E14: {=( SUM(('Export (QBO)'!$G$2:$G$99999>=Budget!E$1)*('Export (QBO)'!$G$2:$G$99999<=((EOMONTH(Budget!E$1,0))))*('Export (QBO)'!$J$2:$J$99999=$A14)*('Export (QBO)'!$I$2:$I$99999)) )} -> 0 | F14: {=( SUM(('Export (QBO)'!$G$2:$G$99999>=Budget!F$1)*('Export (QBO)'!$G$2:$G$99999<=((EOMONTH(Budget!F$1,0))))*('Export (QBO)'!$J$2:$J$99999=$A14)*('Export (QBO)'!$I$2:$I$99999)) )} -> 0 | G14: {=( SUM(('Export (QBO)'!$G$2:$G$99999>=Budget!G$1)*('Export (QBO)'!$G$2:$G$99999<=((EOMONTH(Budget!G$1,0))))*('Export (QBO)'!$J$2:$J$99999=$A14)*('Export (QBO)'!$I$2:$I$99999)) )} -> 0 | H14: {=( SUM(('Export (QBO)'!$G$2:$G$99999>=Budget!H$1)*('Export (QBO)'!$G$2:$G$99999<=((EOMONTH(Budget!H$1,0))))*('Export (QBO)'!$J$2:$J$99999=$A14)*('Export (QBO)'!$I$2:$I$99999)) )} -> 0 | I14: {=( SUM(('Export (QBO)'!$G$2:$G$99999>=Budget!I$1)*('Export (QBO)'!$G$2:$G$99999<=((EOMONTH(Budget!I$1,0))))*('Export (QBO)'!$J$2:$J$99999=$A14)*('Export (QBO)'!$I$2:$I$99999)) )} -> 0 | J14: {=( SUM(('Export (QBO)'!$G$2:$G$99999>=Budget!J$1)*('Export (QBO)'!$G$2:$G$99999<=((EOMONTH(Budget!J$1,0))))*('Export (QBO)'!$J$2:$J$99999=$A14)*('Export (QBO)'!$I$2:$I$99999)) )} -> 0 | ... N14: {=( SUM(('Export (QBO)'!$G$2:$G$99999>=Budget!N$1)*('Export (QBO)'!$G$2:$G$99999<=((EOMONTH(Budget!N$1,0))))*('Export (QBO)'!$J$2:$J$99999=$A14)*('Export (QBO)'!$I$2:$I$99999)) )} -> 0 | O14: =SUM(C14:N14) -> 0 | P14: {=( SUM(('Export (QBO)'!$G$2:$G$99999>=Budget!P$1)*('Export (QBO)'!$G$2:$G$99999<=((EOMONTH(Budget!P$1,0))))*('Export (QBO)'!$J$2:$J$99999=$A14)*('Export (QBO)'!$I$2:$I$99999)) )} -> 1986 | Q14: {=( SUM(('Export (QBO)'!$G$2:$G$99999>=Budget!Q$1)*('Export (QBO)'!$G$2:$G$99999<=((EOMONTH(Budget!Q$1,0))))*('Export (QBO)'!$J$2:$J$99999=$A14)*('Export (QBO)'!$I$2:$I$99999)) )} -> 0 | R14: {=( SUM(('Export (QBO)'!$G$2:$G$99999>=Budget!R$1)*('Export (QBO)'!$G$2:$G$99999<=((EOMONTH(Budget!R$1,0))))*('Export (QBO)'!$J$2:$J$99999=$A14)*('Export (QBO)'!$I$2:$I$99999)) )} -> 0 | S14: {=( SUM(('Export (QBO)'!$G$2:$G$99999>=Budget!S$1)*('Export (QBO)'!$G$2:$G$99999<=((EOMONTH(Budget!S$1,0))))*('Export (QBO)'!$J$2:$J$99999=$A14)*('Export (QBO)'!$I$2:$I$99999)) )} -> 0 | T14: {=( SUM(('Export (QBO)'!$G$2:$G$99999>=Budget!T$1)*('Export (QBO)'!$G$2:$G$99999<=((EOMONTH(Budget!T$1,0))))*('Export (QBO)'!$J$2:$J$99999=$A14)*('Export (QBO)'!$I$2:$I$99999)) )} -> 0 | U14: {=( SUM(('Export (QBO)'!$G$2:$G$99999>=Budget!U$1)*('Export (QBO)'!$G$2:$G$99999<=((EOMONTH(Budget!U$1,0))))*('Export (QBO)'!$J$2:$J$99999=$A14)*('Export (QBO)'!$I$2:$I$99999)) )} -> 0 | V14: {=( SUM(('Export (QBO)'!$G$2:$G$99999>=Budget!V$1)*('Export (QBO)'!$G$2:$G$99999<=((EOMONTH(Budget!V$1,0))))*('Export (QBO)'!$J$2:$J$99999=$A14)*('Export (QBO)'!$I$2:$I$99999)) )} -> 0 | W14: {=( SUM(('Export (QBO)'!$G$2:$G$99999>=Budget!W$1)*('Export (QBO)'!$G$2:$G$99999<=((EOMONTH(Budget!W$1,0))))*('Export (QBO)'!$J$2:$J$99999=$A14)*('Export (QBO)'!$I$2:$I$99999)) )} -> 0 | ... AA14: {=( SUM(('Export (QBO)'!$G$2:$G$99999>=Budget!AA$1)*('Export (QBO)'!$G$2:$G$99999<=((EOMONTH(Budget!AA$1,0))))*('Export (QBO)'!$J$2:$J$99999=$A14)*('Export (QBO)'!$I$2:$I$99999)) )} -> 0 | AB14: =SUM(P14:AA14) -> 1986
A15: Income - Intrest | C15: {=( SUM(('Export (QBO)'!$G$2:$G$99999>=Budget!C$1)*('Export (QBO)'!$G$2:$G$99999<=((EOMONTH(Budget!C$1,0))))*('Export (QBO)'!$J$2:$J$99999=$A15)*('Export (QBO)'!$I$2:$I$99999)) )} -> 0 | D15: {=( SUM(('Export (QBO)'!$G$2:$G$99999>=Budget!D$1)*('Export (QBO)'!$G$2:$G$99999<=((EOMONTH(Budget!D$1,0))))*('Export (QBO)'!$J$2:$J$99999=$A15)*('Export (QBO)'!$I$2:$I$99999)) )} -> 0 | E15: {=( SUM(('Export (QBO)'!$G$2:$G$99999>=Budget!E$1)*('Export (QBO)'!$G$2:$G$99999<=((EOMONTH(Budget!E$1,0))))*('Export (QBO)'!$J$2:$J$99999=$A15)*('Export (QBO)'!$I$2:$I$99999)) )} -> 0 | F15: {=( SUM(('Export (QBO)'!$G$2:$G$99999>=Budget!F$1)*('Export (QBO)'!$G$2:$G$99999<=((EOMONTH(Budget!F$1,0))))*('Export (QBO)'!$J$2:$J$99999=$A15)*('Export (QBO)'!$I$2:$I$99999)) )} -> 0 | G15: {=( SUM(('Export (QBO)'!$G$2:$G$99999>=Budget!G$1)*('Export (QBO)'!$G$2:$G$99999<=((EOMONTH(Budget!G$1,0))))*('Export (QBO)'!$J$2:$J$99999=$A15)*('Export (QBO)'!$I$2:$I$99999)) )} -> 0 | H15: {=( SUM(('Export (QBO)'!$G$2:$G$99999>=Budget!H$1)*('Export (QBO)'!$G$2:$G$99999<=((EOMONTH(Budget!H$1,0))))*('Export (QBO)'!$J$2:$J$99999=$A15)*('Export (QBO)'!$I$2:$I$99999)) )} -> 0 | I15: {=( SUM(('Export (QBO)'!$G$2:$G$99999>=Budget!I$1)*('Export (QBO)'!$G$2:$G$99999<=((EOMONTH(Budget!I$1,0))))*('Export (QBO)'!$J$2:$J$99999=$A15)*('Export (QBO)'!$I$2:$I$99999)) )} -> 0 | J15: {=( SUM(('Export (QBO)'!$G$2:$G$99999>=Budget!J$1)*('Export (QBO)'!$G$2:$G$99999<=((EOMONTH(Budget!J$1,0))))*('Export (QBO)'!$J$2:$J$99999=$A15)*('Export (QBO)'!$I$2:$I$99999)) )} -> 0 | ... N15: {=( SUM(('Export (QBO)'!$G$2:$G$99999>=Budget!N$1)*('Export (QBO)'!$G$2:$G$99999<=((EOMONTH(Budget!N$1,0))))*('Export (QBO)'!$J$2:$J$99999=$A15)*('Export (QBO)'!$I$2:$I$99999)) )} -> 41292.99 | O15: =SUM(C15:N15) -> 44927.62 | P15: {=( SUM(('Export (QBO)'!$G$2:$G$99999>=Budget!P$1)*('Export (QBO)'!$G$2:$G$99999<=((EOMONTH(Budget!P$1,0))))*('Export (QBO)'!$J$2:$J$99999=$A15)*('Export (QBO)'!$I$2:$I$99999)) )} -> 0 | Q15: {=( SUM(('Export (QBO)'!$G$2:$G$99999>=Budget!Q$1)*('Export (QBO)'!$G$2:$G$99999<=((EOMONTH(Budget!Q$1,0))))*('Export (QBO)'!$J$2:$J$99999=$A15)*('Export (QBO)'!$I$2:$I$99999)) )} -> 0 | R15: {=( SUM(('Export (QBO)'!$G$2:$G$99999>=Budget!R$1)*('Export (QBO)'!$G$2:$G$99999<=((EOMONTH(Budget!R$1,0))))*('Export (QBO)'!$J$2:$J$99999=$A15)*('Export (QBO)'!$I$2:$I$99999)) )} -> 0 | S15: {=( SUM(('Export (QBO)'!$G$2:$G$99999>=Budget!S$1)*('Export (QBO)'!$G$2:$G$99999<=((EOMONTH(Budget!S$1,0))))*('Export (QBO)'!$J$2:$J$99999=$A15)*('Export (QBO)'!$I$2:$I$99999)) )} -> 0 | T15: {=( SUM(('Export (QBO)'!$G$2:$G$99999>=Budget!T$1)*('Export (QBO)'!$G$2:$G$99999<=((EOMONTH(Budget!T$1,0))))*('Export (QBO)'!$J$2:$J$99999=$A15)*('Export (QBO)'!$I$2:$I$99999)) )} -> 0 | U15: {=( SUM(('Export (QBO)'!$G$2:$G$99999>=Budget!U$1)*('Export (QBO)'!$G$2:$G$99999<=((EOMONTH(Budget!U$1,0))))*('Export (QBO)'!$J$2:$J$99999=$A15)*('Export (QBO)'!$I$2:$I$99999)) )} -> 0 | V15: {=( SUM(('Export (QBO)'!$G$2:$G$99999>=Budget!V$1)*('Export (QBO)'!$G$2:$G$99999<=((EOMONTH(Budget!V$1,0))))*('Export (QBO)'!$J$2:$J$99999=$A15)*('Export (QBO)'!$I$2:$I$99999)) )} -> 0 | W15: {=( SUM(('Export (QBO)'!$G$2:$G$99999>=Budget!W$1)*('Export (QBO)'!$G$2:$G$99999<=((EOMONTH(Budget!W$1,0))))*('Export (QBO)'!$J$2:$J$99999=$A15)*('Export (QBO)'!$I$2:$I$99999)) )} -> 0 | ... AA15: {=( SUM(('Export (QBO)'!$G$2:$G$99999>=Budget!AA$1)*('Export (QBO)'!$G$2:$G$99999<=((EOMONTH(Budget!AA$1,0))))*('Export (QBO)'!$J$2:$J$99999=$A15)*('Export (QBO)'!$I$2:$I$99999)) )} -> 0 | AB15: =SUM(P15:AA15) -> 0
A17: Total Income | C17: =SUM(C5:C16) -> 59893.36 | D17: =SUM(D5:D16) -> 659276.28 | E17: =SUM(E5:E16) -> 306000 | F17: =SUM(F5:F16) -> 336993.84 | G17: =SUM(G5:G16) -> 60012.1 | H17: =SUM(H5:H16) -> 79191.12 | I17: =SUM(I5:I16) -> 262132.84 | J17: =SUM(J5:J16) -> 321563.44 | ... N17: =SUM(N5:N16) -> 218483.47 | O17: =SUM(C17:N17) -> 4051033.7 | P17: =SUM(P5:P16) -> 57910.83 | Q17: =SUM(Q5:Q16) -> 0 | R17: =SUM(R5:R16) -> 0 | S17: =SUM(S5:S16) -> 0 | T17: =SUM(T5:T16) -> 0 | U17: =SUM(U5:U16) -> 0 | V17: =SUM(V5:V16) -> 0 | W17: =SUM(W5:W16) -> 0 | ... AA17: =SUM(AA5:AA16) -> 0 | AB17: =SUM(P17:AA17) -> 57910.83
A20: Accounts Receivable
A21: Accounts Receivable - Generated | C21: {=-( SUM(('Export (QBO)'!$G$2:$G$99999>=Budget!C$1)*('Export (QBO)'!$G$2:$G$99999<=((EOMONTH(Budget!C$1,0))))*('Export (QBO)'!$J$2:$J$99999=$A21)*('Export (QBO)'!$I$2:$I$99999)) )} -> 0 | D21: {=-( SUM(('Export (QBO)'!$G$2:$G$99999>=Budget!D$1)*('Export (QBO)'!$G$2:$G$99999<=((EOMONTH(Budget!D$1,0))))*('Export (QBO)'!$J$2:$J$99999=$A21)*('Export (QBO)'!$I$2:$I$99999)) )} -> 0 | E21: {=-( SUM(('Export (QBO)'!$G$2:$G$99999>=Budget!E$1)*('Export (QBO)'!$G$2:$G$99999<=((EOMONTH(Budget!E$1,0))))*('Export (QBO)'!$J$2:$J$99999=$A21)*('Export (QBO)'!$I$2:$I$99999)) )} -> 0 | F21: {=-( SUM(('Export (QBO)'!$G$2:$G$99999>=Budget!F$1)*('Export (QBO)'!$G$2:$G$99999<=((EOMONTH(Budget!F$1,0))))*('Export (QBO)'!$J$2:$J$99999=$A21)*('Export (QBO)'!$I$2:$I$99999)) )} -> 0 | G21: {=-( SUM(('Export (QBO)'!$G$2:$G$99999>=Budget!G$1)*('Export (QBO)'!$G$2:$G$99999<=((EOMONTH(Budget!G$1,0))))*('Export (QBO)'!$J$2:$J$99999=$A21)*('Export (QBO)'!$I$2:$I$99999)) )} -> 0 | H21: {=-( SUM(('Export (QBO)'!$G$2:$G$99999>=Budget!H$1)*('Export (QBO)'!$G$2:$G$99999<=((EOMONTH(Budget!H$1,0))))*('Export (QBO)'!$J$2:$J$99999=$A21)*('Export (QBO)'!$I$2:$I$99999)) )} -> 0 | I21: {=-( SUM(('Export (QBO)'!$G$2:$G$99999>=Budget!I$1)*('Export (QBO)'!$G$2:$G$99999<=((EOMONTH(Budget!I$1,0))))*('Export (QBO)'!$J$2:$J$99999=$A21)*('Export (QBO)'!$I$2:$I$99999)) )} -> 0 | J21: {=-( SUM(('Export (QBO)'!$G$2:$G$99999>=Budget!J$1)*('Export (QBO)'!$G$2:$G$99999<=((EOMONTH(Budget!J$1,0))))*('Export (QBO)'!$J$2:$J$99999=$A21)*('Export (QBO)'!$I$2:$I$99999)) )} -> 0 | ... N21: {=-( SUM(('Export (QBO)'!$G$2:$G$99999>=Budget!N$1)*('Export (QBO)'!$G$2:$G$99999<=((EOMONTH(Budget!N$1,0))))*('Export (QBO)'!$J$2:$J$99999=$A21)*('Export (QBO)'!$I$2:$I$99999)) )} -> 0 | O21: =SUM(C21:N21) -> 0 | P21: {=-( SUM(('Export (QBO)'!$G$2:$G$99999>=Budget!P$1)*('Export (QBO)'!$G$2:$G$99999<=((EOMONTH(Budget!P$1,0))))*('Export (QBO)'!$J$2:$J$99999=$A21)*('Export (QBO)'!$I$2:$I$99999)) )} -> -250000 | Q21: {=-( SUM(('Export (QBO)'!$G$2:$G$99999>=Budget!Q$1)*('Export (QBO)'!$G$2:$G$99999<=((EOMONTH(Budget!Q$1,0))))*('Export (QBO)'!$J$2:$J$99999=$A21)*('Export (QBO)'!$I$2:$I$99999)) )} -> 0 | R21: {=-( SUM(('Export (QBO)'!$G$2:$G$99999>=Budget!R$1)*('Export (QBO)'!$G$2:$G$99999<=((EOMONTH(Budget!R$1,0))))*('Export (QBO)'!$J$2:$J$99999=$A21)*('Export (QBO)'!$I$2:$I$99999)) )} -> 0 | S21: {=-( SUM(('Export (QBO)'!$G$2:$G$99999>=Budget!S$1)*('Export (QBO)'!$G$2:$G$99999<=((EOMONTH(Budget!S$1,0))))*('Export (QBO)'!$J$2:$J$99999=$A21)*('Export (QBO)'!$I$2:$I$99999)) )} -> 0 | T21: {=-( SUM(('Export (QBO)'!$G$2:$G$99999>=Budget!T$1)*('Export (QBO)'!$G$2:$G$99999<=((EOMONTH(Budget!T$1,0))))*('Export (QBO)'!$J$2:$J$99999=$A21)*('Export (QBO)'!$I$2:$I$99999)) )} -> 0 | U21: {=-( SUM(('Export (QBO)'!$G$2:$G$99999>=Budget!U$1)*('Export (QBO)'!$G$2:$G$99999<=((EOMONTH(Budget!U$1,0))))*('Export (QBO)'!$J$2:$J$99999=$A21)*('Export (QBO)'!$I$2:$I$99999)) )} -> 0 | V21: {=-( SUM(('Export (QBO)'!$G$2:$G$99999>=Budget!V$1)*('Export (QBO)'!$G$2:$G$99999<=((EOMONTH(Budget!V$1,0))))*('Export (QBO)'!$J$2:$J$99999=$A21)*('Export (QBO)'!$I$2:$I$99999)) )} -> 0 | W21: {=-( SUM(('Export (QBO)'!$G$2:$G$99999>=Budget!W$1)*('Export (QBO)'!$G$2:$G$99999<=((EOMONTH(Budget!W$1,0))))*('Export (QBO)'!$J$2:$J$99999=$A21)*('Export (QBO)'!$I$2:$I$99999)) )} -> 0 | ... AA21: {=-( SUM(('Export (QBO)'!$G$2:$G$99999>=Budget!AA$1)*('Export (QBO)'!$G$2:$G$99999<=((EOMONTH(Budget!AA$1,0))))*('Export (QBO)'!$J$2:$J$99999=$A21)*('Export (QBO)'!$I$2:$I$99999)) )} -> 0 | AB21: =SUM(P21:AA21) -> -250000
A22: Accounts Receivable - Recieved / Clearing | C22: {=-( SUM(('Export (QBO)'!$G$2:$G$99999>=Budget!C$1)*('Export (QBO)'!$G$2:$G$99999<=((EOMONTH(Budget!C$1,0))))*('Export (QBO)'!$J$2:$J$99999=$A22)*('Export (QBO)'!$I$2:$I$99999)) )} -> 0 | D22: {=-( SUM(('Export (QBO)'!$G$2:$G$99999>=Budget!D$1)*('Export (QBO)'!$G$2:$G$99999<=((EOMONTH(Budget!D$1,0))))*('Export (QBO)'!$J$2:$J$99999=$A22)*('Export (QBO)'!$I$2:$I$99999)) )} -> 0 | E22: {=-( SUM(('Export (QBO)'!$G$2:$G$99999>=Budget!E$1)*('Export (QBO)'!$G$2:$G$99999<=((EOMONTH(Budget!E$1,0))))*('Export (QBO)'!$J$2:$J$99999=$A22)*('Export (QBO)'!$I$2:$I$99999)) )} -> 0 | F22: {=-( SUM(('Export (QBO)'!$G$2:$G$99999>=Budget!F$1)*('Export (QBO)'!$G$2:$G$99999<=((EOMONTH(Budget!F$1,0))))*('Export (QBO)'!$J$2:$J$99999=$A22)*('Export (QBO)'!$I$2:$I$99999)) )} -> 0 | G22: {=-( SUM(('Export (QBO)'!$G$2:$G$99999>=Budget!G$1)*('Export (QBO)'!$G$2:$G$99999<=((EOMONTH(Budget!G$1,0))))*('Export (QBO)'!$J$2:$J$99999=$A22)*('Export (QBO)'!$I$2:$I$99999)) )} -> 0 | H22: {=-( SUM(('Export (QBO)'!$G$2:$G$99999>=Budget!H$1)*('Export (QBO)'!$G$2:$G$99999<=((EOMONTH(Budget!H$1,0))))*('Export (QBO)'!$J$2:$J$99999=$A22)*('Export (QBO)'!$I$2:$I$99999)) )} -> 0 | I22: {=-( SUM(('Export (QBO)'!$G$2:$G$99999>=Budget!I$1)*('Export (QBO)'!$G$2:$G$99999<=((EOMONTH(Budget!I$1,0))))*('Export (QBO)'!$J$2:$J$99999=$A22)*('Export (QBO)'!$I$2:$I$99999)) )} -> 0 | J22: {=-( SUM(('Export (QBO)'!$G$2:$G$99999>=Budget!J$1)*('Export (QBO)'!$G$2:$G$99999<=((EOMONTH(Budget!J$1,0))))*('Export (QBO)'!$J$2:$J$99999=$A22)*('Export (QBO)'!$I$2:$I$99999)) )} -> 0 | ... N22: {=-( SUM(('Export (QBO)'!$G$2:$G$99999>=Budget!N$1)*('Export (QBO)'!$G$2:$G$99999<=((EOMONTH(Budget!N$1,0))))*('Export (QBO)'!$J$2:$J$99999=$A22)*('Export (QBO)'!$I$2:$I$99999)) )} -> 0 | O22: =SUM(C22:N22) -> 0 | P22: {=-( SUM(('Export (QBO)'!$G$2:$G$99999>=Budget!P$1)*('Export (QBO)'!$G$2:$G$99999<=((EOMONTH(Budget!P$1,0))))*('Export (QBO)'!$J$2:$J$99999=$A22)*('Export (QBO)'!$I$2:$I$99999)) )} -> 64673.99 | Q22: {=-( SUM(('Export (QBO)'!$G$2:$G$99999>=Budget!Q$1)*('Export (QBO)'!$G$2:$G$99999<=((EOMONTH(Budget!Q$1,0))))*('Export (QBO)'!$J$2:$J$99999=$A22)*('Export (QBO)'!$I$2:$I$99999)) )} -> 0 | R22: {=-( SUM(('Export (QBO)'!$G$2:$G$99999>=Budget!R$1)*('Export (QBO)'!$G$2:$G$99999<=((EOMONTH(Budget!R$1,0))))*('Export (QBO)'!$J$2:$J$99999=$A22)*('Export (QBO)'!$I$2:$I$99999)) )} -> 0 | S22: {=-( SUM(('Export (QBO)'!$G$2:$G$99999>=Budget!S$1)*('Export (QBO)'!$G$2:$G$99999<=((EOMONTH(Budget!S$1,0))))*('Export (QBO)'!$J$2:$J$99999=$A22)*('Export (QBO)'!$I$2:$I$99999)) )} -> 0 | T22: {=-( SUM(('Export (QBO)'!$G$2:$G$99999>=Budget!T$1)*('Export (QBO)'!$G$2:$G$99999<=((EOMONTH(Budget!T$1,0))))*('Export (QBO)'!$J$2:$J$99999=$A22)*('Export (QBO)'!$I$2:$I$99999)) )} -> 0 | U22: {=-( SUM(('Export (QBO)'!$G$2:$G$99999>=Budget!U$1)*('Export (QBO)'!$G$2:$G$99999<=((EOMONTH(Budget!U$1,0))))*('Export (QBO)'!$J$2:$J$99999=$A22)*('Export (QBO)'!$I$2:$I$99999)) )} -> 0 | V22: {=-( SUM(('Export (QBO)'!$G$2:$G$99999>=Budget!V$1)*('Export (QBO)'!$G$2:$G$99999<=((EOMONTH(Budget!V$1,0))))*('Export (QBO)'!$J$2:$J$99999=$A22)*('Export (QBO)'!$I$2:$I$99999)) )} -> 0 | W22: {=-( SUM(('Export (QBO)'!$G$2:$G$99999>=Budget!W$1)*('Export (QBO)'!$G$2:$G$99999<=((EOMONTH(Budget!W$1,0))))*('Export (QBO)'!$J$2:$J$99999=$A22)*('Export (QBO)'!$I$2:$I$99999)) )} -> 0 | ... AA22: {=-( SUM(('Export (QBO)'!$G$2:$G$99999>=Budget!AA$1)*('Export (QBO)'!$G$2:$G$99999<=((EOMONTH(Budget!AA$1,0))))*('Export (QBO)'!$J$2:$J$99999=$A22)*('Export (QBO)'!$I$2:$I$99999)) )} -> 0 | AB22: =SUM(P22:AA22) -> 64673.99
A23: Accounts Recievable - Suspense | C23: {=-( SUM(('Export (QBO)'!$G$2:$G$99999>=Budget!C$1)*('Export (QBO)'!$G$2:$G$99999<=((EOMONTH(Budget!C$1,0))))*('Export (QBO)'!$J$2:$J$99999=$A23)*('Export (QBO)'!$I$2:$I$99999)) )} -> 229267.54 | D23: {=-( SUM(('Export (QBO)'!$G$2:$G$99999>=Budget!D$1)*('Export (QBO)'!$G$2:$G$99999<=((EOMONTH(Budget!D$1,0))))*('Export (QBO)'!$J$2:$J$99999=$A23)*('Export (QBO)'!$I$2:$I$99999)) )} -> -282240.09 | E23: {=-( SUM(('Export (QBO)'!$G$2:$G$99999>=Budget!E$1)*('Export (QBO)'!$G$2:$G$99999<=((EOMONTH(Budget!E$1,0))))*('Export (QBO)'!$J$2:$J$99999=$A23)*('Export (QBO)'!$I$2:$I$99999)) )} -> 163095 | F23: {=-( SUM(('Export (QBO)'!$G$2:$G$99999>=Budget!F$1)*('Export (QBO)'!$G$2:$G$99999<=((EOMONTH(Budget!F$1,0))))*('Export (QBO)'!$J$2:$J$99999=$A23)*('Export (QBO)'!$I$2:$I$99999)) )} -> 1659.7 | G23: {=-( SUM(('Export (QBO)'!$G$2:$G$99999>=Budget!G$1)*('Export (QBO)'!$G$2:$G$99999<=((EOMONTH(Budget!G$1,0))))*('Export (QBO)'!$J$2:$J$99999=$A23)*('Export (QBO)'!$I$2:$I$99999)) )} -> 272989.86 | H23: {=-( SUM(('Export (QBO)'!$G$2:$G$99999>=Budget!H$1)*('Export (QBO)'!$G$2:$G$99999<=((EOMONTH(Budget!H$1,0))))*('Export (QBO)'!$J$2:$J$99999=$A23)*('Export (QBO)'!$I$2:$I$99999)) )} -> 52156.27 | I23: {=-( SUM(('Export (QBO)'!$G$2:$G$99999>=Budget!I$1)*('Export (QBO)'!$G$2:$G$99999<=((EOMONTH(Budget!I$1,0))))*('Export (QBO)'!$J$2:$J$99999=$A23)*('Export (QBO)'!$I$2:$I$99999)) )} -> 120214.56 | J23: {=-( SUM(('Export (QBO)'!$G$2:$G$99999>=Budget!J$1)*('Export (QBO)'!$G$2:$G$99999<=((EOMONTH(Budget!J$1,0))))*('Export (QBO)'!$J$2:$J$99999=$A23)*('Export (QBO)'!$I$2:$I$99999)) )} -> -261534.63 | ... N23: {=-( SUM(('Export (QBO)'!$G$2:$G$99999>=Budget!N$1)*('Export (QBO)'!$G$2:$G$99999<=((EOMONTH(Budget!N$1,0))))*('Export (QBO)'!$J$2:$J$99999=$A23)*('Export (QBO)'!$I$2:$I$99999)) )} -> 229691.36 | O23: =SUM(C23:N23) -> 851694.29 | P23: {=-( SUM(('Export (QBO)'!$G$2:$G$99999>=Budget!P$1)*('Export (QBO)'!$G$2:$G$99999<=((EOMONTH(Budget!P$1,0))))*('Export (QBO)'!$J$2:$J$99999=$A23)*('Export (QBO)'!$I$2:$I$99999)) )} -> 0 | Q23: {=-( SUM(('Export (QBO)'!$G$2:$G$99999>=Budget!Q$1)*('Export (QBO)'!$G$2:$G$99999<=((EOMONTH(Budget!Q$1,0))))*('Export (QBO)'!$J$2:$J$99999=$A23)*('Export (QBO)'!$I$2:$I$99999)) )} -> 0 | R23: {=-( SUM(('Export (QBO)'!$G$2:$G$99999>=Budget!R$1)*('Export (QBO)'!$G$2:$G$99999<=((EOMONTH(Budget!R$1,0))))*('Export (QBO)'!$J$2:$J$99999=$A23)*('Export (QBO)'!$I$2:$I$99999)) )} -> 0 | S23: {=-( SUM(('Export (QBO)'!$G$2:$G$99999>=Budget!S$1)*('Export (QBO)'!$G$2:$G$99999<=((EOMONTH(Budget!S$1,0))))*('Export (QBO)'!$J$2:$J$99999=$A23)*('Export (QBO)'!$I$2:$I$99999)) )} -> 0 | T23: {=-( SUM(('Export (QBO)'!$G$2:$G$99999>=Budget!T$1)*('Export (QBO)'!$G$2:$G$99999<=((EOMONTH(Budget!T$1,0))))*('Export (QBO)'!$J$2:$J$99999=$A23)*('Export (QBO)'!$I$2:$I$99999)) )} -> 0 | U23: {=-( SUM(('Export (QBO)'!$G$2:$G$99999>=Budget!U$1)*('Export (QBO)'!$G$2:$G$99999<=((EOMONTH(Budget!U$1,0))))*('Export (QBO)'!$J$2:$J$99999=$A23)*('Export (QBO)'!$I$2:$I$99999)) )} -> 0 | V23: {=-( SUM(('Export (QBO)'!$G$2:$G$99999>=Budget!V$1)*('Export (QBO)'!$G$2:$G$99999<=((EOMONTH(Budget!V$1,0))))*('Export (QBO)'!$J$2:$J$99999=$A23)*('Export (QBO)'!$I$2:$I$99999)) )} -> 0 | W23: {=-( SUM(('Export (QBO)'!$G$2:$G$99999>=Budget!W$1)*('Export (QBO)'!$G$2:$G$99999<=((EOMONTH(Budget!W$1,0))))*('Export (QBO)'!$J$2:$J$99999=$A23)*('Export (QBO)'!$I$2:$I$99999)) )} -> 0 | ... AA23: {=-( SUM(('Export (QBO)'!$G$2:$G$99999>=Budget!AA$1)*('Export (QBO)'!$G$2:$G$99999<=((EOMONTH(Budget!AA$1,0))))*('Export (QBO)'!$J$2:$J$99999=$A23)*('Export (QBO)'!$I$2:$I$99999)) )} -> 0 | AB23: =SUM(P23:AA23) -> 0
A25: Total Accounts Receivable | C25: =SUM(C20:C24) -> 229267.54 | D25: =SUM(D20:D24) -> -282240.09 | E25: =SUM(E20:E24) -> 163095 | F25: =SUM(F20:F24) -> 1659.7 | G25: =SUM(G20:G24) -> 272989.86 | H25: =SUM(H20:H24) -> 52156.27 | I25: =SUM(I20:I24) -> 120214.56 | J25: =SUM(J20:J24) -> -261534.63 | ... N25: =SUM(N20:N24) -> 229691.36 | O25: =SUM(C25:N25) -> 851694.29 | P25: =SUM(P20:P24) -> -185326.01 | Q25: =SUM(Q20:Q24) -> 0 | R25: =SUM(R20:R24) -> 0 | S25: =SUM(S20:S24) -> 0 | T25: =SUM(T20:T24) -> 0 | U25: =SUM(U20:U24) -> 0 | V25: =SUM(V20:V24) -> 0 | W25: =SUM(W20:W24) -> 0 | ... AA25: =SUM(AA20:AA24) -> 0 | AB25: =SUM(P25:AA25) -> -185326.01
A27: Liability
A28: Liability - Depostis Received | C28: {=-( SUM(('Export (QBO)'!$G$2:$G$99999>=Budget!C$1)*('Export (QBO)'!$G$2:$G$99999<=((EOMONTH(Budget!C$1,0))))*('Export (QBO)'!$J$2:$J$99999=$A28)*('Export (QBO)'!$I$2:$I$99999)) )} -> 0 | D28: {=-( SUM(('Export (QBO)'!$G$2:$G$99999>=Budget!D$1)*('Export (QBO)'!$G$2:$G$99999<=((EOMONTH(Budget!D$1,0))))*('Export (QBO)'!$J$2:$J$99999=$A28)*('Export (QBO)'!$I$2:$I$99999)) )} -> 0 | E28: {=-( SUM(('Export (QBO)'!$G$2:$G$99999>=Budget!E$1)*('Export (QBO)'!$G$2:$G$99999<=((EOMONTH(Budget!E$1,0))))*('Export (QBO)'!$J$2:$J$99999=$A28)*('Export (QBO)'!$I$2:$I$99999)) )} -> 0 | F28: {=-( SUM(('Export (QBO)'!$G$2:$G$99999>=Budget!F$1)*('Export (QBO)'!$G$2:$G$99999<=((EOMONTH(Budget!F$1,0))))*('Export (QBO)'!$J$2:$J$99999=$A28)*('Export (QBO)'!$I$2:$I$99999)) )} -> -306000 | G28: {=-( SUM(('Export (QBO)'!$G$2:$G$99999>=Budget!G$1)*('Export (QBO)'!$G$2:$G$99999<=((EOMONTH(Budget!G$1,0))))*('Export (QBO)'!$J$2:$J$99999=$A28)*('Export (QBO)'!$I$2:$I$99999)) )} -> 0 | H28: {=-( SUM(('Export (QBO)'!$G$2:$G$99999>=Budget!H$1)*('Export (QBO)'!$G$2:$G$99999<=((EOMONTH(Budget!H$1,0))))*('Export (QBO)'!$J$2:$J$99999=$A28)*('Export (QBO)'!$I$2:$I$99999)) )} -> -25000 | I28: {=-( SUM(('Export (QBO)'!$G$2:$G$99999>=Budget!I$1)*('Export (QBO)'!$G$2:$G$99999<=((EOMONTH(Budget!I$1,0))))*('Export (QBO)'!$J$2:$J$99999=$A28)*('Export (QBO)'!$I$2:$I$99999)) )} -> 25000 | J28: {=-( SUM(('Export (QBO)'!$G$2:$G$99999>=Budget!J$1)*('Export (QBO)'!$G$2:$G$99999<=((EOMONTH(Budget!J$1,0))))*('Export (QBO)'!$J$2:$J$99999=$A28)*('Export (QBO)'!$I$2:$I$99999)) )} -> 12141.62 | ... N28: {=-( SUM(('Export (QBO)'!$G$2:$G$99999>=Budget!N$1)*('Export (QBO)'!$G$2:$G$99999<=((EOMONTH(Budget!N$1,0))))*('Export (QBO)'!$J$2:$J$99999=$A28)*('Export (QBO)'!$I$2:$I$99999)) )} -> 107102.26 | O28: =SUM(C28:N28) -> 820116.71 | P28: {=-( SUM(('Export (QBO)'!$G$2:$G$99999>=Budget!P$1)*('Export (QBO)'!$G$2:$G$99999<=((EOMONTH(Budget!P$1,0))))*('Export (QBO)'!$J$2:$J$99999=$A28)*('Export (QBO)'!$I$2:$I$99999)) )} -> -250000 | Q28: {=-( SUM(('Export (QBO)'!$G$2:$G$99999>=Budget!Q$1)*('Export (QBO)'!$G$2:$G$99999<=((EOMONTH(Budget!Q$1,0))))*('Export (QBO)'!$J$2:$J$99999=$A28)*('Export (QBO)'!$I$2:$I$99999)) )} -> 0 | R28: {=-( SUM(('Export (QBO)'!$G$2:$G$99999>=Budget!R$1)*('Export (QBO)'!$G$2:$G$99999<=((EOMONTH(Budget!R$1,0))))*('Export (QBO)'!$J$2:$J$99999=$A28)*('Export (QBO)'!$I$2:$I$99999)) )} -> 0 | S28: {=-( SUM(('Export (QBO)'!$G$2:$G$99999>=Budget!S$1)*('Export (QBO)'!$G$2:$G$99999<=((EOMONTH(Budget!S$1,0))))*('Export (QBO)'!$J$2:$J$99999=$A28)*('Export (QBO)'!$I$2:$I$99999)) )} -> 0 | T28: {=-( SUM(('Export (QBO)'!$G$2:$G$99999>=Budget!T$1)*('Export (QBO)'!$G$2:$G$99999<=((EOMONTH(Budget!T$1,0))))*('Export (QBO)'!$J$2:$J$99999=$A28)*('Export (QBO)'!$I$2:$I$99999)) )} -> 0 | U28: {=-( SUM(('Export (QBO)'!$G$2:$G$99999>=Budget!U$1)*('Export (QBO)'!$G$2:$G$99999<=((EOMONTH(Budget!U$1,0))))*('Export (QBO)'!$J$2:$J$99999=$A28)*('Export (QBO)'!$I$2:$I$99999)) )} -> 0 | V28: {=-( SUM(('Export (QBO)'!$G$2:$G$99999>=Budget!V$1)*('Export (QBO)'!$G$2:$G$99999<=((EOMONTH(Budget!V$1,0))))*('Export (QBO)'!$J$2:$J$99999=$A28)*('Export (QBO)'!$I$2:$I$99999)) )} -> 0 | W28: {=-( SUM(('Export (QBO)'!$G$2:$G$99999>=Budget!W$1)*('Export (QBO)'!$G$2:$G$99999<=((EOMONTH(Budget!W$1,0))))*('Export (QBO)'!$J$2:$J$99999=$A28)*('Export (QBO)'!$I$2:$I$99999)) )} -> 0 | ... AA28: {=-( SUM(('Export (QBO)'!$G$2:$G$99999>=Budget!AA$1)*('Export (QBO)'!$G$2:$G$99999<=((EOMONTH(Budget!AA$1,0))))*('Export (QBO)'!$J$2:$J$99999=$A28)*('Export (QBO)'!$I$2:$I$99999)) )} -> 0 | AB28: =SUM(P28:AA28) -> -250000
A29: Liability - Depostis Applied | C29: {=-( SUM(('Export (QBO)'!$G$2:$G$99999>=Budget!C$1)*('Export (QBO)'!$G$2:$G$99999<=((EOMONTH(Budget!C$1,0))))*('Export (QBO)'!$J$2:$J$99999=$A29)*('Export (QBO)'!$I$2:$I$99999)) )} -> 0 | D29: {=-( SUM(('Export (QBO)'!$G$2:$G$99999>=Budget!D$1)*('Export (QBO)'!$G$2:$G$99999<=((EOMONTH(Budget!D$1,0))))*('Export (QBO)'!$J$2:$J$99999=$A29)*('Export (QBO)'!$I$2:$I$99999)) )} -> 0 | E29: {=-( SUM(('Export (QBO)'!$G$2:$G$99999>=Budget!E$1)*('Export (QBO)'!$G$2:$G$99999<=((EOMONTH(Budget!E$1,0))))*('Export (QBO)'!$J$2:$J$99999=$A29)*('Export (QBO)'!$I$2:$I$99999)) )} -> 0 | F29: {=-( SUM(('Export (QBO)'!$G$2:$G$99999>=Budget!F$1)*('Export (QBO)'!$G$2:$G$99999<=((EOMONTH(Budget!F$1,0))))*('Export (QBO)'!$J$2:$J$99999=$A29)*('Export (QBO)'!$I$2:$I$99999)) )} -> 0 | G29: {=-( SUM(('Export (QBO)'!$G$2:$G$99999>=Budget!G$1)*('Export (QBO)'!$G$2:$G$99999<=((EOMONTH(Budget!G$1,0))))*('Export (QBO)'!$J$2:$J$99999=$A29)*('Export (QBO)'!$I$2:$I$99999)) )} -> 0 | H29: {=-( SUM(('Export (QBO)'!$G$2:$G$99999>=Budget!H$1)*('Export (QBO)'!$G$2:$G$99999<=((EOMONTH(Budget!H$1,0))))*('Export (QBO)'!$J$2:$J$99999=$A29)*('Export (QBO)'!$I$2:$I$99999)) )} -> 0 | I29: {=-( SUM(('Export (QBO)'!$G$2:$G$99999>=Budget!I$1)*('Export (QBO)'!$G$2:$G$99999<=((EOMONTH(Budget!I$1,0))))*('Export (QBO)'!$J$2:$J$99999=$A29)*('Export (QBO)'!$I$2:$I$99999)) )} -> 0 | J29: {=-( SUM(('Export (QBO)'!$G$2:$G$99999>=Budget!J$1)*('Export (QBO)'!$G$2:$G$99999<=((EOMONTH(Budget!J$1,0))))*('Export (QBO)'!$J$2:$J$99999=$A29)*('Export (QBO)'!$I$2:$I$99999)) )} -> 0 | ... N29: {=-( SUM(('Export (QBO)'!$G$2:$G$99999>=Budget!N$1)*('Export (QBO)'!$G$2:$G$99999<=((EOMONTH(Budget!N$1,0))))*('Export (QBO)'!$J$2:$J$99999=$A29)*('Export (QBO)'!$I$2:$I$99999)) )} -> 0 | O29: =SUM(C29:N29) -> 0 | P29: {=-( SUM(('Export (QBO)'!$G$2:$G$99999>=Budget!P$1)*('Export (QBO)'!$G$2:$G$99999<=((EOMONTH(Budget!P$1,0))))*('Export (QBO)'!$J$2:$J$99999=$A29)*('Export (QBO)'!$I$2:$I$99999)) )} -> 60806.37 | Q29: {=-( SUM(('Export (QBO)'!$G$2:$G$99999>=Budget!Q$1)*('Export (QBO)'!$G$2:$G$99999<=((EOMONTH(Budget!Q$1,0))))*('Export (QBO)'!$J$2:$J$99999=$A29)*('Export (QBO)'!$I$2:$I$99999)) )} -> 0 | R29: {=-( SUM(('Export (QBO)'!$G$2:$G$99999>=Budget!R$1)*('Export (QBO)'!$G$2:$G$99999<=((EOMONTH(Budget!R$1,0))))*('Export (QBO)'!$J$2:$J$99999=$A29)*('Export (QBO)'!$I$2:$I$99999)) )} -> 0 | S29: {=-( SUM(('Export (QBO)'!$G$2:$G$99999>=Budget!S$1)*('Export (QBO)'!$G$2:$G$99999<=((EOMONTH(Budget!S$1,0))))*('Export (QBO)'!$J$2:$J$99999=$A29)*('Export (QBO)'!$I$2:$I$99999)) )} -> 0 | T29: {=-( SUM(('Export (QBO)'!$G$2:$G$99999>=Budget!T$1)*('Export (QBO)'!$G$2:$G$99999<=((EOMONTH(Budget!T$1,0))))*('Export (QBO)'!$J$2:$J$99999=$A29)*('Export (QBO)'!$I$2:$I$99999)) )} -> 0 | U29: {=-( SUM(('Export (QBO)'!$G$2:$G$99999>=Budget!U$1)*('Export (QBO)'!$G$2:$G$99999<=((EOMONTH(Budget!U$1,0))))*('Export (QBO)'!$J$2:$J$99999=$A29)*('Export (QBO)'!$I$2:$I$99999)) )} -> 0 | V29: {=-( SUM(('Export (QBO)'!$G$2:$G$99999>=Budget!V$1)*('Export (QBO)'!$G$2:$G$99999<=((EOMONTH(Budget!V$1,0))))*('Export (QBO)'!$J$2:$J$99999=$A29)*('Export (QBO)'!$I$2:$I$99999)) )} -> 0 | W29: {=-( SUM(('Export (QBO)'!$G$2:$G$99999>=Budget!W$1)*('Export (QBO)'!$G$2:$G$99999<=((EOMONTH(Budget!W$1,0))))*('Export (QBO)'!$J$2:$J$99999=$A29)*('Export (QBO)'!$I$2:$I$99999)) )} -> 0 | ... AA29: {=-( SUM(('Export (QBO)'!$G$2:$G$99999>=Budget!AA$1)*('Export (QBO)'!$G$2:$G$99999<=((EOMONTH(Budget!AA$1,0))))*('Export (QBO)'!$J$2:$J$99999=$A29)*('Export (QBO)'!$I$2:$I$99999)) )} -> 0 | AB29: =SUM(P29:AA29) -> 60806.37
A31: Total Liability | C31: =SUM(C27:C30) -> 0 | D31: =SUM(D27:D30) -> 0 | E31: =SUM(E27:E30) -> 0 | F31: =SUM(F27:F30) -> -306000 | G31: =SUM(G27:G30) -> 0 | H31: =SUM(H27:H30) -> -25000 | I31: =SUM(I27:I30) -> 25000 | J31: =SUM(J27:J30) -> 12141.62 | ... N31: =SUM(N27:N30) -> 107102.26 | O31: =SUM(C31:N31) -> 820116.71 | P31: =SUM(P27:P30) -> -189193.63 | Q31: =SUM(Q27:Q30) -> 0 | R31: =SUM(R27:R30) -> 0 | S31: =SUM(S27:S30) -> 0 | T31: =SUM(T27:T30) -> 0 | U31: =SUM(U27:U30) -> 0 | V31: =SUM(V27:V30) -> 0 | W31: =SUM(W27:W30) -> 0 | ... AA31: =SUM(AA27:AA30) -> 0 | AB31: =SUM(P31:AA31) -> -189193.63
A33: Banking
A34: Bank Fees | C34: {=( SUM(('Export (QBO)'!$G$2:$G$99999>=Budget!C$1)*('Export (QBO)'!$G$2:$G$99999<=((EOMONTH(Budget!C$1,0))))*('Export (QBO)'!$J$2:$J$99999=$A34)*('Export (QBO)'!$I$2:$I$99999)) )} -> 184.63 | D34: {=( SUM(('Export (QBO)'!$G$2:$G$99999>=Budget!D$1)*('Export (QBO)'!$G$2:$G$99999<=((EOMONTH(Budget!D$1,0))))*('Export (QBO)'!$J$2:$J$99999=$A34)*('Export (QBO)'!$I$2:$I$99999)) )} -> 679.78 | E34: {=( SUM(('Export (QBO)'!$G$2:$G$99999>=Budget!E$1)*('Export (QBO)'!$G$2:$G$99999<=((EOMONTH(Budget!E$1,0))))*('Export (QBO)'!$J$2:$J$99999=$A34)*('Export (QBO)'!$I$2:$I$99999)) )} -> 663.42 | F34: {=( SUM(('Export (QBO)'!$G$2:$G$99999>=Budget!F$1)*('Export (QBO)'!$G$2:$G$99999<=((EOMONTH(Budget!F$1,0))))*('Export (QBO)'!$J$2:$J$99999=$A34)*('Export (QBO)'!$I$2:$I$99999)) )} -> 505.12 | G34: {=( SUM(('Export (QBO)'!$G$2:$G$99999>=Budget!G$1)*('Export (QBO)'!$G$2:$G$99999<=((EOMONTH(Budget!G$1,0))))*('Export (QBO)'!$J$2:$J$99999=$A34)*('Export (QBO)'!$I$2:$I$99999)) )} -> 647.52 | H34: {=( SUM(('Export (QBO)'!$G$2:$G$99999>=Budget!H$1)*('Export (QBO)'!$G$2:$G$99999<=((EOMONTH(Budget!H$1,0))))*('Export (QBO)'!$J$2:$J$99999=$A34)*('Export (QBO)'!$I$2:$I$99999)) )} -> 499.43 | I34: {=( SUM(('Export (QBO)'!$G$2:$G$99999>=Budget!I$1)*('Export (QBO)'!$G$2:$G$99999<=((EOMONTH(Budget!I$1,0))))*('Export (QBO)'!$J$2:$J$99999=$A34)*('Export (QBO)'!$I$2:$I$99999)) )} -> 784.44 | J34: {=( SUM(('Export (QBO)'!$G$2:$G$99999>=Budget!J$1)*('Export (QBO)'!$G$2:$G$99999<=((EOMONTH(Budget!J$1,0))))*('Export (QBO)'!$J$2:$J$99999=$A34)*('Export (QBO)'!$I$2:$I$99999)) )} -> 460.56 | ... N34: {=( SUM(('Export (QBO)'!$G$2:$G$99999>=Budget!N$1)*('Export (QBO)'!$G$2:$G$99999<=((EOMONTH(Budget!N$1,0))))*('Export (QBO)'!$J$2:$J$99999=$A34)*('Export (QBO)'!$I$2:$I$99999)) )} -> 502.06 | O34: =SUM(C34:N34) -> 37130.59 | P34: {=( SUM(('Export (QBO)'!$G$2:$G$99999>=Budget!P$1)*('Export (QBO)'!$G$2:$G$99999<=((EOMONTH(Budget!P$1,0))))*('Export (QBO)'!$J$2:$J$99999=$A34)*('Export (QBO)'!$I$2:$I$99999)) )} -> 0 | Q34: {=( SUM(('Export (QBO)'!$G$2:$G$99999>=Budget!Q$1)*('Export (QBO)'!$G$2:$G$99999<=((EOMONTH(Budget!Q$1,0))))*('Export (QBO)'!$J$2:$J$99999=$A34)*('Export (QBO)'!$I$2:$I$99999)) )} -> 0 | R34: {=( SUM(('Export (QBO)'!$G$2:$G$99999>=Budget!R$1)*('Export (QBO)'!$G$2:$G$99999<=((EOMONTH(Budget!R$1,0))))*('Export (QBO)'!$J$2:$J$99999=$A34)*('Export (QBO)'!$I$2:$I$99999)) )} -> 0 | S34: {=( SUM(('Export (QBO)'!$G$2:$G$99999>=Budget!S$1)*('Export (QBO)'!$G$2:$G$99999<=((EOMONTH(Budget!S$1,0))))*('Export (QBO)'!$J$2:$J$99999=$A34)*('Export (QBO)'!$I$2:$I$99999)) )} -> 0 | T34: {=( SUM(('Export (QBO)'!$G$2:$G$99999>=Budget!T$1)*('Export (QBO)'!$G$2:$G$99999<=((EOMONTH(Budget!T$1,0))))*('Export (QBO)'!$J$2:$J$99999=$A34)*('Export (QBO)'!$I$2:$I$99999)) )} -> 0 | U34: {=( SUM(('Export (QBO)'!$G$2:$G$99999>=Budget!U$1)*('Export (QBO)'!$G$2:$G$99999<=((EOMONTH(Budget!U$1,0))))*('Export (QBO)'!$J$2:$J$99999=$A34)*('Export (QBO)'!$I$2:$I$99999)) )} -> 0 | V34: {=( SUM(('Export (QBO)'!$G$2:$G$99999>=Budget!V$1)*('Export (QBO)'!$G$2:$G$99999<=((EOMONTH(Budget!V$1,0))))*('Export (QBO)'!$J$2:$J$99999=$A34)*('Export (QBO)'!$I$2:$I$99999)) )} -> 0 | W34: {=( SUM(('Export (QBO)'!$G$2:$G$99999>=Budget!W$1)*('Export (QBO)'!$G$2:$G$99999<=((EOMONTH(Budget!W$1,0))))*('Export (QBO)'!$J$2:$J$99999=$A34)*('Export (QBO)'!$I$2:$I$99999)) )} -> 0 | ... AA34: {=( SUM(('Export (QBO)'!$G$2:$G$99999>=Budget!AA$1)*('Export (QBO)'!$G$2:$G$99999<=((EOMONTH(Budget!AA$1,0))))*('Export (QBO)'!$J$2:$J$99999=$A34)*('Export (QBO)'!$I$2:$I$99999)) )} -> 0 | AB34: =SUM(P34:AA34) -> 0
